Workbook

Sheet Scores
B1: =Week1!$B$1 -> Week 1 | D1: =Week2!$B$1 -> Week 2 | F1: =Week3!$B$1 -> Week 3 | H1: =Week4!$B$1 -> Week 4 | J1: =Week5!$B$1 -> Week 5 | L1: =Week6!$B$1 -> Week 6 | N1: =Week7!$B$1 -> Week 7 | P1: =Week8!$B$1 -> Week 8 | R1: =Week9!$B$1 -> Week 9 | T1: =Week10!$B$1 -> Week 10 | V1: =Week11!$B$1 -> Week 11
A2: =Week1!$A$2 -> 13 | B2: =Week1!$B$2 -> SEATTLE (0-0) | C2: =Week2!$A$2 -> 41 | D2: =Week2!$B$2 -> BUFFALO (1-0) Does Not | E2: =Week3!$A$2 -> 14 | F2: =Week3!$B$2 -> GREEN BAY (1-1) Does Not | G2: =Week4!$A$2 -> 24 | H2: =Week4!$B$2 -> Pittssburgh (2-1) Does Not | I2: =Week5!$A$2 -> 16 | J2: =Week5!$B$2 -> DALLAS (2-2) Does Not | K2: =Week6!$A$2 -> 17 | L2: =Week6!$B$2 -> DENVER (3-2) Does Not | M2: =Week7!$A$2 -> 30 | N2: =Week7!$B$2 -> CHICAGO (4-2) Does Not | O2: =Week8!$A$2 -> n/a | P2: =Week8!$B$2 -> GREEN BAY (4-3) Does Not | Q2: =Week9!$A$2 -> n/a | R2: =Week9!$B$2 -> BALTIMORE () Does Not | S2: =Week10!$A$2 -> n/a | T2: =Week10!$B$2 -> NY GIANTS () Does Not | U2: =Week11!$A$2 -> n/a | V2: =Week11!$B$2 -> HOUSTON () Does Not
A3: =Week1!$A$3 -> 10 | B3: =Week1!$B$3 -> New England (0-0) +3.5 | C3: =Week2!$A$3 -> 31 | D3: =Week2!$B$3 -> Detroit (1-0) +4.5 Count | E3: =Week3!$A$3 -> 35 | F3: =Week3!$B$3 -> Atlanta (0-2) +6.5 Count | G3: =Week4!$A$3 -> 27 | H3: =Week4!$B$3 -> CLEVELAND (2-1) +2.5 Count | I3: =Week5!$A$3 -> 24 | J3: =Week5!$B$3 -> Tampa Bay (0-4) +9.5 Count | K3: =Week6!$A$3 -> 14 | L3: =Week6!$B$3 -> Seattle (3-2) +2.5 Count | M3: =Week7!$A$3 -> 24 | N3: =Week7!$B$3 -> New England (4-2) +2.5 Count | O3: =Week8!$A$3 -> n/a | P3: =Week8!$B$3 -> Carolina (3-3) +3.5 Count | Q3: =Week9!$A$3 -> n/a | R3: =Week9!$B$3 -> Jacksonville () +xx Count | S3: =Week10!$A$3 -> n/a | T3: =Week10!$B$3 -> Washington () +xx Count | U3: =Week11!$A$3 -> n/a | V3: =Week11!$B$3 -> Indianapolis () +xx Count
A4: =Week1!$A$4 -> 7 | B4: =Week1!$B$4 -> L.A. RAMS (0-0) | C4: =Week2!$A$4 -> 34 | D4: =Week2!$B$4 -> Carolina (0-1) | E4: =Week3!$A$4 -> 24 | F4: =Week3!$B$4 -> BUFFALO (2-0) | G4: =Week4!$A$4 -> 30 | H4: =Week4!$B$4 -> Indianapolis (1-2) | I4: =Week5!$A$4 -> 19 | J4: =Week5!$B$4 -> JACKSONVILLE (3-1) | K4: =Week6!$A$4 -> 31 | L4: =Week6!$B$4 -> JACKSONVILLE (4-1) | M4: =Week7!$A$4 -> 16 | N4: =Week7!$B$4 -> Pittsburgh (4-2) | O4: =Week8!$A$4 -> 0 | P4: =Week8!$B$4 -> BUFFALO (5-1) | Q4: =Week9!$A$4 -> 0 | R4: =Week9!$B$4 -> Cincinnati () | S4: =Week10!$A$4 -> 0 | T4: =Week10!$B$4 -> DETROIT () | U4: =Week11!$A$4 -> 0 | V4: =Week11!$B$4 -> BUFFALO ()
A5: =Week1!$A$5 -> 27 | B5: =Week1!$B$5 -> San Francisco (0-0) +3.5 | C5: =Week2!$A$5 -> 3 | D5: =Week2!$B$5 -> ATLANTA (0-1) +2.5 | E5: =Week3!$A$5 -> 16 | F5: =Week3!$B$5 -> LA Chargers (0-2) +7.5 | G5: =Week4!$A$5 -> 13 | H5: =Week4!$B$5 -> WASHINGTON (1-2) +3.5 | I5: =Week5!$A$5 -> 17 | J5: =Week5!$B$5 -> Philadelphia (2-2) +6.5 | K5: =Week6!$A$5 -> 34 | L5: =Week6!$B$5 -> Houston (1-4) +2.5 | M5: =Week7!$A$5 -> 10 | N5: =Week7!$B$5 -> NEW ORLEANS (2-4) +3.5 | O5: =Week8!$A$5 -> 0 | P5: =Week8!$B$5 -> Baltimore (4-3) +3.5 | Q5: =Week9!$A$5 -> 0 | R5: =Week9!$B$5 -> ATLANTA () | S5: =Week10!$A$5 -> 0 | T5: =Week10!$B$5 -> New England () | U5: =Week11!$A$5 -> 0 | V5: =Week11!$B$5 -> Miami ()
A6: =Week1!$A$32 -> 31 | B6: =Week1!$B$6 -> CINCINNATI (0-0) | C6: =Week2!$A$6 -> 17 | D6: =Week2!$B$6 -> BALTIMORE (1-0) | E6: =Week3!$A$6 -> 18 | F6: =Week3!$B$6 -> Carolina (1-1) | G6: =Week4!$A$6 -> 24 | H6: =Week4!$B$6 -> BALTIMORE (2-1) | I6: =Week5!$A$6 -> 31 | J6: =Week5!$B$6 -> Cincinnati (2-2) | K6: =Week6!$A$6 -> 31 | L6: =Week6!$B$6 -> Chicago (3-2) | M6: =Week7!$A$6 -> 20 | N6: =Week7!$B$6 -> San Francisco (6-0) | O6: =Week8!$A$6 -> 0 | P6: =Week8!$B$6 -> CINCINNATI (4-2) | Q6: =Week9!$A$6 -> 0 | R6: =Week9!$B$6 -> Denver () | S6: =Week10!$A$6 -> 0 | T6: =Week10!$B$6 -> Kansas City () | U6: =Week11!$A$6 -> 0 | V6: =Week11!$B$6 -> CAROLINA ()
A7: =Week1!$A$7 -> 27 | B7: =Week1!$B$7 -> Tampa Bay (0-0) +3.5 | C7: =Week2!$A$7 -> 24 | D7: =Week2!$B$7 -> New Orleans (0-1) +8.5 | E7: =Week3!$A$7 -> 21 | F7: =Week3!$B$7 -> CLEVELAND (1-1) +2.5 | G7: =Week4!$A$7 -> 18 | H7: =Week4!$B$7 -> Tennessee (0-3) +11.5 | I7: =Week5!$A$7 -> 24 | J7: =Week5!$B$7 -> MIAMI (0-4) +7.5 | K7: =Week6!$A$7 -> 23 | L7: =Week6!$B$7 -> ATLANTA (2-3) +3.5 | M7: =Week7!$A$7 -> 29 | N7: =Week7!$B$7 -> ATLANTA (2-4) +3.5 | O7: =Week8!$A$7 -> 0 | P7: =Week8!$B$7 -> Tennessee (1-6) +10.5 | Q7: =Week9!$A$7 -> 0 | R7: =Week9!$B$7 -> CAROLINA () | S7: =Week10!$A$7 -> 0 | T7: =Week10!$B$7 -> ATLANTA () | U7: =Week11!$A$7 -> 0 | V7: =Week11!$B$7 -> Baltimore ()
A8: =Week1!$A$8 -> 20 | B8: =Week1!$B$8 -> PITTSBURGH (0-0) | C8: =Week2!$A$8 -> 3 | D8: =Week2!$B$8 -> CHICAGO (1-0) | E8: =Week3!$A$8 -> 31 | F8: =Week3!$B$8 -> DETROIT (1-1) | G8: =Week4!$A$8 -> 26 | H8: =Week4!$B$8 -> BUFFALO (3-0) | I8: =Week5!$A$8 -> 45 | J8: =Week5!$B$8 -> NEW ENGLAND (2-2) | K8: =Week6!$A$8 -> 10 | L8: =Week6!$B$8 -> Baltimore (4-1) | M8: =Week7!$A$8 -> 13 | N8: =Week7!$B$8 -> BALTIMORE (4-2) | O8: =Week8!$A$8 -> 0 | P8: =Week8!$B$8 -> DALLAS (3-4) | Q8: =Week9!$A$8 -> 0 | R8: =Week9!$B$8 -> Dallas () | S8: =Week10!$A$8 -> 0 | T8: =Week10!$B$8 -> CLEVELAND () | U8: =Week11!$A$8 -> 0 | V8: =Week11!$B$8 -> CHICAGO ()
A9: =Week1!$A$9 -> 13 | B9: =Week1!$B$9 -> Atlanta (0-0) +3.5 | C9: =Week2!$A$9 -> 9 | D9: =Week2!$B$9 -> Minnesota (1-0) +5.5 | E9: =Week3!$A$9 -> 24 | F9: =Week3!$B$9 -> NY Jets (1-1) +6.5 | G9: =Week4!$A$9 -> 29 | H9: =Week4!$B$9 -> New England (1-2) +6.5 | I9: =Week5!$A$9 -> 17 | J9: =Week5!$B$9 -> Las Vegas (3-1) +3.5 | K9: =Week6!$A$9 -> 13 | L9: =Week6!$B$9 -> CLEVELAND (3-2) +4.5 | M9: =Week7!$A$9 -> 35 | N9: =Week7!$B$9 -> Cincinnati (3-2) +2.5 | O9: =Week8!$A$9 -> 0 | P9: =Week8!$B$9 -> Arizona (2-5) +6.5 | Q9: =Week9!$A$9 -> 0 | R9: =Week9!$B$9 -> INDIANAPOLIS () | S9: =Week10!$A$9 -> 0 | T9: =Week10!$B$9 -> Houston () | U9: =Week11!$A$9 -> 0 | V9: =Week11!$B$9 -> New Orleans ()
A10: =Week1!$A$10 -> 36 | B10: =Week1!$B$10 -> Buffalo (0-0) | C10: =Week2!$A$10 -> 6 | D10: =Week2!$B$10 -> HOUSTON (0-1) | E10: =Week3!$A$10 -> 17 | F10: =Week3!$B$10 -> Houston (0-2) | G10: =Week4!$A$10 -> 23 | H10: =Week4!$B$10 -> CHICAGO (2-1) | I10: =Week5!$A$10 -> 23 | J10: =Week5!$B$10 -> Minnesota (4-0) | K10: =Week6!$A$10 -> 20 | L10: =Week6!$B$10 -> INDIANAPOLIS (2-3) | M10: =Week7!$A$10 -> 13 | N10: =Week7!$B$10 -> CAROLINA (3-2) | O10: =Week8!$A$10 -> 0 | P10: =Week8!$B$10 -> DETROIT (4-2) | Q10: =Week9!$A$10 -> 0 | R10: =Week9!$B$10 -> KANSAS CITY () | S10: =Week10!$A$10 -> 0 | T10: =Week10!$B$10 -> Minnesota () | U10: =Week11!$A$10 -> 0 | V10: =Week11!$B$10 -> DALLAS ()
A11: =Week1!$A$11 -> 31 | B11: =Week1!$B$11 -> HOUSTON (0-0) +1.5 | C11: =Week2!$A$11 -> 20 | D11: =Week2!$B$11 -> Cincinnati (1-0) +2.5 | E11: =Week3!$A$11 -> 19 | F11: =Week3!$B$11 -> INDIANAPOLIS (0-2) +2.5 | G11: =Week4!$A$11 -> 12 | H11: =Week4!$B$11 -> NY Jets (1-2) +3.5 | I11: =Week5!$A$11 -> 13 | J11: =Week5!$B$11 -> NEW ORLEANS (1-3) +2.5 | K11: =Week6!$A$11 -> 26 | L11: =Week6!$B$11 -> Tennessee (0-5) +6.5 | M11: =Week7!$A$11 -> 43 | N11: =Week7!$B$11 -> Tampa Bay (1-5) +3.5 | O11: =Week8!$A$11 -> 0 | P11: =Week8!$B$11 -> Minnesota (6-0) +3.5 | Q11: =Week9!$A$11 -> 0 | R11: =Week9!$B$11 -> NY Jets () | S11: =Week10!$A$11 -> 0 | T11: =Week10!$B$11 -> GREEN BAY () | U11: =Week11!$A$11 -> 0 | V11: =Week11!$B$11 -> Tennessee ()
A12: =Week1!$A$12 -> 41 | B12: =Week1!$B$12 -> Baltimore (0-0) | C12: =Week2!$A$12 -> 20 | D12: =Week2!$B$12 -> NEW ENGLAND (0-1) | E12: =Week3!$A$12 -> 35 | F12: =Week3!$B$12 -> JACKSONVILLE (1-1) | G12: =Week4!$A$12 -> 17 | H12: =Week4!$B$12 -> CINCINNATI (2-1) | I12: =Week5!$A$12 -> 17 | J12: =Week5!$B$12 -> NY JETS (1-3) | K12: =Week6!$A$12 -> 26 | L12: =Week6!$B$12 -> NEW ENGLAND (3-2) | M12: =Week7!$A$12 -> 21 | N12: =Week7!$B$12 -> HOUSTON (2-4) | O12: =Week8!$A$12 -> 0 | P12: =Week8!$B$12 -> JACKSONVILLE (4-2) | Q12: =Week9!$A$12 -> 0 | R12: =Week9!$B$12 -> Detroit () | S12: =Week10!$A$12 -> 0 | T12: =Week10!$B$12 -> INDIANAPOLIS () | U12: =Week11!$A$12 -> 0 | V12: =Week11!$B$12 -> DETROIT ()
A13: =Week1!$A$13 -> 23 | B13: =Week1!$B$13 -> INDIANAPOLIS (0-0) +3.5 | C13: =Week2!$A$13 -> 3 | D13: =Week2!$B$13 -> Pittsburgh (1-0) +4.5 | E13: =Week3!$A$13 -> 6 | F13: =Week3!$B$13 -> New England (1-1) +2.5 | G13: =Week4!$A$13 -> 22 | H13: =Week4!$B$13 -> Jacksonville (2-1) +2.5 | I13: =Week5!$A$13 -> 12 | J13: =Week5!$B$13 -> Cleveland (3-1) +2.5 | K13: =Week6!$A$13 -> 19 | L13: =Week6!$B$13 -> NY Jets (2-3) +7.5 | M13: =Week7!$A$13 -> 27 | N13: =Week7!$B$13 -> NY Giants (3-2-1) +9.5 | O13: =Week8!$A$13 -> 0 | P13: =Week8!$B$13 -> Indianapolis (2-5) +7.5 | Q13: =Week9!$A$13 -> 0 | R13: =Week9!$B$13 -> MIAMI () | S13: =Week10!$A$13 -> 0 | T13: =Week10!$B$13 -> Miami () | U13: =Week11!$A$13 -> 0 | V13: =Week11!$B$13 -> Tampa Bay ()
A14: =Week1!$A$14 -> 34 | B14: =Week1!$B$14 -> JACKSONVILLE (0-0) | C14: =Week2!$A$14 -> 20 | D14: =Week2!$B$14 -> Green Bay (0-1) | E14: =Week3!$A$14 -> 24 | F14: =Week3!$B$14 -> Kansas City (2-0) | G14: =Week4!$A$14 -> 30 | H14: =Week4!$B$14 -> HOUSTON (0-3) | I14: =Week5!$A$14 -> 34 | J14: =Week5!$B$14 -> PITTSBURGH (2-2) | K14: =Week6!$A$14 -> 27 | L14: =Week6!$B$14 -> NY GIANTS (3-1-1) | M14: =Week7!$A$14 -> 16 | N14: =Week7!$B$14 -> MINNESOTA (5-0) | O14: =Week8!$A$14 -> 0 | P14: =Week8!$B$14 -> Las Vegas (3-4) | Q14: =Week9!$A$14 -> 0 | R14: =Week9!$B$14 -> Cleveland () | S14: =Week10!$A$14 -> 0 | T14: =Week10!$B$14 -> Carolina () | U14: =Week11!$A$14 -> 0 | V14: =Week11!$B$14 -> KANSAS CITY ()
A15: =Week1!$A$15 -> 10 | B15: =Week1!$B$15 -> Cleveland (0-0) +7.5 | C15: =Week2!$A$15 -> 17 | D15: =Week2!$B$15 -> NY JETS (1-0) +3.5 | E15: =Week3!$A$15 -> 10 | F15: =Week3!$B$15 -> MIAMI (0-2) +11.5 | G15: =Week4!$A$15 -> 34 | H15: =Week4!$B$15 -> Dallas (1-2) +2.5 | I15: =Week5!$A$15 -> 22 | J15: =Week5!$B$15 -> Indianapolis (2-2) +2.5 | K15: =Week6!$A$15 -> 34 | L15: =Week6!$B$15 -> New Orleans (1-4) +1.5 | M15: =Week7!$A$15 -> 10 | N15: =Week7!$B$15 -> Indianapolis (2-4) +6.5 | O15: =Week8!$A$15 -> 0 | P15: =Week8!$B$15 -> NY JETS (2-5) +1.5 | Q15: =Week9!$A$15 -> 0 | R15: =Week9!$B$15 -> NEW ORLEANS () | S15: =Week10!$A$15 -> 0 | T15: =Week10!$B$15 -> NEW ORLEANS () | U15: =Week11!$A$15 -> 0 | V15: =Week11!$B$15 -> Arizona ()
A16: =Week1!$A$16 -> 10 | B16: =Week1!$B$16 -> TENNESSEE (0-0) | C16: =Week2!$A$16 -> 19 | D16: =Week2!$B$16 -> TAMPA BAY (0-1) | E16: =Week3!$A$16 -> 12 | F16: =Week3!$B$16 -> NY GIANTS (1-1) | G16: =Week4!$A$16 -> 24 | H16: =Week4!$B$16 -> Arizona (1-2) | I16: =Week5!$A$16 -> 26 | J16: =Week5!$B$16 -> Houston (0-4) | K16: =Week6!$A$16 -> 14 | L16: =Week6!$B$16 -> PHILADELPHIA (2-3) | M16: =Week7!$A$16 -> 25 | N16: =Week7!$B$16 -> NY JETS (2-4) | O16: =Week8!$A$16 -> 0 | P16: =Week8!$B$16 -> PITTSBURGH (5-2) | Q16: =Week9!$A$16 -> 0 | R16: =Week9!$B$16 -> NY Giants () | S16: =Week10!$A$16 -> 0 | T16: =Week10!$B$16 -> Buffalo () | U16: =Week11!$A$16 -> 0 | V16: =Week11!$B$16 -> NY GIANTS ()
A17: =Week1!$A$17 -> 23 | B17: =Week1!$B$17 -> NY Jets (0-0) +2.5 | C17: =Week2!$A$17 -> 23 | D17: =Week2!$B$17 -> Cleveland (0-1) +8.5 | E17: =Week3!$A$17 -> 7 | F17: =Week3!$B$17 -> Tennessee (0-2) +2.5 | G17: =Week4!$A$17 -> 36 | H17: =Week4!$B$17 -> NY GIANTS (2-1) +1.5 | I17: =Week5!$A$17 -> 3 | J17: =Week5!$B$17 -> TENNESSEE (0-4) +6.5 | K17: =Week6!$A$17 -> 25 | L17: =Week6!$B$17 -> Carolina (2-2) +1.5 | M17: =Week7!$A$17 -> 28 | N17: =Week7!$B$17 -> Miami (0-5) +4.5 | O17: =Week8!$A$17 -> 0 | P17: =Week8!$B$17 -> Cleveland (5-2) +3.5 | Q17: =Week9!$A$17 -> 0 | R17: =Week9!$B$17 -> PHILADELPHIA () | S17: =Week10!$A$17 -> 0 | T17: =Week10!$B$17 -> NY JETS () | U17: =Week11!$A$17 -> 0 | V17: =Week11!$B$17 -> Jacksonville ()
A18: =Week1!$A$18 -> 31 | B18: =Week1!$B$18 -> DETROIT (0-0) | C18: =Week2!$A$18 -> 24 | D18: =Week2!$B$18 -> PHILADELPHIA (1-0) | E18: =Week3!$A$18 -> 27 | F18: =Week3!$B$18 -> Cincinnati (2-0) | G18: =Week4!$A$18 -> 24 | H18: =Week4!$B$18 -> LA Rams (1-2) | I18: =Week5!$A$18 -> 27 | J18: =Week5!$B$18 -> WASHINGTON (1-3) | K18: =Week6!$A$18 -> 26 | L18: =Week6!$B$18 -> Pittsburgh (3-2) | M18: =Week7!$A$18 -> 27 | N18: =Week7!$B$18 -> Cleveland (4-2) | O18: =Week8!$A$18 -> 0 | P18: =Week8!$B$18 -> TAMPA BAY (2-5) | Q18: =Week9!$A$18 -> 0 | R18: =Week9!$B$18 -> WASHINGTON () | S18: =Week10!$A$18 -> 0 | T18: =Week10!$B$18 -> Jacksonville () | U18: =Week11!$A$18 -> 0 | V18: =Week11!$B$18 -> LA CHARGERS ()
A19: =Week1!$A$19 -> 30 | B19: =Week1!$B$19 -> New Orleans (0-0) +6.5 | C19: =Week2!$A$19 -> 20 | D19: =Week2!$B$19 -> Tennessee (0-1) +7.5 | E19: =Week3!$A$19 -> 30 | F19: =Week3!$B$19 -> PITTSBURGH (1-1) +3.5 | G19: =Week4!$A$19 -> 20 | H19: =Week4!$B$19 -> PHILADELPHIA (2-1) +2.5 | I19: =Week5!$A$19 -> 27 | J19: =Week5!$B$19 -> NY Giants (3-1) +3.5 | K19: =Week6!$A$19 -> 19 | L19: =Week6!$B$19 -> TAMPA BAY (1-4) +2.5 | M19: =Week7!$A$19 -> 24 | N19: =Week7!$B$19 -> TENNESSEE (1-5) +2.5 | O19: =Week8!$A$19 -> 0 | P19: =Week8!$B$19 -> Atlanta (3-4) +2.5 | Q19: =Week9!$A$19 -> 0 | R19: =Week9!$B$19 -> LA Rams () | S19: =Week10!$A$19 -> 0 | T19: =Week10!$B$19 -> TENNESSEE () | U19: =Week11!$A$19 -> 0 | V19: =Week11!$B$19 -> NY Jets ()
A20: =Week1!$A$20 -> 59 | B20: =Week1!$B$20 -> Chicago (0-0) | C20: =Week2!$A$20 -> 20 | D20: =Week2!$B$20 -> DENVER (0-1) | E20: =Week3!$A$20 -> 31 | F20: =Week3!$B$20 -> Seattle (2-0) | G20: =Week4!$A$20 -> 17 | H20: =Week4!$B$20 -> Green Bay (1-2) | I20: =Week5!$A$20 -> 23 | J20: =Week5!$B$20 -> Denver (2-2) | K20: =Week6!$A$20 -> 16 | L20: =Week6!$B$20 -> LA RAMS (2-3) | M20: =Week7!$A$20 -> 30 | N20: =Week7!$B$20 -> Denver (4-2) | O20: =Week8!$A$20 -> 0 | P20: =Week8!$B$20 -> LA RAMS (3-4) | Q20: =Week9!$A$20 -> 0 | R20: =Week9!$B$20 -> Houston () | S20: =Week10!$A$20 -> 0 | T20: =Week10!$B$20 -> LA Rams () | U20: =Week11!$A$20 -> 0 | V20: =Week11!$B$20 -> DENVER ()
A21: =Week1!$A$21 -> 37 | B21: =Week1!$B$21 -> CAROLINA (0-0) +2.5 | C21: =Week2!$A$21 -> 13 | D21: =Week2!$B$21 -> Jacksonville (1-0) +2.5 | E21: =Week3!$A$21 -> 33 | F21: =Week3!$B$21 -> WASHINGTON (0-2) +6.5 | G21: =Week4!$A$21 -> 14 | H21: =Week4!$B$21 -> TAMPA BAY (0-3) +3.5 | I21: =Week5!$A$21 -> 17 | J21: =Week5!$B$21 -> LA CHARGERS (0-4) +3.5 | K21: =Week6!$A$21 -> 18 | L21: =Week6!$B$21 -> Arizona (1-4) +13.5 | M21: =Week7!$A$21 -> 16 | N21: =Week7!$B$21 -> ARIZONA (2-4) +4.5 | O21: =Week8!$A$21 -> 0 | P21: =Week8!$B$21 -> LA Chargers (0-6) +7.5 | Q21: =Week9!$A$21 -> 0 | R21: =Week9!$B$21 -> LA CHARGERS () | S21: =Week10!$A$21 -> 0 | T21: =Week10!$B$21 -> ARIZONA () | U21: =Week11!$A$21 -> 0 | V21: =Week11!$B$21 -> Las Vegas ()
A22: =Week1!$A$22 -> 27 | B22: =Week1!$B$22 -> LAS VEGAS (0-0) | C22: =Week2!$A$22 -> 14 | D22: =Week2!$B$22 -> LA CHARGERS (0-1) | E22: =Week3!$A$22 -> 36 | F22: =Week3!$B$22 -> SAN FRANCISCO (2-0) | G22: =Week4!$A$22 -> 15 | H22: =Week4!$B$22 -> MINNESOTA (3-0) | I22: =Week5!$A$22 -> 45 | J22: =Week5!$B$22 -> Detroit (2-2) | K22: =Week6!$A$22 -> 22 | L22: =Week6!$B$22 -> KANSAS CITY (4-0) | M22: =Week7!$A$22 -> 20 | N22: =Week7!$B$22 -> DETROIT (3-2) | O22: =Week8!$A$22 -> 0 | P22: =Week8!$B$22 -> Kansas City (5-1) | Q22: =Week9!$A$22 -> 0 | R22: =Week9!$B$22 -> SAN FRANCISCO () | S22: =Week10!$A$22 -> 0 | T22: =Week10!$B$22 -> Seattle () | U22: =Week11!$A$22 -> 0 | V22: =Week11!$B$22 -> Pittsburgh ()
A23: =Week1!$A$23 -> 13 | B23: =Week1!$B$23 -> Miami (0-0) +3.5 | C23: =Week2!$A$23 -> 26 | D23: =Week2!$B$23 -> Las Vegas (1-0) +7.5 | E23: =Week3!$A$23 -> 30 | F23: =Week3!$B$23 -> Arizona (1-1) +8.5 | G23: =Week4!$A$23 -> 10 | H23: =Week4!$B$23 -> Miami (0-3) +9.5 | I23: =Week5!$A$23 -> 21 | J23: =Week5!$B$23 -> ARIZONA (1-3) +4.5 | K23: =Week6!$A$23 -> 6 | L23: =Week6!$B$23 -> LA Chargers (0-5) +8.5 | M23: =Week7!$A$23 -> 17 | N23: =Week7!$B$23 -> Green Bay (4-2) +3.5 | O23: =Week8!$A$23 -> 0 | P23: =Week8!$B$23 -> DENVER (5-2) +1.5 | Q23: =Week9!$A$23 -> 0 | R23: =Week9!$B$23 -> Las Vegas () | S23: =Week10!$A$23 -> 0 | T23: =Week10!$B$23 -> LAS VEGAS () | U23: =Week11!$A$23 -> 0 | V23: =Week11!$B$23 -> PHILADELPHIA ()
A24: =Week1!$A$24 -> 14 | B24: =Week1!$B$24 -> LA CHARGERS (0-0) | C24: =Week2!$A$24 -> 31 | D24: =Week2!$B$24 -> Seattle (1-0) | E24: =Week3!$A$24 -> 23 | F24: =Week3!$B$24 -> Minnesota (2-0) | G24: =Week4!$A$24 -> 30 | H24: =Week4!$B$24 -> Kansas City (3-0) | I24: =Week5!$A$24 -> 17 | J24: =Week5!$B$24 -> Chicago (3-1) | K24: =Week6!$A$24 -> 33 | L24: =Week6!$B$24 -> Buffalo (4-1) | M24: =Week7!$A$24 -> 35 | N24: =Week7!$B$24 -> LA Rams (2-4) | O24: =Week8!$A$24 -> 0 | P24: =Week8!$B$24 -> New England (4-3) | Q24: =Week9!$A$24 -> 0 | R24: =Week9!$B$24 -> NEW ENGLAND () | S24: =Week10!$A$24 -> 0 | T24: =Week10!$B$24 -> San Francisco () | U24: =Week11!$A$24 -> 0 | V24: =Week11!$B$24 -> SAN FRANCISCO ()
A25: =Week1!$A$25 -> 26 | B25: =Week1!$B$25 -> Arizona (0-0) +10.5 | C25: =Week2!$A$25 -> 7 | D25: =Week2!$B$25 -> ARIZONA (1-0) +4.5 | E25: =Week3!$A$25 -> 16 | F25: =Week3!$B$25 -> TAMPA BAY (0-2) +1.5 | G25: =Week4!$A$25 -> 27 | H25: =Week4!$B$25 -> LAS VEGAS (3-0) +4.5 | I25: =Week5!$A$25 -> 31 | J25: =Week5!$B$25 -> GREEN BAY (2-2) +2.5 | K25: =Week6!$A$25 -> 30 | L25: =Week6!$B$25 -> LAS VEGAS (3-2) +5.5 | M25: =Week7!$A$25 -> 21 | N25: =Week7!$B$25 -> LAS VEGAS (3-3) +4.5 | O25: =Week8!$A$25 -> 0 | P25: =Week8!$B$25 -> MIAMI (1-5) +7.5 | Q25: =Week9!$A$25 -> 0 | R25: =Week9!$B$25 -> Green Bay () | S25: =Week10!$A$25 -> 0 | T25: =Week10!$B$25 -> DALLAS () | U25: =Week11!$A$25 -> 0 | V25: =Week11!$B$25 -> Minnesota ()
A26: =Week1!$A$26 -> 24 | B26: =Week1!$B$26 -> PHILADELPHIA (0-0) | C26: =Week2!$A$26 -> 37 | D26: =Week2!$B$26 -> DALLAS (0-1) | E26: =Week3!$A$26 -> 27 | F26: =Week3!$B$26 -> NEW ORLEANS (1-1) | G26: =Week4!$A$26 -> 30 | H26: =Week4!$B$26 -> SEATTLE (2-1) | I26: =Week5!$A$26 -> 29 | J26: =Week5!$B$26 -> SEATTLE (3-1) | K26: =Week6!$A$26 -> 23 | L26: =Week6!$B$26 -> GREEN BAY (3-2) | M26: =Week7!$A$26 -> 20 | N26: =Week7!$B$26 -> SEATTLE (3-3) | O26: =Week8!$A$26 -> 0 | P26: =Week8!$B$26 -> WASHINGTON (1-4-1) | Q26: =Week9!$A$26 -> 0 | R26: =Week9!$B$26 -> SEATTLE () | S26: =Week10!$A$26 -> 0 | T26: =Week10!$B$26 -> CINCINNATI () | U26: =Week11!$A$26 -> 0 | V26: =Week11!$B$26 -> WASHINGTON ()
A27: =Week1!$A$27 -> 22 | B27: =Week1!$B$27 -> Washington (0-0) +4.5 | C27: =Week2!$A$27 -> 20 | D27: =Week2!$B$27 -> Washington (0-1) +4.5 | E27: =Week3!$A$27 -> 35 | F27: =Week3!$B$27 -> Las Vegas (2-0) +3.5 | G27: =Week4!$A$27 -> 23 | H27: =Week4!$B$27 -> LA Chargers (0-3) +6.5 | I27: =Week5!$A$27 -> 32 | J27: =Week5!$B$27 -> San Francisco (4-0) +2.5 | K27: =Week6!$A$27 -> 13 | L27: =Week6!$B$27 -> Dallas (2-3) +1.5 | M27: =Week7!$A$27 -> 3 | N27: =Week7!$B$27 -> Kansas City (5-0) +2.5 | O27: =Week8!$A$27 -> 0 | P27: =Week8!$B$27 -> Philadelphia (2-5) +3.5 | Q27: =Week9!$A$27 -> 0 | R27: =Week9!$B$27 -> Arizona () | S27: =Week10!$A$27 -> 0 | T27: =Week10!$B$27 -> Pittsburgh () | U27: =Week11!$A$27 -> 0 | V27: =Week11!$B$27 -> Cincinnati ()
A28: =Week1!$A$28 -> 22 | B28: =Week1!$B$28 -> Green Bay (0-0) | C28: =Week2!$A$28 -> 35 | D28: =Week2!$B$28 -> SAN FRANCISCO (1-0) | E28: =Week3!$A$28 -> 34 | F28: =Week3!$B$28 -> Baltimore (1-1) | G28: =Week4!$A$28 -> 24 | H28: =Week4!$B$28 -> SAN FRANCISCO (3-0) | I28: =Week5!$A$28 -> 23 | J28: =Week5!$B$28 -> ATLANTA (2-2) | K28: =Week6!$A$28 -> 23 | L28: =Week6!$B$28 -> SAN FRANCISCO (5-0) | M28: =Week7!$A$28 -> 38 | N28: =Week7!$B$28 -> Dallas (2-4) | O28: =Week8!$A$28 -> 0 | P28: =Week8!$B$28 -> SEATTLE (4-3) | Q28: =Week9!$A$28 -> 0 | R28: =Week9!$B$28 -> CHICAGO () | S28: =Week10!$A$28 -> 0 | T28: =Week10!$B$28 -> BALTIMORE () | U28: =Week11!$A$28 -> Bye | V28: =Week11!$B$28 -> Atlanta ()
A29: =Week1!$A$29 -> 39 | B29: =Week1!$B$29 -> MINNESOTA (0-0) +1.5 | C29: =Week2!$A$29 -> 13 | D29: =Week2!$B$29 -> Miami (0-1) +13.5 | E29: =Week3!$A$29 -> 31 | F29: =Week3!$B$29 -> DALLAS (1-1) +2.5 | G29: =Week4!$A$29 -> 14 | H29: =Week4!$B$29 -> Denver (2-1) +2.5 | I29: =Week5!$A$29 -> 30 | J29: =Week5!$B$29 -> Baltimore (3-1) +2.5 | K29: =Week6!$A$29 -> 17 | L29: =Week6!$B$29 -> Washington (1-3-1) +7.5 o/u 50.5 | M29: =Week7!$A$29 -> 21 | N29: =Week7!$B$29 -> PHILADELPHIA (2-4) +4.5 o/u 44.5 | O29: =Week8!$A$29 -> 0 | P29: =Week8!$B$29 -> Chicago (5-2) +3.5 o/u 46.5 | Q29: =Week9!$A$29 -> 0 | R29: =Week9!$B$29 -> Tampa Bay () | S29: =Week10!$A$29 -> 0 | T29: =Week10!$B$29 -> LA Chargers () | U29: =Week11!$A$29 -> Bye | V29: =Week11!$B$29 -> Cleveland ()
A30: =Week1!$A$30 -> 20 | B30: =Week1!$B$30 -> Dallas (0-0) | C30: =Week2!$A$30 -> 33 | D30: =Week2!$B$30 -> KANSAS CITY (1-0) | E30: =Week3!$A$30 -> 26 | F30: =Week3!$B$30 -> LA Rams (1-1) | G30: =Week4!$A$30 -> 26 | H30: =Week4!$B$30 -> Detroit (2-1) | I30: =Week5!$A$30 -> 34 | J30: =Week5!$B$30 -> LA RAMS (2-2) | K30: =Week6!$A$30 -> Bye | L30: =Week6!$B$30 -> Cincinnati (3-2) | M30: =Week7!$A$30 -> Bye | N30: =Week7!$B$30 -> Buffalo (5-1) | O30: =Week8!$A$30 -> Bye | P30: =Week8!$B$30 -> Houston (2-5) | Q30: =Week9!$A$30 -> 0 | R30: =Week9!$B$30 -> MINNESOTA () | S30: =Week10!$A$30 -> Bye | T30: =Week10!$B$30 -> Chicago () | U30: =Week11!$A$30 -> Bye | V30: =Week11!$B$30 -> Green Bay ()
A31: =Week1!$A$31 -> 28 | B31: =Week1!$B$31 -> NY GIANTS (0-0) +2.5 | C31: =Week2!$A$31 -> 30 | D31: =Week2!$B$31 -> Indianapolis (0-1) +6.5 | E31: =Week3!$A$31 -> 30 | F31: =Week3!$B$31 -> DENVER (1-1) +2.5 | G31: =Week4!$A$31 -> 32 | H31: =Week4!$B$31 -> CAROLINA (1-2) +3.5 | I31: =Week5!$A$31 -> 37 | J31: =Week5!$B$31 -> Buffalo (3-1) +2.5 o/u 54.5 | K31: =Week6!$A$31 -> Bye | L31: =Week6!$B$31 -> Detroit (3-2) | M31: =Week7!$A$31 -> Bye | N31: =Week7!$B$31 -> Jacksonville (4-2) | O31: =Week8!$A$31 -> Bye | P31: =Week8!$B$31 -> New Orleans (2-5) | Q31: =Week9!$A$31 -> 0 | R31: =Week9!$B$31 -> Buffalo () | S31: =Week10!$A$31 -> Bye | T31: =Week10!$B$31 -> Denver () | U31: =Week11!$A$31 -> Bye | V31: =Week11!$B$31 -> LA Rams ()
A32: =Week1!$A$32 -> 31 | B32: =Week1!$B$32 -> KANSAS CITY (0-0) | C32: =Week2!$A$32 -> 28 | D32: =Week2!$B$32 -> LA RAMS (0-1) | E32: =Week3!$A$32 -> 7 | F32: =Week3!$B$32 -> Philadelphia (2-0) | G32: =Week4!$A$32 -> 17 | H32: =Week4!$B$32 -> NEW ORLEANS (1-2) | I32: =Week5!$A$32 -> Bye | J32: =Week5!$B$32 -> Carolina (2-2) | K32: =Week6!$A$32 -> Bye | L32: =Week6!$B$32 -> Miami (0-5) | M32: =Week7!$A$32 -> Bye | N32: =Week7!$B$32 -> LA Chargers (0-6) | O32: =Week8!$A$32 -> Bye | P32: =Week8!$B$32 -> NY Giants (4-2-1) | Q32: =Week9!$A$32 -> Bye | R32: =Week9!$B$32 -> Pittsburgh () | S32: =Week10!$A$32 -> Bye | T32: =Week10!$B$32 -> Philadelphia () | U32: =Week11!$A$32 -> Bye | V32: =Week11!$B$32 -> New England ()
A33: =Week1!$A$33 -> 10 | B33: =Week1!$B$33 -> Denver (0-0) +2.5 o/u 42.5 | C33: =Week2!$A$33 -> 6 | D33: =Week2!$B$33 -> NY Giants (1-0) +7.5 o/u 48.5 | E33: =Week3!$A$33 -> 0 | F33: =Week3!$B$33 -> CHICAGO (1-1) +4.5 o/u 41.5 | G33: =Week4!$A$33 -> 45 | H33: =Week4!$B$33 -> Atlanta (1-2) +2.5 o/u 48.5 | I33: =Week5!$A$33 -> Bye | J33: =Week5!$B$33 -> Kansas City (4-0) | K33: =Week6!$A$33 -> Bye | L33: =Week6!$B$33 -> Minnesota (5-0) | M33: =Week7!$A$33 -> Bye | N33: =Week7!$B$33 -> Washington (1-4-1) | O33: =Week8!$A$33 -> Bye | P33: =Week8!$B$33 -> San Francisco (6-1) | Q33: =Week9!$A$33 -> Bye | R33: =Week9!$B$33 -> Tennessee () | S33: =Week10!$A$33 -> Bye | T33: =Week10!$B$33 -> Tampa Bay () | U33: =Week11!$A$33 -> Bye | V33: =Week11!$B$33 -> Seattle ()
B35: =Week12!$B$1 -> Week 12 | D35: =Week13!$B$1 -> Week 13 | F35: =Week14!$B$1 -> Week 14 | H35: =Week15!$B$1 -> Week 15 | J35: =Week16!$B$1 -> Week 16 | L35: =Week17!$B$1 -> Week 17 | N35: =Week18!$B$1 -> Week 18 | P35: =Week19!$B$1 -> Week 19 | R35: =Week20!$B$1 -> Week 20 | T35: =Week21!$B$1 -> Week 21 | V35: =Week22!B1 -> Week 22
A36: =Week12!$A$2 -> 0 | B36: =Week12!$B$2 -> LA RAMS () | C36: =Week13!$A$2 -> n/a | D36: =Week13!$B$2 -> Kansas City () Does Not | E36: =Week14!$A$2 -> n/a | F36: =Week14!$B$2 -> NEW ENGLAND () Does Not | G36: =Week15!$A$2 -> n/a | H36: =Week15!$B$2 -> San Francisco () Does Not | I36: =Week16!$A$2 -> 0 | J36: =Week16!$B$2 -> PHILADELPHIA () | K36: =Week17!$A$2 -> n/a | L36: =Week17!$B$2 -> CINCINNATI () | M36: =Week18!$A$2 -> 0 | N36: =Week18!$B$2 -> 0 | O36: =Week19!$A$2 -> 0 | P36: =Week19!$B$2 -> 0 | Q36: =Week20!$A$2 -> 0 | R36: =Week20!$B$2 -> 0 | S36: =Week21!$A$2 -> 0 | T36: =Week21!$B$2 -> 0 | U36: =Week22!$A$2 -> 0 | V36: =Week22!$B$2 -> 0
A37: =Week12!$A$3 -> 0 | B37: =Week12!$B$3 -> Green Bay () | C37: =Week13!$A$3 -> n/a | D37: =Week13!$B$3 -> LA RAMS () +xx Count | E37: =Week14!$A$3 -> n/a | F37: =Week14!$B$3 -> Minnesota () +xx Count | G37: =Week15!$A$3 -> n/a | H37: =Week15!$B$3 -> LA CHARGERS () +xx Count | I37: =Week16!$A$3 -> 0 | J37: =Week16!$B$3 -> Houston | K37: =Week17!$A$3 -> n/a | L37: =Week17!$B$3 -> Baltimore () | M37: =Week18!$A$3 -> 0 | N37: =Week18!$B$3 -> 0 | O37: =Week19!$A$3 -> 0 | P37: =Week19!$B$3 -> 0 | Q37: =Week20!$A$3 -> 0 | R37: =Week20!$B$3 -> 0 | S37: =Week21!$A$3 -> 0 | T37: =Week21!$B$3 -> 0 | U37: =Week22!$A$3 -> 0 | V37: =Week22!$B$3 -> 0
A38: =Week12!$A$4 -> 0 | B38: =Week12!$B$4 -> DETROIT () | C38: =Week13!$A$4 -> 0 | D38: =Week13!$B$4 -> ATLANTA () | E38: =Week14!$A$4 -> 0 | F38: =Week14!$B$4 -> BALTIMORE () | G38: =Week15!$A$4 -> 0 | H38: =Week15!$B$4 -> Seattle () | I38: =Week16!$A$4 -> 0 | J38: =Week16!$B$4 -> CHICAGO () | K38: =Week17!$A$4 -> 0 | L38: =Week17!$B$4 -> ATLANTA () | M38: =Week18!$A$4 -> 0 | N38: =Week18!$B$4 -> 0 | O38: =Week19!$A$4 -> 0 | P38: =Week19!$B$4 -> 0 | Q38: =Week20!$A$4 -> 0 | R38: =Week20!$B$4 -> 0 | S38: =Week21!A4 -> 0 | T38: =Week21!B4 -> 0 | U38: =Week22!A4 -> 0 | V38: =Week22!$B$4 -> Total Points: (NFC xx + AFC xx) Tie Breaker 1
A39: =Week12!$A$5 -> 0 | B39: =Week12!$B$5 -> Chicago () | C39: =Week13!$A$5 -> 0 | D39: =Week13!$B$5 -> Detroit () | E39: =Week14!$A$5 -> 0 | F39: =Week14!$B$5 -> Tampa Bay () | G39: =Week15!$A$5 -> 0 | H39: =Week15!$B$5 -> PHILADELPHIA () | I39: =Week16!$A$5 -> 0 | J39: =Week16!$B$5 -> Green Bay () | K39: =Week17!$A$5 -> 0 | L39: =Week17!$B$5 -> New Orleans () | M39: =Week18!$A$5 -> 0 | N39: =Week18!$B$5 -> 0 | O39: =Week19!$A$5 -> 0 | P39: =Week19!$B$5 -> 0 | Q39: =Week20!$A$5 -> 0 | R39: =Week20!$B$5 -> 0 | S39: =Week21!A5 -> 0 | T39: =Week21!B5 -> 0 | U39: =Week22!C5 -> 0 | V39: =Week22!$B$5 -> Total Rushing Yards: (NFC xxx + AFC xxx) Tie Breaker 2
A40: =Week12!$A$6 -> 0 | B40: =Week12!$B$6 -> DALLAS () | C40: =Week13!$A$6 -> 0 | D40: =Week13!$B$6 -> CHICAGO () | E40: =Week14!$A$6 -> 0 | F40: =Week14!$B$6 -> CAOLINA () | G40: =Week15!$A$6 -> 0 | H40: =Week15!$B$6 -> BUFFALO () | I40: =Week16!$A$6 -> 0 | J40: =Week16!$B$6 -> Buffalo () | K40: =Week17!$A$6 -> 0 | L40: =Week17!$B$6 -> CAROLINA () | M40: =Week18!$A$6 -> 0 | N40: =Week18!$B$6 -> 0 | O40: =Week19!$A$6 -> 0 | P40: =Week19!$B$6 -> 0 | Q40: =Week20!A6 -> 0 | R40: =Week20!B6 -> 0 | U40: =Week22!A6 -> ABC | V40: =Week22!B6 -> 2/X/27 6:30 XXXXX Stadium
A41: =Week12!$A$7 -> 0 | B41: =Week12!$B$7 -> Philadelphia () | C41: =Week13!$A$7 -> 0 | D41: =Week13!$B$7 -> Jacksonville () | E41: =Week14!$A$7 -> 0 | F41: =Week14!$B$7 -> New Orleans () | G41: =Week15!$A$7 -> 0 | H41: =Week15!$B$7 -> Chicago () | I41: =Week16!$A$7 -> 0 | J41: =Week16!$B$7 -> DENVER () | K41: =Week17!$A$7 -> 0 | L41: =Week17!$B$7 -> Seattle () | M41: =Week18!$A$7 -> 0 | N41: =Week18!$B$7 -> 0 | O41: =Week19!$A$7 -> 0 | P41: =Week19!$B$7 -> 0 | Q41: =Week20!A7 -> 0 | R41: =Week20!B7 -> 0 | V41: =Week22!B7 -> Address
A42: =Week12!$A$8 -> 0 | B42: =Week12!$B$8 -> BUFFALO | C42: =Week13!$A$8 -> 0 | D42: =Week13!$B$8 -> Cincinnati () | E42: =Week14!$A$8 -> 0 | F42: =Week14!$B$8 -> CLEVELAND () | G42: =Week15!$A$8 -> 0 | H42: =Week15!$B$8 -> CAROLINA () | I42: =Week16!$A$8 -> 0 | J42: =Week16!$B$8 -> SEATTLE () | K42: =Week17!$A$8 -> 0 | L42: =Week17!$B$8 -> CLEVELAND () | M42: =Week18!$A$8 -> 0 | N42: =Week18!$B$8 -> 0 | O42: =Week19!$A$8 -> 0 | P42: =Week19!$B$8 -> 0 | Q42: =Week20!A8 -> 0 | R42: =Week20!B8 -> 0 | V42: =Week22!$B$8 -> City, State Zip
A43: =Week12!$A$9 -> 0 | B43: =Week12!$B$9 -> Kansas City () | C43: =Week13!$A$9 -> 0 | D43: =Week13!$B$9 -> CLEVELAND () | E43: =Week14!$A$9 -> 0 | F43: =Week14!$B$9 -> Atlanta () | G43: =Week15!$A$9 -> 0 | H43: =Week15!$B$9 -> Cincinnati () | I43: =Week16!$A$9 -> 0 | J43: =Week16!$B$9 -> LA Rams () | K43: =Week17!$A$9 -> 0 | L43: =Week17!$B$9 -> Indianapolis () | M43: =Week18!$A$9 -> 0 | N43: =Week18!$B$9 -> 0 | O43: =Week19!$A$9 -> 0 | P43: =Week19!$B$9 -> 0 | Q43: =Week20!A9 -> 0 | R43: =Week20!B9 -> 0 | V43: =Week22!B9 -> Super Bowl 60(LXI)
A44: =Week12!$A$10 -> 0 | B44: =Week12!$B$10 -> PITTSBURGH () | C44: =Week13!$A$10 -> 0 | D44: =Week13!$B$10 -> Green Bay () | E44: =Week14!$A$10 -> 0 | F44: =Week14!$B$10 -> DETROIT () | G44: =Week15!$A$10 -> 0 | H44: =Week15!$B$10 -> GREEN BAY () | I44: =Week16!$A$10 -> 0 | J44: =Week16!$B$10 -> BALTIMORE () | K44: =Week17!$A$10 -> 0 | L44: =Week17!$B$10 -> DALLAS () | M44: =Week18!A10 -> 0 | N44: =Week18!$B$10 -> 0 | O44: =Week19!A10 -> 0 | P44: =Week19!B10 -> 0
A45: =Week12!$A$11 -> 0 | B45: =Week12!$B$11 -> Denver () | C45: =Week13!$A$11 -> 0 | D45: =Week13!$B$11 -> NEW ORLEANS () | E45: =Week14!$A$11 -> 0 | F45: =Week14!$B$11 -> Tennessee () | G45: =Week15!$A$11 -> 0 | H45: =Week15!$B$11 -> Miami () | I45: =Week16!$A$11 -> 0 | J45: =Week16!$B$11 -> Cleveland () | K45: =Week17!$A$11 -> 0 | L45: =Week17!$B$11 -> NY Giants | M45: =Week18!A11 -> 0 | N45: =Week18!$B$11 -> 0 | O45: =Week19!A11 -> 0 | P45: =Week19!B11 -> 0
A46: =Week12!$A$12 -> 0 | B46: =Week12!$B$12 -> CINCINNATI () | C46: =Week13!$A$12 -> 0 | D46: =Week13!$B$12 -> San Francisco () | E46: =Week14!$A$12 -> 0 | F46: =Week14!$B$12 -> Chicago () | G46: =Week15!$A$12 -> 0 | H46: =Week15!$B$12 -> Jacksonville () | I46: =Week16!$A$12 -> 0 | J46: =Week16!$B$12 -> MIAMI () | K46: =Week17!$A$12 -> 0 | L46: =Week17!$B$12 -> MIAMI () | M46: =Week18!A12 -> 0 | N46: =Week18!$B$12 -> 0 | O46: =Week19!A12 -> 0 | P46: =Week19!B12 -> 0
A47: =Week12!$A$13 -> 0 | B47: =Week12!$B$13 -> New Orleans () | C47: =Week13!$A$13 -> 0 | D47: =Week13!$B$13 -> NY GIANTS () | E47: =Week14!$A$13 -> 0 | F47: =Week14!$B$13 -> MIAMI () | G47: =Week15!$A$13 -> 0 | H47: =Week15!$B$13 -> HOUSTON () | I47: =Week16!$A$13 -> 0 | J47: =Week16!$B$13 -> LA Chargers | K47: =Week17!$A$13 -> 0 | L47: =Week17!$B$13 -> Buffalo () | M47: =Week18!A13 -> 0 | N47: =Week18!$B$13 -> 0 | O47: =Week19!A13 -> 0 | P47: =Week19!B13 -> 0
A48: =Week12!$A$14 -> 0 | B48: =Week12!$B$14 -> CLEVELAND () | C48: =Week13!$A$14 -> 0 | D48: =Week13!$B$14 -> TAMPA BAY () | E48: =Week14!$A$14 -> 0 | F48: =Week14!$B$14 -> Denver () | G48: =Week15!$A$14 -> 0 | H48: =Week15!$B$14 -> NY GIANYS () | I48: =Week16!$A$14 -> 0 | J48: =Week16!$B$14 -> NEW ORLEANS () | K48: =Week17!$A$14 -> 0 | L48: =Week17!$B$14 -> NY JETS () | M48: =Week18!A14 -> 0 | N48: =Week18!$B$14 -> 0
A49: =Week12!$A$15 -> 0 | B49: =Week12!$B$15 -> Las Vegas () | C49: =Week13!$A$15 -> 0 | D49: =Week13!$B$15 -> LA Chargers () | E49: =Week14!$A$15 -> 0 | F49: =Week14!$B$15 -> NY JETS () | G49: =Week15!$A$15 -> 0 | H49: =Week15!$B$15 -> Cleveland () | I49: =Week16!$A$15 -> 0 | J49: =Week16!$B$15 -> Arizona () | K49: =Week17!$A$15 -> 0 | L49: =Week17!$B$15 -> Minnesota () | M49: =Week18!A15 -> 0 | N49: =Week18!$B$15 -> 0
A50: =Week12!$A$16 -> 0 | B50: =Week12!$B$16 -> HOUSTON () | C50: =Week13!$A$16 -> 0 | D50: =Week13!$B$16 -> Washington () | E50: =Week14!$A$16 -> 0 | F50: =Week14!$B$16 -> PHILADELPHIA () | G50: =Week15!$A$16 -> 0 | H50: =Week15!$B$16 -> PITTSBURGH () | I50: =Week16!$A$16 -> 0 | J50: =Week16!$B$16 -> New England () | K50: =Week17!$A$16 -> 0 | L50: =Week17!$B$16 -> Pittsburgh () | M50: =Week18!A16 -> 0 | N50: =Week18!$B$16 -> 0
A51: =Week12!$A$17 -> 0 | B51: =Week12!$B$17 -> Baltimore () | C51: =Week13!$A$17 -> 0 | D51: =Week13!$B$17 -> TENNESSEE () | E51: =Week14!$A$17 -> 0 | F51: =Week14!$B$17 -> Indianapolis () | G51: =Week15!$A$17 -> 0 | H51: =Week15!$B$17 -> Baltimore () | I51: =Week16!$A$17 -> 0 | J51: =Week16!$B$17 -> NY JETS () | K51: =Week17!$A$17 -> 0 | L51: =Week17!$B$17 -> TENNESSEE () | M51: =Week18!A17 -> 0 | N51: =Week18!$B$17 -> 0
A52: =Week12!$A$18 -> 0 | B52: =Week12!$B$18 -> NY Giants () | C52: =Week13!$A$18 -> 0 | D52: =Week13!$B$18 -> Philadelphia () | E52: =Week14!$A$18 -> 0 | F52: =Week14!$B$18 -> WASHINGTON () | G52: =Week15!$A$18 -> 0 | H52: =Week15!$B$18 -> TAMPA BAY () | I52: =Week16!$A$18 -> 0 | J52: =Week16!$B$18 -> LAS VEGAS () | K52: =Week17!$A$18 -> 0 | L52: =Week17!$B$18 -> ARIZONA () | M52: =Week18!A18 -> 0 | N52: =Week18!$B$18 -> 0
A53: =Week12!$A$19 -> 0 | B53: =Week12!$B$19 -> INDIANAPOLIS () | C53: =Week13!$A$19 -> 0 | D53: =Week13!$B$19 -> ARIZONA () | E53: =Week14!$A$19 -> 0 | F53: =Week14!$B$19 -> Houston () | G53: =Week15!$A$19 -> 0 | H53: =Week15!$B$19 -> New Orleans () | I53: =Week16!$A$19 -> 0 | J53: =Week16!$B$19 -> Tennessee () | K53: =Week17!$A$19 -> 0 | L53: =Week17!$B$19 -> Las Vegas () | M53: =Week18!A19 -> 0 | N53: =Week18!$B$19 -> 0
A54: =Week12!$A$20 -> 0 | B54: =Week12!$B$20 -> MIAMI () | C54: =Week13!$A$20 -> 0 | D54: =Week13!$B$20 -> DENVER () | E54: =Week14!$A$20 -> 0 | F54: =Week14!$B$20 -> LAS VEGAS () | G54: =Week15!$A$20 -> 0 | H54: =Week15!$B$20 -> TENNESSEE () | I54: =Week16!$A$20 -> 0 | J54: =Week16!$B$20 -> KANSAS CITY () | K54: =Week17!$A$20 -> 0 | L54: =Week17!$B$20 -> CHICAGO () | M54: =Week18!A20 -> 0 | N54: =Week18!$B$20 -> 0
A55: =Week12!$A$21 -> 0 | B55: =Week12!$B$21 -> NY Jets () | C55: =Week13!$A$21 -> 0 | D55: =Week13!$B$21 -> Miami () | E55: =Week14!$A$21 -> 0 | F55: =Week14!$B$21 -> LA Chargers () | G55: =Week15!$A$21 -> 0 | H55: =Week15!$B$21 -> Indianapolis () | I55: =Week16!$A$21 -> 0 | J55: =Week16!$B$21 -> San Francisco () | K55: =Week17!$A$21 -> 0 | L55: =Week17!$B$21 -> Detroit () | M55: =Week18!A21 -> 0 | N55: =Week18!$B$21 -> 0
A56: =Week12!$A$22 -> 0 | B56: =Week12!$B$22 -> MINNESOTA () | C56: =Week13!$A$22 -> 0 | D56: =Week13!$B$22 -> MINNESOTA () | E56: =Week14!$A$22 -> 0 | F56: =Week14!$B$22 -> Kansas City () | G56: =Week15!$A$22 -> 0 | H56: =Week15!$B$22 -> WASHINGTON () | I56: =Week16!$A$22 -> 0 | J56: =Week16!$B$22 -> DALLAS () | K56: =Week17!$A$22 -> 0 | L56: =Week17!$B$22 -> SAN FRANCISCO () | M56: =Week18!A22 -> 0 | N56: =Week18!$B$22 -> 0
A57: =Week12!$A$23 -> 0 | B57: =Week12!$B$23 -> Atlanta () | C57: =Week13!$A$23 -> 0 | D57: =Week13!$B$23 -> Carolina () | E57: =Week14!$A$23 -> 0 | F57: =Week14!$B$23 -> CINCINNATI () | G57: =Week15!$A$23 -> 0 | H57: =Week15!$B$23 -> Atlanta () | I57: =Week16!$A$23 -> 0 | J57: =Week16!$B$23 -> Jacksonville () | K57: =Week17!$A$23 -> 0 | L57: =Week17!$B$23 -> Philadelphia () | M57: =Week18!A23 -> 0 | N57: =Week18!$B$23 -> 0
A58: =Week12!$A$24 -> 0 | B58: =Week12!$B$24 -> JACKSONVILLE () | C58: =Week13!$A$24 -> 0 | D58: =Week13!$B$24 -> NEW ENGLAND () | E58: =Week14!$A$24 -> 0 | F58: =Week14!$B$24 -> SEATTLE () | G58: =Week15!$A$24 -> 0 | H58: =Week15!$B$24 -> ARIZONA () | I58: =Week16!$A$24 -> 0 | J58: =Week16!$B$24 -> DETROIT () | K58: =Week17!$A$24 -> 0 | L58: =Week17!$B$24 -> GREEN BAY () | M58: =Week18!A24 -> 0 | N58: =Week18!$B$24 -> 0
A59: =Week12!$A$25 -> 0 | B59: =Week12!$B$25 -> Tennessee () | C59: =Week13!$A$25 -> 0 | D59: =Week13!$B$25 -> Buffalo () | E59: =Week14!$A$25 -> 0 | F59: =Week14!$B$25 -> NY Giants () | G59: =Week15!$A$25 -> 0 | H59: =Week15!$B$25 -> NY Jets () | I59: =Week16!$A$25 -> 0 | J59: =Week16!$B$25 -> NY Giants () | K59: =Week17!$A$25 -> 0 | L59: =Week17!$B$25 -> Houston () | M59: =Week18!A25 -> 0 | N59: =Week18!$B$25 -> 0
A60: =Week12!$A$26 -> 0 | B60: =Week12!$B$26 -> ARIZONA () | C60: =Week13!$A$26 -> 0 | D60: =Week13!$B$26 -> PITTSBURGH () | E60: =Week14!$A$26 -> 0 | F60: =Week14!$B$26 -> SAN FRANCISCO () | G60: =Week15!$A$26 -> 0 | H60: =Week15!$B$26 -> LA RAMS () | I60: =Week16!$A$26 -> 0 | J60: =Week16!$B$26 -> ATLANTA () | K60: =Week17!$A$26 -> 0 | L60: =Week17!$B$26 -> JACKSONVILLE () | M60: =Week18!A26 -> 0 | N60: =Week18!$B$26 -> 0
A61: =Week12!$A$27 -> 0 | B61: =Week12!$B$27 -> Washington () | C61: =Week13!$A$27 -> 0 | D61: =Week13!$B$27 -> Houston () | E61: =Week14!$A$27 -> 0 | F61: =Week14!$B$27 -> LA Rams () | G61: =Week15!$A$27 -> 0 | H61: =Week15!$B$27 -> Dallas () | I61: =Week16!$A$27 -> 0 | J61: =Week16!$B$27 -> Tampa Bay () | K61: =Week17!$A$27 -> 0 | L61: =Week17!$B$27 -> Washington () | M61: =Week18!A27 -> 0 | N61: =Week18!$B$27 -> 0
A62: =Week12!$A$28 -> 0 | B62: =Week12!$B$28 -> SAN FRANCISCO () | C62: =Week13!$A$28 -> 0 | D62: =Week13!$B$28 -> SEATTLE () | E62: =Week14!$A$28 -> 0 | F62: =Week14!$B$28 -> GREEN BAY () | G62: =Week15!$A$28 -> 0 | H62: =Week15!$B$28 -> LAS VEGAS () | I62: =Week16!$A$28 -> 0 | J62: =Week16!$B$28 -> Cincinnati () | K62: =Week17!$A$28 -> 0 | L62: =Week17!$B$28 -> Kansas City () | M62: =Week18!A28 -> 0 | N62: =Week18!$B$28 -> 0
A63: =Week12!$A$29 -> 0 | B63: =Week12!$B$29 -> Seattle () | C63: =Week13!$A$29 -> 0 | D63: =Week13!$B$29 -> Dallas () | E63: =Week14!$A$29 -> 0 | F63: =Week14!$B$29 -> Buffalo () | G63: =Week15!$A$29 -> 0 | H63: =Week15!$B$29 -> Denver () | I63: =Week16!$A$29 -> 0 | J63: =Week16!$B$29 -> Indianapolis | K63: =Week17!$A$29 -> 0 | L63: =Week17!$B$29 -> LA CHARGERS () | M63: =Week18!A29 -> 0 | N63: =Week18!$B$29 -> 0
A64: =Week12!$A$30 -> 0 | B64: =Week12!$B$30 -> New England () | C64: =Week13!$A$30 -> Bye | D64: =Week13!$B$30 -> Baltimore () | E64: =Week14!$A$30 -> 0 | F64: =Week14!$B$30 -> JACKSONVILLE () | G64: =Week15!$A$30 -> 0 | H64: =Week15!$B$30 -> MINNESOTA () | I64: =Week16!$A$30 -> 0 | J64: =Week16!$B$30 -> MINNESOTA () | K64: =Week17!$A$30 -> 0 | L64: =Week17!$B$30 -> NEW ENGLAND () | M64: =Week18!A30 -> 0 | N64: =Week18!$B$30 -> 0
A65: =Week12!$A$31 -> 0 | B65: =Week12!$B$31 -> LA CHARGERS () | C65: =Week13!$A$31 -> Bye | D65: =Week13!$B$31 -> Indianapolis () | E65: =Week14!$A$31 -> 0 | F65: =Week14!$B$31 -> Pittsburgh () | G65: =Week15!$A$31 -> 0 | H65: =Week15!$B$31 -> Detroit () | I65: =Week16!$A$31 -> 0 | J65: =Week16!$B$31 -> Washington | K65: =Week17!$A$31 -> 0 | L65: =Week17!$B$31 -> Denver () | M65: =Week18!A31 -> 0 | N65: =Week18!$B$31 -> 0
A66: =Week12!$A$32 -> 0 | B66: =Week12!$B$32 -> TAMPA BAY () | C66: =Week13!$A$32 -> Bye | D66: =Week13!$B$32 -> Las Vegas () | E66: =Week14!$A$32 -> Bye | F66: =Week14!$B$32 -> Arizona () | G66: =Week15!$A$32 -> 0 | H66: =Week15!$B$32 -> KANSAS CITY () | I66: =Week16!$A$32 -> 0 | J66: =Week16!$B$32 -> PITTSBURGH () | K66: =Week17!$A$32 -> 0 | L66: =Week17!$B$32 -> LA Rams | M66: =Week18!A32 -> 0 | N66: =Week18!$B$32 -> 0
A67: =Week12!$A$33 -> 0 | B67: =Week12!$B$33 -> Carolina () | C67: =Week13!$A$33 -> Bye | D67: =Week13!$B$33 -> NY Jets () | E67: =Week14!$A$33 -> Bye | F67: =Week14!$B$33 -> Dallas () | G67: =Week15!$A$33 -> 0 | H67: =Week15!$B$33 -> New England () | I67: =Week16!$A$33 -> 0 | J67: =Week16!$B$33 -> Carolina () | K67: =Week17!$A$33 -> 0 | L67: =Week17!$B$33 -> TAMPA BAY () | M67: =Week18!A33 -> 0 | N67: =Week18!$B$33 -> 0

Sheet Overall
D1: 1 | E1: 2 | F1: 3 | G1: 4 | H1: 5 | I1: 6 | J1: 7 | K1: 8 | L1: 9 | M1: 10 | N1: 11 | O1: 12 | P1: 13 | Q1: 14 | R1: 15 | S1: 16 | T1: 17 | U1: 18 | V1: 19 | W1: 20 | X1: 21 | Y1: Total | Z1: %
A2: 1 | B2: =Week1!C$1 -> Jun | C2: W | D2: =Week1!$C$34 -> 8 | E2: =Week2!$C$34 -> 4 | F2: =Week3!$C$34 -> 5 | G2: =Week4!$C$34 -> 8 | H2: =Week5!$C$34 -> 6 | I2: =Week6!$C$34 -> 7 | J2: =Week7!$C$34 -> 4 | K2: =Week8!$C$34 -> 0 | L2: =Week9!$C$34 -> 0 | M2: =Week10!$C$34 -> 0 | N2: =Week11!$C$34 -> 0 | O2: =Week12!$C$34 -> 0 | P2: =Week13!$C$34 -> 0 | Q2: =Week14!$C$34 -> 0 | R2: =Week15!$C$34 -> 0 | S2: =Week16!$C$34 -> 0 | T2: =Week17!$C$34 -> 0 | U2: =Week18!$C$34 -> 0 | V2: =Week19!$C$34 -> 0 | W2: =Week20!$C$34 -> 0 | X2: =Week21!$C$34 -> 0 | Y2: =SUM(D2:X2) -> 42 | Z2: =Y2/(Y2+Y3) -> 0.41584158
C3: L | D3: =Week1!$C$35 -> 8 | E3: =Week2!$C$35 -> 11 | F3: =Week3!$C$35 -> 10 | G3: =Week4!$C$35 -> 7 | H3: =Week5!$C$35 -> 8 | I3: =Week6!$C$35 -> 6 | J3: =Week7!$C$35 -> 9 | K3: =Week8!$C$35 -> 0 | L3: =Week9!$C$35 -> 0 | M3: =Week10!$C$35 -> 0 | N3: =Week11!$C$35 -> 0 | O3: =Week12!$C$35 -> 0 | P3: =Week13!$C$35 -> 0 | Q3: =Week14!$C$35 -> 0 | R3: =Week15!$C$35 -> 0 | S3: =Week16!$C$35 -> 0 | T3: =Week17!$C$35 -> 0 | U3: =Week18!$C$35 -> 0 | V3: =Week19!$C$35 -> 0 | W3: =Week20!$C$35 -> 0 | X3: =Week21!$C$35 -> 0 | Y3: =SUM(D3:X3) -> 59
A4: 2 | B4: =Week1!D$1 -> Diana C | C4: W | D4: =Week1!$D$34 -> 10 | E4: =Week2!$D$34 -> 6 | F4: =Week3!$D$34 -> 6 | G4: =Week4!$D$34 -> 6 | H4: =Week5!$D$34 -> 8 | I4: =Week6!$D$34 -> 6 | J4: =Week7!$D$34 -> 6 | K4: =Week8!$D$34 -> 0 | L4: =Week9!$D$34 -> 0 | M4: =Week10!$D$34 -> 0 | N4: =Week11!$D$34 -> 0 | O4: =Week12!$D$34 -> 0 | P4: =Week13!$D$34 -> 0 | Q4: =Week14!$D$34 -> 0 | R4: =Week15!$D$34 -> 0 | S4: =Week16!$D$34 -> 0 | T4: =Week17!$D$34 -> 0 | U4: =Week18!$D$34 -> 0 | V4: =Week19!$D$34 -> 0 | W4: =Week20!$D$34 -> 0 | X4: =Week21!$D$34 -> 0 | Y4: =SUM(D4:X4) -> 48 | Z4: =Y4/(Y4+Y5) -> 0.47524752
C5: L | D5: =Week1!$D$35 -> 6 | E5: =Week2!$D$35 -> 9 | F5: =Week3!$D$35 -> 9 | G5: =Week4!$D$35 -> 9 | H5: =Week5!$D$35 -> 6 | I5: =Week6!$D$35 -> 7 | J5: =Week7!$D$35 -> 7 | K5: =Week8!$D$35 -> 0 | L5: =Week9!$D$35 -> 0 | M5: =Week10!$D$35 -> 0 | N5: =Week11!$D$35 -> 0 | O5: =Week12!$D$35 -> 0 | P5: =Week13!$D$35 -> 0 | Q5: =Week14!$D$35 -> 0 | R5: =Week15!$D$35 -> 0 | S5: =Week16!$D$35 -> 0 | T5: =Week17!$D$35 -> 0 | U5: =Week18!$D$35 -> 0 | V5: =Week19!$D$35 -> 0 | W5: =Week20!$D$35 -> 0 | X5: =Week21!$D$35 -> 0 | Y5: =SUM(D5:X5) -> 53
A6: 3 | B6: =Week1!E$1 -> Tinny | C6: W | D6: =Week1!$E$34 -> 9 | E6: =Week2!$E$34 -> 4 | F6: =Week3!$E$34 -> 10 | G6: =Week4!$E$34 -> 6 | H6: =Week5!$E$34 -> 6 | I6: =Week6!$E$34 -> 8 | J6: =Week7!$E$34 -> 5 | K6: =Week8!$E$34 -> 0 | L6: =Week9!$E$34 -> 0 | M6: =Week10!$E$34 -> 0 | N6: =Week11!$E$34 -> 0 | O6: =Week12!$E$34 -> 0 | P6: =Week13!$E$34 -> 0 | Q6: =Week14!$E$34 -> 0 | R6: =Week15!$E$34 -> 0 | S6: =Week16!$E$34 -> 0 | T6: =Week17!$E$34 -> 0 | U6: =Week18!$E$34 -> 0 | V6: =Week19!$E$34 -> 0 | W6: =Week20!$E$34 -> 0 | X6: =Week21!$E$34 -> 0 | Y6: =SUM(D6:X6) -> 48 | Z6: =Y6/(Y6+Y7) -> 0.47524752
C7: L | D7: =Week1!$E$35 -> 7 | E7: =Week2!$E$35 -> 11 | F7: =Week3!$E$35 -> 5 | G7: =Week4!$E$35 -> 9 | H7: =Week5!$E$35 -> 8 | I7: =Week6!$E$35 -> 5 | J7: =Week7!$E$35 -> 8 | K7: =Week8!$E$35 -> 0 | L7: =Week9!$E$35 -> 0 | M7: =Week10!$E$35 -> 0 | N7: =Week11!$E$35 -> 0 | O7: =Week12!$E$35 -> 0 | P7: =Week13!$E$35 -> 0 | Q7: =Week14!$E$35 -> 0 | R7: =Week15!$E$35 -> 0 | S7: =Week16!$E$35 -> 0 | T7: =Week17!$E$35 -> 0 | U7: =Week18!$E$35 -> 0 | V7: =Week19!$E$35 -> 0 | W7: =Week20!$E$35 -> 0 | X7: =Week21!$E$35 -> 0 | Y7: =SUM(D7:X7) -> 53
A8: 4 | B8: =Week1!F$1 -> Smith, M | C8: W | D8: =Week1!$F$34 -> 8 | E8: =Week2!$F$34 -> 8 | F8: =Week3!$F$34 -> 5 | G8: =Week4!$F$34 -> 8 | H8: =Week5!$F$34 -> 9 | I8: =Week6!$F$34 -> 6 | J8: =Week7!$F$34 -> 7 | K8: =Week8!$F$34 -> 0 | L8: =Week9!$F$34 -> 0 | M8: =Week10!$F$34 -> 0 | N8: =Week11!$F$34 -> 0 | O8: =Week12!$F$34 -> 0 | P8: =Week13!$F$34 -> 0 | Q8: =Week14!$F$34 -> 0 | R8: =Week15!$F$34 -> 0 | S8: =Week16!$F$34 -> 0 | T8: =Week17!$F$34 -> 0 | U8: =Week18!$F$34 -> 0 | V8: =Week19!$F$34 -> 0 | W8: =Week20!$F$34 -> 0 | X8: =Week21!$F$34 -> 0 | Y8: =SUM(D8:X8) -> 51 | Z8: =Y8/(Y8+Y9) -> 0.5049505
C9: L | D9: =Week1!$F$35 -> 8 | E9: =Week2!$F$35 -> 7 | F9: =Week3!$F$35 -> 10 | G9: =Week4!$F$35 -> 7 | H9: =Week5!$F$35 -> 5 | I9: =Week6!$F$35 -> 7 | J9: =Week7!$F$35 -> 6 | K9: =Week8!$F$35 -> 0 | L9: =Week9!$F$35 -> 0 | M9: =Week10!$F$35 -> 0 | N9: =Week11!$F$35 -> 0 | O9: =Week12!$F$35 -> 0 | P9: =Week13!$F$35 -> 0 | Q9: =Week14!$F$35 -> 0 | R9: =Week15!$F$35 -> 0 | S9: =Week16!$F$35 -> 0 | T9: =Week17!$F$35 -> 0 | U9: =Week18!$F$35 -> 0 | V9: =Week19!$F$35 -> 0 | W9: =Week20!$F$35 -> 0 | X9: =Week21!$F$35 -> 0 | Y9: =SUM(D9:X9) -> 50
A10: 5 | B10: =Week1!G$1 -> John McG | C10: W | D10: =Week1!$G$34 -> 5 | E10: =Week2!$G$34 -> 9 | F10: =Week3!$G$34 -> 6 | G10: =Week4!$G$34 -> 7 | H10: =Week5!$G$34 -> 9 | I10: =Week6!$G$34 -> 5 | J10: =Week7!$G$34 -> 5 | K10: =Week8!$G$34 -> 0 | L10: =Week9!$G$34 -> 0 | M10: =Week10!$G$34 -> 0 | N10: =Week11!$G$34 -> 0 | O10: =Week12!$G$34 -> 0 | P10: =Week13!$G$34 -> 0 | Q10: =Week14!$G$34 -> 0 | R10: =Week15!$G$34 -> 0 | S10: =Week16!$G$34 -> 0 | T10: =Week17!$G$34 -> 0 | U10: =Week18!$G$34 -> 0 | V10: =Week19!$G$34 -> 0 | W10: =Week20!$G$34 -> 0 | X10: =Week21!$G$34 -> 0 | Y10: =SUM(D10:X10) -> 46 | Z10: =Y10/(Y10+Y11) -> 0.45544554
C11: L | D11: =Week1!$G$35 -> 11 | E11: =Week2!$G$35 -> 6 | F11: =Week3!$G$35 -> 9 | G11: =Week4!$G$35 -> 8 | H11: =Week5!$G$35 -> 5 | I11: =Week6!$G$35 -> 8 | J11: =Week7!$G$35 -> 8 | K11: =Week8!$G$35 -> 0 | L11: =Week9!$G$35 -> 0 | M11: =Week10!$G$35 -> 0 | N11: =Week11!$G$35 -> 0 | O11: =Week12!$G$35 -> 0 | P11: =Week13!$G$35 -> 0 | Q11: =Week14!$G$35 -> 0 | R11: =Week15!$G$35 -> 0 | S11: =Week16!$G$35 -> 0 | T11: =Week17!$G$35 -> 0 | U11: =Week18!$G$35 -> 0 | V11: =Week19!$G$35 -> 0 | W11: =Week20!$G$35 -> 0 | X11: =Week21!$G$35 -> 0 | Y11: =SUM(D11:X11) -> 55
A12: 6 | B12: =Week1!H$1 -> Hamilton, J | C12: W | D12: =Week1!$H$34 -> 7 | E12: =Week2!$H$34 -> 6 | F12: =Week3!$H$34 -> 7 | G12: =Week4!$H$34 -> 8 | H12: =Week5!$H$34 -> 10 | I12: =Week6!$H$34 -> 8 | J12: =Week7!$H$34 -> 9 | K12: =Week8!$H$34 -> 0 | L12: =Week9!$H$34 -> 0 | M12: =Week10!$H$34 -> 0 | N12: =Week11!$H$34 -> 0 | O12: =Week12!$H$34 -> 0 | P12: =Week13!$H$34 -> 0 | Q12: =Week14!$H$34 -> 0 | R12: =Week15!$H$34 -> 0 | S12: =Week16!$H$34 -> 0 | T12: =Week17!$H$34 -> 0 | U12: =Week18!$H$34 -> 0 | V12: =Week19!$H$34 -> 0 | W12: =Week20!$H$34 -> 0 | X12: =Week21!$H$34 -> 0 | Y12: =SUM(D12:X12) -> 55 | Z12: =Y12/(Y12+Y13) -> 0.54455446
C13: L | D13: =Week1!$H$35 -> 9 | E13: =Week2!$H$35 -> 9 | F13: =Week3!$H$35 -> 8 | G13: =Week4!$H$35 -> 7 | H13: =Week5!$H$35 -> 4 | I13: =Week6!$H$35 -> 5 | J13: =Week7!$H$35 -> 4 | K13: =Week8!$H$35 -> 0 | L13: =Week9!$H$35 -> 0 | M13: =Week10!$H$35 -> 0 | N13: =Week11!$H$35 -> 0 | O13: =Week12!$H$35 -> 0 | P13: =Week13!$H$35 -> 0 | Q13: =Week14!$H$35 -> 0 | R13: =Week15!$H$35 -> 0 | S13: =Week16!$H$35 -> 0 | T13: =Week17!$H$35 -> 0 | U13: =Week18!$H$35 -> 0 | V13: =Week19!$H$35 -> 0 | W13: =Week20!$H$35 -> 0 | X13: =Week21!$H$35 -> 0 | Y13: =SUM(D13:X13) -> 46
A14: 7 | B14: =Week1!I$1 -> Dan G | C14: W | D14: =Week1!$I$34 -> 6 | E14: =Week2!$I$34 -> 8 | F14: =Week3!$I$34 -> 6 | G14: =Week4!$I$34 -> 9 | H14: =Week5!$I$34 -> 8 | I14: =Week6!$I$34 -> 4 | J14: =Week7!$I$34 -> 4 | K14: =Week8!$I$34 -> 0 | L14: =Week9!$I$34 -> 0 | M14: =Week10!$I$34 -> 0 | N14: =Week11!$I$34 -> 0 | O14: =Week12!$I$34 -> 0 | P14: =Week13!$I$34 -> 0 | Q14: =Week14!$I$34 -> 0 | R14: =Week15!$I$34 -> 0 | S14: =Week16!$I$34 -> 0 | T14: =Week17!$I$34 -> 0 | U14: =Week18!$I$34 -> 0 | V14: =Week19!$I$34 -> 0 | W14: =Week20!$I$34 -> 0 | X14: =Week21!$I$34 -> 0 | Y14: =SUM(D14:X14) -> 45 | Z14: =Y14/(Y14+Y15) -> 0.44554455
C15: L | D15: =Week1!$I$35 -> 10 | E15: =Week2!$I$35 -> 7 | F15: =Week3!$I$35 -> 9 | G15: =Week4!$I$35 -> 6 | H15: =Week5!$I$35 -> 6 | I15: =Week6!$I$35 -> 9 | J15: =Week7!$I$35 -> 9 | K15: =Week8!$I$35 -> 0 | L15: =Week9!$I$35 -> 0 | M15: =Week10!$I$35 -> 0 | N15: =Week11!$I$35 -> 0 | O15: =Week12!$I$35 -> 0 | P15: =Week13!$I$35 -> 0 | Q15: =Week14!$I$35 -> 0 | R15: =Week15!$I$35 -> 0 | S15: =Week16!$I$35 -> 0 | T15: =Week17!$I$35 -> 0 | U15: =Week18!$I$35 -> 0 | V15: =Week19!$I$35 -> 0 | W15: =Week20!$I$35 -> 0 | X15: =Week21!$I$35 -> 0 | Y15: =SUM(D15:X15) -> 56
A16: 8 | B16: =Week1!J$1 -> Caracas, M | C16: W | D16: =Week1!$J$34 -> 5 | E16: =Week2!$J$34 -> 7 | F16: =Week3!$J$34 -> 6 | G16: =Week4!$J$34 -> 6 | H16: =Week5!$J$34 -> 7 | I16: =Week6!$J$34 -> 5 | J16: =Week7!$J$34 -> 6 | K16: =Week8!$J$34 -> 0 | L16: =Week9!$J$34 -> 0 | M16: =Week10!$J$34 -> 0 | N16: =Week11!$J$34 -> 0 | O16: =Week12!$J$34 -> 0 | P16: =Week13!$J$34 -> 0 | Q16: =Week14!$J$34 -> 0 | R16: =Week15!$J$34 -> 0 | S16: =Week16!$J$34 -> 0 | T16: =Week17!$J$34 -> 0 | U16: =Week18!$J$34 -> 0 | V16: =Week19!$J$34 -> 0 | W16: =Week20!$J$34 -> 0 | X16: =Week21!$J$34 -> 0 | Y16: =SUM(D16:X16) -> 42 | Z16: =Y16/(Y16+Y17) -> 0.41584158
C17: L | D17: =Week1!$J$35 -> 11 | E17: =Week2!$J$35 -> 8 | F17: =Week3!$J$35 -> 9 | G17: =Week4!$J$35 -> 9 | H17: =Week5!$J$35 -> 7 | I17: =Week6!$J$35 -> 8 | J17: =Week7!$J$35 -> 7 | K17: =Week8!$J$35 -> 0 | L17: =Week9!$J$35 -> 0 | M17: =Week10!$J$35 -> 0 | N17: =Week11!$J$35 -> 0 | O17: =Week12!$J$35 -> 0 | P17: =Week13!$J$35 -> 0 | Q17: =Week14!$J$35 -> 0 | R17: =Week15!$J$35 -> 0 | S17: =Week16!$J$35 -> 0 | T17: =Week17!$J$35 -> 0 | U17: =Week18!$J$35 -> 0 | V17: =Week19!$J$35 -> 0 | W17: =Week20!$J$35 -> 0 | X17: =Week21!$J$35 -> 0 | Y17: =SUM(D17:X17) -> 59
A18: 9 | B18: =Week1!K$1 -> Knavel, Don | C18: W | D18: =Week1!$K$34 -> 8 | E18: =Week2!$K$34 -> 7 | F18: =Week3!$K$34 -> 6 | G18: =Week4!$K$34 -> 9 | H18: =Week5!$K$34 -> 7 | I18: =Week6!$K$34 -> 6 | J18: =Week7!$K$34 -> 9 | K18: =Week8!$K$34 -> 0 | L18: =Week9!$K$34 -> 0 | M18: =Week10!$K$34 -> 0 | N18: =Week11!$K$34 -> 0 | O18: =Week12!$K$34 -> 0 | P18: =Week13!$K$34 -> 0 | Q18: =Week14!$K$34 -> 0 | R18: =Week15!$K$34 -> 0 | S18: =Week16!$K$34 -> 0 | T18: =Week17!$K$34 -> 0 | U18: =Week18!$K$34 -> 0 | V18: =Week19!$K$34 -> 0 | W18: =Week20!$K$34 -> 0 | X18: =Week21!$K$34 -> 0 | Y18: =SUM(D18:X18) -> 52 | Z18: =Y18/(Y18+Y19) -> 0.51485149
C19: L | D19: =Week1!$K$35 -> 8 | E19: =Week2!$K$35 -> 8 | F19: =Week3!$K$35 -> 9 | G19: =Week4!$K$35 -> 6 | H19: =Week5!$K$35 -> 7 | I19: =Week6!$K$35 -> 7 | J19: =Week7!$K$35 -> 4 | K19: =Week8!$K$35 -> 0 | L19: =Week9!$K$35 -> 0 | M19: =Week10!$K$35 -> 0 | N19: =Week11!$K$35 -> 0 | O19: =Week12!$K$35 -> 0 | P19: =Week13!$K$35 -> 0 | Q19: =Week14!$K$35 -> 0 | R19: =Week15!$K$35 -> 0 | S19: =Week16!$K$35 -> 0 | T19: =Week17!$K$35 -> 0 | U19: =Week18!$K$35 -> 0 | V19: =Week19!$K$35 -> 0 | W19: =Week20!$K$35 -> 0 | X19: =Week21!$K$35 -> 0 | Y19: =SUM(D19:X19) -> 49
A20: 10 | B20: =Week1!L$1 -> Frost, I | C20: W | D20: =Week1!$L$34 -> 7 | E20: =Week2!$L$34 -> 7 | F20: =Week3!$L$34 -> 7 | G20: =Week4!$L$34 -> 8 | H20: =Week5!$L$34 -> 8 | I20: =Week6!$L$34 -> 6 | J20: =Week7!$L$34 -> 6 | K20: =Week8!$L$34 -> 0 | L20: =Week9!$L$34 -> 0 | M20: =Week10!$L$34 -> 0 | N20: =Week11!$L$34 -> 0 | O20: =Week12!$L$34 -> 0 | P20: =Week13!$L$34 -> 0 | Q20: =Week14!$L$34 -> 0 | R20: =Week15!$L$34 -> 0 | S20: =Week16!$L$34 -> 0 | T20: =Week17!$L$34 -> 0 | U20: =Week18!$L$34 -> 0 | V20: =Week19!$L$34 -> 0 | W20: =Week20!$L$34 -> 0 | X20: =Week21!$L$34 -> 0 | Y20: =SUM(D20:X20) -> 49 | Z20: =Y20/(Y20+Y21) -> 0.48514851
C21: L | D21: =Week1!$L$35 -> 9 | E21: =Week2!$L$35 -> 8 | F21: =Week3!$L$35 -> 8 | G21: =Week4!$L$35 -> 7 | H21: =Week5!$L$35 -> 6 | I21: =Week6!$L$35 -> 7 | J21: =Week7!$L$35 -> 7 | K21: =Week8!$L$35 -> 0 | L21: =Week9!$L$35 -> 0 | M21: =Week10!$L$35 -> 0 | N21: =Week11!$L$35 -> 0 | O21: =Week12!$L$35 -> 0 | P21: =Week13!$L$35 -> 0 | Q21: =Week14!$L$35 -> 0 | R21: =Week15!$L$35 -> 0 | S21: =Week16!$L$35 -> 0 | T21: =Week17!$L$35 -> 0 | U21: =Week18!$L$35 -> 0 | V21: =Week19!$L$35 -> 0 | W21: =Week20!$L$35 -> 0 | X21: =Week21!$L$35 -> 0 | Y21: =SUM(D21:X21) -> 52
A22: 11 | B22: =Week1!M$1 -> Heather M. | C22: W | D22: =Week1!$M$34 -> 8 | E22: =Week2!$M$34 -> 8 | F22: =Week3!$M$34 -> 7 | G22: =Week4!$M$34 -> 9 | H22: =Week5!$M$34 -> 10 | I22: =Week6!$M$34 -> 6 | J22: =Week7!$M$34 -> 6 | K22: =Week8!$M$34 -> 0 | L22: =Week9!$M$34 -> 0 | M22: =Week10!$M$34 -> 0 | N22: =Week11!$M$34 -> 0 | O22: =Week12!$M$34 -> 0 | P22: =Week13!$M$34 -> 0 | Q22: =Week14!$M$34 -> 0 | R22: =Week15!$M$34 -> 0 | S22: =Week16!$M$34 -> 0 | T22: =Week17!$M$34 -> 0 | U22: =Week18!$M$34 -> 0 | V22: =Week19!$M$34 -> 0 | W22: =Week20!$M$34 -> 0 | X22: =Week21!$M$34 -> 0 | Y22: =SUM(D22:X22) -> 54 | Z22: =Y22/(Y22+Y23) -> 0.53465347
C23: L | D23: =Week1!$M$35 -> 8 | E23: =Week2!$M$35 -> 7 | F23: =Week3!$M$35 -> 8 | G23: =Week4!$M$35 -> 6 | H23: =Week5!$M$35 -> 4 | I23: =Week6!$M$35 -> 7 | J23: =Week7!$M$35 -> 7 | K23: =Week8!$M$35 -> 0 | L23: =Week9!$M$35 -> 0 | M23: =Week10!$M$35 -> 0 | N23: =Week11!$M$35 -> 0 | O23: =Week12!$M$35 -> 0 | P23: =Week13!$M$35 -> 0 | Q23: =Week14!$M$35 -> 0 | R23: =Week15!$M$35 -> 0 | S23: =Week16!$M$35 -> 0 | T23: =Week17!$M$35 -> 0 | U23: =Week18!$M$35 -> 0 | V23: =Week19!$M$35 -> 0 | W23: =Week20!$M$35 -> 0 | X23: =Week21!$M$35 -> 0 | Y23: =SUM(D23:X23) -> 47
A24: 12 | B24: =Week1!N$1 -> Morissey, B | C24: W | D24: =Week1!$N$34 -> 5 | E24: =Week2!$N$34 -> 8 | F24: =Week3!$N$34 -> 7 | G24: =Week4!$N$34 -> 10 | H24: =Week5!$N$34 -> 8 | I24: =Week6!$N$34 -> 4 | J24: =Week7!$N$34 -> 6 | K24: =Week8!$N$34 -> 0 | L24: =Week9!$N$34 -> 0 | M24: =Week10!$N$34 -> 0 | N24: =Week11!$N$34 -> 0 | O24: =Week12!$N$34 -> 0 | P24: =Week13!$N$34 -> 0 | Q24: =Week14!$N$34 -> 0 | R24: =Week15!$N$34 -> 0 | S24: =Week16!$N$34 -> 0 | T24: =Week17!$N$34 -> 0 | U24: =Week18!$N$34 -> 0 | V24: =Week19!$N$34 -> 0 | W24: =Week20!$N$34 -> 0 | X24: =Week21!$N$34 -> 0 | Y24: =SUM(D24:X24) -> 48 | Z24: =Y24/(Y24+Y25) -> 0.47524752
C25: L | D25: =Week1!$N$35 -> 11 | E25: =Week2!$N$35 -> 7 | F25: =Week3!$N$35 -> 8 | G25: =Week4!$N$35 -> 5 | H25: =Week5!$N$35 -> 6 | I25: =Week6!$N$35 -> 9 | J25: =Week7!$N$35 -> 7 | K25: =Week8!$N$35 -> 0 | L25: =Week9!$N$35 -> 0 | M25: =Week10!$N$35 -> 0 | N25: =Week11!$N$35 -> 0 | O25: =Week12!$N$35 -> 0 | P25: =Week13!$N$35 -> 0 | Q25: =Week14!$N$35 -> 0 | R25: =Week15!$N$35 -> 0 | S25: =Week16!$N$35 -> 0 | T25: =Week17!$N$35 -> 0 | U25: =Week18!$N$35 -> 0 | V25: =Week19!$N$35 -> 0 | W25: =Week20!$N$35 -> 0 | X25: =Week21!$N$35 -> 0 | Y25: =SUM(D25:X25) -> 53
A26: 13 | B26: =Week1!O$1 -> Kopie, G | C26: W | D26: =Week1!$O$34 -> 9 | E26: =Week2!$O$34 -> 4 | F26: =Week3!$O$34 -> 7 | G26: =Week4!$O$34 -> 6 | H26: =Week5!$O$34 -> 10 | I26: =Week6!$O$34 -> 4 | J26: =Week7!$O$34 -> 8 | K26: =Week8!$O$34 -> 0 | L26: =Week9!$O$34 -> 0 | M26: =Week10!$O$34 -> 0 | N26: =Week11!$O$34 -> 0 | O26: =Week12!$O$34 -> 0 | P26: =Week13!$O$34 -> 0 | Q26: =Week14!$O$34 -> 0 | R26: =Week15!$O$34 -> 0 | S26: =Week16!$O$34 -> 0 | T26: =Week17!$O$34 -> 0 | U26: =Week18!$O$34 -> 0 | V26: =Week19!$O$34 -> 0 | W26: =Week20!$O$34 -> 0 | X26: =Week21!$O$34 -> 0 | Y26: =SUM(D26:X26) -> 48 | Z26: =Y26/(Y26+Y27) -> 0.47524752
C27: L | D27: =Week1!$O$35 -> 7 | E27: =Week2!$O$35 -> 11 | F27: =Week3!$O$35 -> 8 | G27: =Week4!$O$35 -> 9 | H27: =Week5!$O$35 -> 4 | I27: =Week6!$O$35 -> 9 | J27: =Week7!$O$35 -> 5 | K27: =Week8!$O$35 -> 0 | L27: =Week9!$O$35 -> 0 | M27: =Week10!$O$35 -> 0 | N27: =Week11!$O$35 -> 0 | O27: =Week12!$O$35 -> 0 | P27: =Week13!$O$35 -> 0 | Q27: =Week14!$O$35 -> 0 | R27: =Week15!$O$35 -> 0 | S27: =Week16!$O$35 -> 0 | T27: =Week17!$O$35 -> 0 | U27: =Week18!$O$35 -> 0 | V27: =Week19!$O$35 -> 0 | W27: =Week20!$O$35 -> 0 | X27: =Week21!$O$35 -> 0 | Y27: =SUM(D27:X27) -> 53
A28: 14 | B28: =Week1!P$1 -> Jen S | C28: W | D28: =Week1!$P$34 -> 10 | E28: =Week2!$P$34 -> 5 | F28: =Week3!$P$34 -> 10 | G28: =Week4!$P$34 -> 5 | H28: =Week5!$P$34 -> 7 | I28: =Week6!$P$34 -> 4 | J28: =Week7!$P$34 -> 5 | K28: =Week8!$P$34 -> 0 | L28: =Week9!$P$34 -> 0 | M28: =Week10!$P$34 -> 0 | N28: =Week11!$P$34 -> 0 | O28: =Week12!$P$34 -> 0 | P28: =Week13!$P$34 -> 0 | Q28: =Week14!$P$34 -> 0 | R28: =Week15!$P$34 -> 0 | S28: =Week16!$P$34 -> 0 | T28: =Week17!$P$34 -> 0 | U28: =Week18!$P$34 -> 0 | V28: =Week19!$P$34 -> 0 | W28: =Week20!$P$34 -> 0 | X28: =Week21!$P$34 -> 0 | Y28: =SUM(D28:X28) -> 46 | Z28: =Y28/(Y28+Y29) -> 0.45544554
C29: L | D29: =Week1!$P$35 -> 6 | E29: =Week2!$P$35 -> 10 | F29: =Week3!$P$35 -> 5 | G29: =Week4!$P$35 -> 10 | H29: =Week5!$P$35 -> 7 | I29: =Week6!$P$35 -> 9 | J29: =Week7!$P$35 -> 8 | K29: =Week8!$P$35 -> 0 | L29: =Week9!$P$35 -> 0 | M29: =Week10!$P$35 -> 0 | N29: =Week11!$P$35 -> 0 | O29: =Week12!$P$35 -> 0 | P29: =Week13!$P$35 -> 0 | Q29: =Week14!$P$35 -> 0 | R29: =Week15!$P$35 -> 0 | S29: =Week16!$P$35 -> 0 | T29: =Week17!$P$35 -> 0 | U29: =Week18!$P$35 -> 0 | V29: =Week19!$P$35 -> 0 | W29: =Week20!$P$35 -> 0 | X29: =Week21!$P$35 -> 0 | Y29: =SUM(D29:X29) -> 55
A30: 15 | B30: =Week1!Q$1 -> Megan M. | C30: W | D30: =Week1!$Q$34 -> 6 | E30: =Week2!$Q$34 -> 6 | F30: =Week3!$Q$34 -> 6 | G30: =Week4!$Q$34 -> 8 | H30: =Week5!$Q$34 -> 7 | I30: =Week6!$Q$34 -> 5 | J30: =Week7!$Q$34 -> 4 | K30: =Week8!$Q$34 -> 0 | L30: =Week9!$Q$34 -> 0 | M30: =Week10!$Q$34 -> 0 | N30: =Week11!$Q$34 -> 0 | O30: =Week12!$Q$34 -> 0 | P30: =Week13!$Q$34 -> 0 | Q30: =Week14!$Q$34 -> 0 | R30: =Week15!$Q$34 -> 0 | S30: =Week16!$Q$34 -> 0 | T30: =Week17!$Q$34 -> 0 | U30: =Week18!$Q$34 -> 0 | V30: =Week19!$Q$34 -> 0 | W30: =Week20!$Q$34 -> 0 | X30: =Week21!$Q$34 -> 0 | Y30: =SUM(D30:X30) -> 42 | Z30: =Y30/(Y30+Y31) -> 0.41584158
C31: L | D31: =Week1!$Q$35 -> 10 | E31: =Week2!$Q$35 -> 9 | F31: =Week3!$Q$35 -> 9 | G31: =Week4!$Q$35 -> 7 | H31: =Week5!$Q$35 -> 7 | I31: =Week6!$Q$35 -> 8 | J31: =Week7!$Q$35 -> 9 | K31: =Week8!$Q$35 -> 0 | L31: =Week9!$Q$35 -> 0 | M31: =Week10!$Q$35 -> 0 | N31: =Week11!$Q$35 -> 0 | O31: =Week12!$Q$35 -> 0 | P31: =Week13!$Q$35 -> 0 | Q31: =Week14!$Q$35 -> 0 | R31: =Week15!$Q$35 -> 0 | S31: =Week16!$Q$35 -> 0 | T31: =Week17!$Q$35 -> 0 | U31: =Week18!$Q$35 -> 0 | V31: =Week19!$Q$35 -> 0 | W31: =Week20!$Q$35 -> 0 | X31: =Week21!$Q$35 -> 0 | Y31: =SUM(D31:X31) -> 59
A32: 16 | B32: =Week1!R$1 -> Sackey, R | C32: W | D32: =Week1!$R$34 -> 7 | E32: =Week2!$R$34 -> 2 | F32: =Week3!$R$34 -> 8 | G32: =Week4!$R$34 -> 7 | H32: =Week5!$R$34 -> 7 | I32: =Week6!$R$34 -> 5 | J32: =Week7!$R$34 -> 4 | K32: =Week8!$R$34 -> 0 | L32: =Week9!$R$34 -> 0 | M32: =Week10!$R$34 -> 0 | N32: =Week11!$R$34 -> 0 | O32: =Week12!$R$34 -> 0 | P32: =Week13!$R$34 -> 0 | Q32: =Week14!$R$34 -> 0 | R32: =Week15!$R$34 -> 0 | S32: =Week16!$R$34 -> 0 | T32: =Week17!$R$34 -> 0 | U32: =Week18!$R$34 -> 0 | V32: =Week19!$R$34 -> 0 | W32: =Week20!$R$34 -> 0 | X32: =Week21!$R$34 -> 0 | Y32: =SUM(D32:X32) -> 40 | Z32: =Y32/(Y32+Y33) -> 0.3960396
C33: L | D33: =Week1!$R$35 -> 9 | E33: =Week2!$R$35 -> 13 | F33: =Week3!$R$35 -> 7 | G33: =Week4!$R$35 -> 8 | H33: =Week5!$R$35 -> 7 | I33: =Week6!$R$35 -> 8 | J33: =Week7!$R$35 -> 9 | K33: =Week8!$R$35 -> 0 | L33: =Week9!$R$35 -> 0 | M33: =Week10!$R$35 -> 0 | N33: =Week11!$R$35 -> 0 | O33: =Week12!$R$35 -> 0 | P33: =Week13!$R$35 -> 0 | Q33: =Week14!$R$35 -> 0 | R33: =Week15!$R$35 -> 0 | S33: =Week16!$R$35 -> 0 | T33: =Week17!$R$35 -> 0 | U33: =Week18!$R$35 -> 0 | V33: =Week19!$R$35 -> 0 | W33: =Week20!$R$35 -> 0 | X33: =Week21!$R$35 -> 0 | Y33: =SUM(D33:X33) -> 61
A34: 17 | B34: =Week1!S$1 -> Greenwell, C | C34: W | D34: =Week2!$S$34 -> 6 | E34: =Week2!$S$34 -> 6 | F34: =Week3!$S$34 -> 6 | G34: =Week4!$S$34 -> 7 | H34: =Week5!$S$34 -> 7 | I34: =Week6!$S$34 -> 5 | J34: =Week7!$S$34 -> 5 | K34: =Week8!$S$34 -> 0 | L34: =Week9!$S$34 -> 0 | M34: =Week10!$S$34 -> 0 | N34: =Week11!$S$34 -> 0 | O34: =Week12!$S$34 -> 0 | P34: =Week13!$S$34 -> 0 | Q34: =Week14!$S$34 -> 0 | R34: =Week15!$S$34 -> 0 | S34: =Week16!$S$34 -> 0 | T34: =Week17!$S$34 -> 0 | U34: =Week18!$S$34 -> 0 | V34: =Week19!$S$34 -> 0 | W34: =Week20!$S$34 -> 0 | X34: =Week21!$S$34 -> 0 | Y34: =SUM(D34:X34) -> 42 | Z34: =Y34/(Y34+Y35) -> 0.42
C35: L | D35: =Week2!$S$35 -> 9 | E35: =Week2!$S$35 -> 9 | F35: =Week3!$S$35 -> 9 | G35: =Week4!$S$35 -> 8 | H35: =Week5!$S$35 -> 7 | I35: =Week6!$S$35 -> 8 | J35: =Week7!$S$35 -> 8 | K35: =Week8!$S$35 -> 0 | L35: =Week9!$S$35 -> 0 | M35: =Week10!$S$35 -> 0 | N35: =Week11!$S$35 -> 0 | O35: =Week12!$S$35 -> 0 | P35: =Week13!$S$35 -> 0 | Q35: =Week14!$S$35 -> 0 | R35: =Week15!$S$35 -> 0 | S35: =Week16!$S$35 -> 0 | T35: =Week17!$S$35 -> 0 | U35: =Week18!$S$35 -> 0 | V35: =Week19!$S$35 -> 0 | W35: =Week20!$S$35 -> 0 | X35: =Week21!$S$35 -> 0 | Y35: =SUM(D35:X35) -> 58
A36: 18 | B36: =Week1!T$1 -> Karolyn B. | C36: W | D36: =Week1!$T$34 -> 7 | E36: =Week2!$T$34 -> 4 | F36: =Week3!$T$34 -> 9 | G36: =Week4!$T$34 -> 5 | H36: =Week5!$T$34 -> 7 | I36: =Week6!$T$34 -> 5 | J36: =Week7!$T$34 -> 6 | K36: =Week8!$T$34 -> 0 | L36: =Week9!$T$34 -> 0 | M36: =Week10!$T$34 -> 0 | N36: =Week11!$T$34 -> 0 | O36: =Week12!$T$34 -> 0 | P36: =Week13!$T$34 -> 0 | Q36: =Week14!$T$34 -> 0 | R36: =Week15!$T$34 -> 0 | S36: =Week16!$T$34 -> 0 | T36: =Week17!$T$34 -> 0 | U36: =Week18!$T$34 -> 0 | V36: =Week19!$T$34 -> 0 | W36: =Week20!$T$34 -> 0 | X36: =Week21!$T$34 -> 0 | Y36: =SUM(D36:X36) -> 43 | Z36: =Y36/(Y36+Y37) -> 0.42574257
C37: L | D37: =Week1!$T$35 -> 9 | E37: =Week2!$T$35 -> 11 | F37: =Week3!$T$35 -> 6 | G37: =Week4!$T$35 -> 10 | H37: =Week5!$T$35 -> 7 | I37: =Week6!$T$35 -> 8 | J37: =Week7!$T$35 -> 7 | K37: =Week8!$T$35 -> 0 | L37: =Week9!$T$35 -> 0 | M37: =Week10!$T$35 -> 0 | N37: =Week11!$T$35 -> 0 | O37: =Week12!$T$35 -> 0 | P37: =Week13!$T$35 -> 0 | Q37: =Week14!$T$35 -> 0 | R37: =Week15!$T$35 -> 0 | S37: =Week16!$T$35 -> 0 | T37: =Week17!$T$35 -> 0 | U37: =Week18!$T$35 -> 0 | V37: =Week19!$T$35 -> 0 | W37: =Week20!$T$35 -> 0 | X37: =Week21!$T$35 -> 0 | Y37: =SUM(D37:X37) -> 58
A38: 19 | B38: =Week1!U$1 -> McKenna, M | C38: W | D38: =Week1!$U$34 -> 8 | E38: =Week2!$U$34 -> 7 | F38: =Week3!$U$34 -> 6 | G38: =Week4!$U$34 -> 5 | H38: =Week5!$U$34 -> 10 | I38: =Week6!$U$34 -> 7 | J38: =Week7!$U$34 -> 7 | K38: =Week8!$U$34 -> 0 | L38: =Week9!$U$34 -> 0 | M38: =Week10!$U$34 -> 0 | N38: =Week11!$U$34 -> 0 | O38: =Week12!$U$34 -> 0 | P38: =Week13!$U$34 -> 0 | Q38: =Week14!$U$34 -> 0 | R38: =Week15!$U$34 -> 0 | S38: =Week16!$U$34 -> 0 | T38: =Week17!$U$34 -> 0 | U38: =Week18!$U$34 -> 0 | V38: =Week19!$U$34 -> 0 | W38: =Week20!$U$34 -> 0 | X38: =Week21!$U$34 -> 0 | Y38: =SUM(D38:X38) -> 50 | Z38: =Y38/(Y38+Y39) -> 0.4950495
C39: L | D39: =Week1!$U$35 -> 8 | E39: =Week2!$U$35 -> 8 | F39: =Week3!$U$35 -> 9 | G39: =Week4!$U$35 -> 10 | H39: =Week5!$U$35 -> 4 | I39: =Week6!$U$35 -> 6 | J39: =Week7!$U$35 -> 6 | K39: =Week8!$U$35 -> 0 | L39: =Week9!$U$35 -> 0 | M39: =Week10!$U$35 -> 0 | N39: =Week11!$U$35 -> 0 | O39: =Week12!$U$35 -> 0 | P39: =Week13!$U$35 -> 0 | Q39: =Week14!$U$35 -> 0 | R39: =Week15!$U$35 -> 0 | S39: =Week16!$U$35 -> 0 | T39: =Week17!$U$35 -> 0 | U39: =Week18!$U$35 -> 0 | V39: =Week19!$U$35 -> 0 | W39: =Week20!$U$35 -> 0 | X39: =Week21!$U$35 -> 0 | Y39: =SUM(D39:X39) -> 51
A40: 20 | B40: =Week1!V$1 -> McKenna, P | C40: W | D40: =Week1!$V$34 -> 11 | E40: =Week2!$V$34 -> 6 | F40: =Week3!$V$34 -> 9 | G40: =Week4!$V$34 -> 7 | H40: =Week5!$V$34 -> 6 | I40: =Week6!$V$34 -> 10 | J40: =Week7!$V$34 -> 7 | K40: =Week8!$V$34 -> 0 | L40: =Week9!$V$34 -> 0 | M40: =Week10!$V$34 -> 0 | N40: =Week11!$V$34 -> 0 | O40: =Week12!$V$34 -> 0 | P40: =Week13!$V$34 -> 0 | Q40: =Week14!$V$34 -> 0 | R40: =Week15!$V$34 -> 0 | S40: =Week16!$V$34 -> 0 | T40: =Week17!$V$34 -> 0 | U40: =Week18!$V$34 -> 0 | V40: =Week19!$V$34 -> 0 | W40: =Week20!$V$34 -> 0 | X40: =Week21!$V$34 -> 0 | Y40: =SUM(D40:X40) -> 56 | Z40: =Y40/(Y40+Y41) -> 0.55445545
C41: L | D41: =Week1!$V$35 -> 5 | E41: =Week2!$V$35 -> 9 | F41: =Week3!$V$35 -> 6 | G41: =Week4!$V$35 -> 8 | H41: =Week5!$V$35 -> 8 | I41: =Week6!$V$35 -> 3 | J41: =Week7!$V$35 -> 6 | K41: =Week8!$V$35 -> 0 | L41: =Week9!$V$35 -> 0 | M41: =Week10!$V$35 -> 0 | N41: =Week11!$V$35 -> 0 | O41: =Week12!$V$35 -> 0 | P41: =Week13!$V$35 -> 0 | Q41: =Week14!$V$35 -> 0 | R41: =Week15!$V$35 -> 0 | S41: =Week16!$V$35 -> 0 | T41: =Week17!$V$35 -> 0 | U41: =Week18!$V$35 -> 0 | V41: =Week19!$V$35 -> 0 | W41: =Week20!$V$35 -> 0 | X41: =Week21!$V$35 -> 0 | Y41: =SUM(D41:X41) -> 45
A42: 21 | B42: =Week1!W$1 -> Thompson, J | C42: W | D42: =Week1!$W$34 -> 8 | E42: =Week2!$W$34 -> 8 | F42: =Week3!$W$34 -> 5 | G42: =Week4!$W$34 -> 9 | H42: =Week5!$W$34 -> 9 | I42: =Week6!$W$34 -> 5 | J42: =Week7!$W$34 -> 4 | K42: =Week8!$W$34 -> 0 | L42: =Week9!$W$34 -> 0 | M42: =Week10!$W$34 -> 0 | N42: =Week11!$W$34 -> 0 | O42: =Week12!$W$34 -> 0 | P42: =Week13!$W$34 -> 0 | Q42: =Week14!$W$34 -> 0 | R42: =Week15!$W$34 -> 0 | S42: =Week16!$W$34 -> 0 | T42: =Week17!$W$34 -> 0 | U42: =Week18!$W$34 -> 0 | V42: =Week19!$W$34 -> 0 | W42: =Week20!$W$34 -> 0 | X42: =Week21!$W$34 -> 0 | Y42: =SUM(D42:X42) -> 48 | Z42: =Y42/(Y42+Y43) -> 0.47524752
C43: L | D43: =Week1!$W$35 -> 8 | E43: =Week2!$W$35 -> 7 | F43: =Week3!$W$35 -> 10 | G43: =Week4!$W$35 -> 6 | H43: =Week5!$W$35 -> 5 | I43: =Week6!$W$35 -> 8 | J43: =Week7!$W$35 -> 9 | K43: =Week8!$W$35 -> 0 | L43: =Week9!$W$35 -> 0 | M43: =Week10!$W$35 -> 0 | N43: =Week11!$W$35 -> 0 | O43: =Week12!$W$35 -> 0 | P43: =Week13!$W$35 -> 0 | Q43: =Week14!$W$35 -> 0 | R43: =Week15!$W$35 -> 0 | S43: =Week16!$W$35 -> 0 | T43: =Week17!$W$35 -> 0 | U43: =Week18!$W$35 -> 0 | V43: =Week19!$W$35 -> 0 | W43: =Week20!$W$35 -> 0 | X43: =Week21!$W$35 -> 0 | Y43: =SUM(D43:X43) -> 53
A44: 22 | B44: =Week1!X$1 -> Biggs, M | C44: W | D44: =Week1!$X$34 -> 11 | E44: =Week2!$X$34 -> 10 | F44: =Week3!$X$34 -> 5 | G44: =Week4!$X$34 -> 6 | H44: =Week5!$X$34 -> 9 | I44: =Week6!$X$34 -> 6 | J44: =Week7!$X$34 -> 11 | K44: =Week8!$X$34 -> 0 | L44: =Week9!$X$34 -> 0 | M44: =Week10!$X$34 -> 0 | N44: =Week11!$X$34 -> 0 | O44: =Week12!$X$34 -> 0 | P44: =Week13!$X$34 -> 0 | Q44: =Week14!$X$34 -> 0 | R44: =Week15!$X$34 -> 0 | S44: =Week16!$X$34 -> 0 | T44: =Week17!$X$34 -> 0 | U44: =Week18!$X$34 -> 0 | V44: =Week19!$X$34 -> 0 | W44: =Week20!$X$34 -> 0 | X44: =Week21!$X$34 -> 0 | Y44: =SUM(D44:X44) -> 58 | Z44: =Y44/(Y44+Y45) -> 0.57425743
C45: L | D45: =Week1!$X$35 -> 5 | E45: =Week2!$X$35 -> 5 | F45: =Week3!$X$35 -> 10 | G45: =Week4!$X$35 -> 9 | H45: =Week5!$X$35 -> 5 | I45: =Week6!$X$35 -> 7 | J45: =Week7!$X$35 -> 2 | K45: =Week8!$X$35 -> 0 | L45: =Week9!$X$35 -> 0 | M45: =Week10!$X$35 -> 0 | N45: =Week11!$X$35 -> 0 | O45: =Week12!$X$35 -> 0 | P45: =Week13!$X$35 -> 0 | Q45: =Week14!$X$35 -> 0 | R45: =Week15!$X$35 -> 0 | S45: =Week16!$X$35 -> 0 | T45: =Week17!$X$35 -> 0 | U45: =Week18!$X$35 -> 0 | V45: =Week19!$X$35 -> 0 | W45: =Week20!$X$35 -> 0 | X45: =Week21!$X$35 -> 0 | Y45: =SUM(D45:X45) -> 43
A46: 23 | B46: =Week1!Y$1 -> Nina I | C46: W | D46: =Week1!$Y$34 -> 12 | E46: =Week2!$Y$34 -> 4 | F46: =Week3!$Y$34 -> 8 | G46: =Week4!$Y$34 -> 7 | H46: =Week5!$Y$34 -> 7 | I46: =Week6!$Y$34 -> 4 | J46: =Week7!$Y$34 -> 7 | K46: =Week8!$Y$34 -> 0 | L46: =Week9!$Y$34 -> 0 | M46: =Week10!$Y$34 -> 0 | N46: =Week11!$Y$34 -> 0 | O46: =Week12!$Y$34 -> 0 | P46: =Week13!$Y$34 -> 0 | Q46: =Week14!$Y$34 -> 0 | R46: =Week15!$Y$34 -> 0 | S46: =Week16!$Y$34 -> 0 | T46: =Week17!$Y$34 -> 0 | U46: =Week18!$Y$34 -> 0 | V46: =Week19!$Y$34 -> 0 | W46: =Week20!$Y$34 -> 0 | X46: =Week21!$Y$34 -> 0 | Y46: =SUM(D46:X46) -> 49 | Z46: =Y46/(Y46+Y47) -> 0.48514851
C47: L | D47: =Week1!$Y$35 -> 4 | E47: =Week2!$Y$35 -> 11 | F47: =Week3!$Y$35 -> 7 | G47: =Week4!$Y$35 -> 8 | H47: =Week5!$Y$35 -> 7 | I47: =Week6!$Y$35 -> 9 | J47: =Week7!$Y$35 -> 6 | K47: =Week8!$Y$35 -> 0 | L47: =Week9!$Y$35 -> 0 | M47: =Week10!$Y$35 -> 0 | N47: =Week11!$Y$35 -> 0 | O47: =Week12!$Y$35 -> 0 | P47: =Week13!$Y$35 -> 0 | Q47: =Week14!$Y$35 -> 0 | R47: =Week15!$Y$35 -> 0 | S47: =Week16!$Y$35 -> 0 | T47: =Week17!$Y$35 -> 0 | U47: =Week18!$Y$35 -> 0 | V47: =Week19!$Y$35 -> 0 | W47: =Week20!$Y$35 -> 0 | X47: =Week21!$Y$35 -> 0 | Y47: =SUM(D47:X47) -> 52
A48: 24 | B48: =Week1!Z$1 -> Conticello, A | C48: W | D48: =Week1!$Z$34 -> 10 | E48: =Week2!$Z$34 -> 7 | F48: =Week3!$Z$34 -> 7 | G48: =Week4!$Z$34 -> 6 | H48: =Week5!$Z$34 -> 7 | I48: =Week6!$Z$34 -> 8 | J48: =Week7!$Z$34 -> 6 | K48: =Week8!$Z$34 -> 0 | L48: =Week9!$Z$34 -> 0 | M48: =Week10!$Z$34 -> 0 | N48: =Week11!$Z$34 -> 0 | O48: =Week12!$Z$34 -> 0 | P48: =Week13!$Z$34 -> 0 | Q48: =Week14!$Z$34 -> 0 | R48: =Week15!$Z$34 -> 0 | S48: =Week16!$Z$34 -> 0 | T48: =Week17!$Z$34 -> 0 | U48: =Week18!$Z$34 -> 0 | V48: =Week19!$Z$34 -> 0 | W48: =Week20!$Z$34 -> 0 | X48: =Week21!$Z$34 -> 0 | Y48: =SUM(D48:X48) -> 51 | Z48: =Y48/(Y48+Y49) -> 0.5049505
C49: L | D49: =Week1!$Z$35 -> 6 | E49: =Week2!$Z$35 -> 8 | F49: =Week3!$Z$35 -> 8 | G49: =Week4!$Z$35 -> 9 | H49: =Week5!$Z$35 -> 7 | I49: =Week6!$Z$35 -> 5 | J49: =Week7!$Z$35 -> 7 | K49: =Week8!$Z$35 -> 0 | L49: =Week9!$Z$35 -> 0 | M49: =Week10!$Z$35 -> 0 | N49: =Week11!$Z$35 -> 0 | O49: =Week12!$Z$35 -> 0 | P49: =Week13!$Z$35 -> 0 | Q49: =Week14!$Z$35 -> 0 | R49: =Week15!$Z$35 -> 0 | S49: =Week16!$Z$35 -> 0 | T49: =Week17!$Z$35 -> 0 | U49: =Week18!$Z$35 -> 0 | V49: =Week19!$Z$35 -> 0 | W49: =Week20!$Z$35 -> 0 | X49: =Week21!$Z$35 -> 0 | Y49: =SUM(D49:X49) -> 50
A50: 25 | B50: =Week1!AA$1 -> Matthews, D | C50: W | D50: =Week1!$AA$34 -> 9 | E50: =Week2!$AA$34 -> 4 | F50: =Week3!$AA$34 -> 6 | G50: =Week4!$AA$34 -> 7 | H50: =Week5!$AA$34 -> 9 | I50: =Week6!$AA$34 -> 7 | J50: =Week7!$AA$34 -> 3 | K50: =Week8!$AA$34 -> 0 | L50: =Week9!$AA$34 -> 0 | M50: =Week10!$AA$34 -> 0 | N50: =Week11!$AA$34 -> 0 | O50: =Week12!$AA$34 -> 0 | P50: =Week13!$AA$34 -> 0 | Q50: =Week14!$AA$34 -> 0 | R50: =Week15!$AA$34 -> 0 | S50: =Week16!$AA$34 -> 0 | T50: =Week17!$AA$34 -> 0 | U50: =Week18!$AA$34 -> 0 | V50: =Week19!$AA$34 -> 0 | W50: =Week20!$AA$34 -> 0 | X50: =Week21!$AA$34 -> 0 | Y50: =SUM(D50:X50) -> 45 | Z50: =Y50/(Y50+Y51) -> 0.44554455
C51: L | D51: =Week1!$AA$35 -> 7 | E51: =Week2!$AA$35 -> 11 | F51: =Week3!$AA$35 -> 9 | G51: =Week4!$AA$35 -> 8 | H51: =Week5!$AA$35 -> 5 | I51: =Week6!$AA$35 -> 6 | J51: =Week7!$AA$35 -> 10 | K51: =Week8!$AA$35 -> 0 | L51: =Week9!$AA$35 -> 0 | M51: =Week10!$AA$35 -> 0 | N51: =Week11!$AA$35 -> 0 | O51: =Week12!$AA$35 -> 0 | P51: =Week13!$AA$35 -> 0 | Q51: =Week14!$AA$35 -> 0 | R51: =Week15!$AA$35 -> 0 | S51: =Week16!$AA$35 -> 0 | T51: =Week17!$AA$35 -> 0 | U51: =Week18!$AA$35 -> 0 | V51: =Week19!$AA$35 -> 0 | W51: =Week20!$AA$35 -> 0 | X51: =Week21!$AA$35 -> 0 | Y51: =SUM(D51:X51) -> 56
A52: 26 | B52: =Week1!AB$1 -> McCormick, C | C52: W | D52: =Week1!$AB$34 -> 8 | E52: =Week2!$AB$34 -> 9 | F52: =Week3!$AB$34 -> 8 | G52: =Week4!$AB$34 -> 3 | H52: =Week5!$AB$34 -> 5 | I52: =Week6!$AB$34 -> 7 | J52: =Week7!$AB$34 -> 5 | K52: =Week8!$AB$34 -> 0 | L52: =Week9!$AB$34 -> 0 | M52: =Week10!$AB$34 -> 0 | N52: =Week11!$AB$34 -> 0 | O52: =Week12!$AB$34 -> 0 | P52: =Week13!$AB$34 -> 0 | Q52: =Week14!$AB$34 -> 0 | R52: =Week15!$AB$34 -> 0 | S52: =Week16!$AB$34 -> 0 | T52: =Week17!$AB$34 -> 0 | U52: =Week18!$AB$34 -> 0 | V52: =Week19!$AB$34 -> 0 | W52: =Week20!$AB$34 -> 0 | X52: =Week21!$AB$34 -> 0 | Y52: =SUM(D52:X52) -> 45 | Z52: =Y52/(Y52+Y53) -> 0.44554455
C53: L | D53: =Week1!$AB$35 -> 8 | E53: =Week2!$AB$35 -> 6 | F53: =Week3!$AB$35 -> 7 | G53: =Week4!$AB$35 -> 12 | H53: =Week5!$AB$35 -> 9 | I53: =Week6!$AB$35 -> 6 | J53: =Week7!$AB$35 -> 8 | K53: =Week8!$AB$35 -> 0 | L53: =Week9!$AB$35 -> 0 | M53: =Week10!$AB$35 -> 0 | N53: =Week11!$AB$35 -> 0 | O53: =Week12!$AB$35 -> 0 | P53: =Week13!$AB$35 -> 0 | Q53: =Week14!$AB$35 -> 0 | R53: =Week15!$AB$35 -> 0 | S53: =Week16!$AB$35 -> 0 | T53: =Week17!$AB$35 -> 0 | U53: =Week18!$AB$35 -> 0 | V53: =Week19!$AB$35 -> 0 | W53: =Week20!$AB$35 -> 0 | X53: =Week21!$AB$35 -> 0 | Y53: =SUM(D53:X53) -> 56
A54: 27 | B54: =Week1!AC$1 -> Buckmaster | C54: W | D54: =Week1!$AC$34 -> 9 | E54: =Week2!$AC$34 -> 7 | F54: =Week3!$AC$34 -> 8 | G54: =Week4!$AC$34 -> 5 | H54: =Week5!$AC$34 -> 6 | I54: =Week6!$AC$34 -> 4 | J54: =Week7!$AC$34 -> 5 | K54: =Week8!$AC$34 -> 0 | L54: =Week9!$AC$34 -> 0 | M54: =Week10!$AC$34 -> 0 | N54: =Week11!$AC$34 -> 0 | O54: =Week12!$AC$34 -> 0 | P54: =Week13!$AC$34 -> 0 | Q54: =Week14!$AC$34 -> 0 | R54: =Week15!$AC$34 -> 0 | S54: =Week16!$AC$34 -> 0 | T54: =Week17!$AC$34 -> 0 | U54: =Week18!$AC$34 -> 0 | V54: =Week19!$AC$34 -> 0 | W54: =Week20!$AC$34 -> 0 | X54: =Week21!$AC$34 -> 0 | Y54: =SUM(D54:X54) -> 44 | Z54: =Y54/(Y54+Y55) -> 0.43564356
C55: L | D55: =Week1!$AC$35 -> 7 | E55: =Week2!$AC$35 -> 8 | F55: =Week3!$AC$35 -> 7 | G55: =Week4!$AC$35 -> 10 | H55: =Week5!$AC$35 -> 8 | I55: =Week6!$AC$35 -> 9 | J55: =Week7!$AC$35 -> 8 | K55: =Week8!$AC$35 -> 0 | L55: =Week9!$AC$35 -> 0 | M55: =Week10!$AC$35 -> 0 | N55: =Week11!$AC$35 -> 0 | O55: =Week12!$AC$35 -> 0 | P55: =Week13!$AC$35 -> 0 | Q55: =Week14!$AC$35 -> 0 | R55: =Week15!$AC$35 -> 0 | S55: =Week16!$AC$35 -> 0 | T55: =Week17!$AC$35 -> 0 | U55: =Week18!$AC$35 -> 0 | V55: =Week19!$AC$35 -> 0 | W55: =Week20!$AC$35 -> 0 | X55: =Week21!$AC$35 -> 0 | Y55: =SUM(D55:X55) -> 57
A56: 28 | B56: =Week1!AD$1 -> Reynolds, J | C56: W | D56: =Week1!$AD$34 -> 11 | E56: =Week2!$AD$34 -> 7 | F56: =Week3!$AD$34 -> 9 | G56: =Week4!$AD$34 -> 8 | H56: =Week5!$AD$34 -> 6 | I56: =Week6!$AD$34 -> 7 | J56: =Week7!$AD$34 -> 8 | K56: =Week8!$AD$34 -> 0 | L56: =Week9!$AD$34 -> 0 | M56: =Week10!$AD$34 -> 0 | N56: =Week11!$AD$34 -> 0 | O56: =Week12!$AD$34 -> 0 | P56: =Week13!$AD$34 -> 0 | Q56: =Week14!$AD$34 -> 0 | R56: =Week15!$AD$34 -> 0 | S56: =Week16!$AD$34 -> 0 | T56: =Week17!$AD$34 -> 0 | U56: =Week18!$AD$34 -> 0 | V56: =Week19!$AD$34 -> 0 | W56: =Week20!$AD$34 -> 0 | X56: =Week21!$AD$34 -> 0 | Y56: =SUM(D56:X56) -> 56 | Z56: =Y56/(Y56+Y57) -> 0.55445545
C57: L | D57: =Week1!$AD$35 -> 5 | E57: =Week2!$AD$35 -> 8 | F57: =Week3!$AD$35 -> 6 | G57: =Week4!$AD$35 -> 7 | H57: =Week5!$AD$35 -> 8 | I57: =Week6!$AD$35 -> 6 | J57: =Week7!$AD$35 -> 5 | K57: =Week8!$AD$35 -> 0 | L57: =Week9!$AD$35 -> 0 | M57: =Week10!$AD$35 -> 0 | N57: =Week11!$AD$35 -> 0 | O57: =Week12!$AD$35 -> 0 | P57: =Week13!$AD$35 -> 0 | Q57: =Week14!$AD$35 -> 0 | R57: =Week15!$AD$35 -> 0 | S57: =Week16!$AD$35 -> 0 | T57: =Week17!$AD$35 -> 0 | U57: =Week18!$AD$35 -> 0 | V57: =Week19!$AD$35 -> 0 | W57: =Week20!$AD$35 -> 0 | X57: =Week21!$AD$35 -> 0 | Y57: =SUM(D57:X57) -> 45
A58: 29 | B58: =Week1!AE$1 -> Scrap | C58: W | D58: =Week1!$AE$34 -> 8 | E58: =Week2!$AE$34 -> 7 | F58: =Week3!$AE$34 -> 7 | G58: =Week4!$AE$34 -> 3 | H58: =Week5!$AE$34 -> 7 | I58: =Week6!$AE$34 -> 6 | J58: =Week7!$AE$34 -> 4 | K58: =Week8!$AE$34 -> 0 | L58: =Week9!$AE$34 -> 0 | M58: =Week10!$AE$34 -> 0 | N58: =Week11!$AE$34 -> 0 | O58: =Week12!$AE$34 -> 0 | P58: =Week13!$AE$34 -> 0 | Q58: =Week14!$AE$34 -> 0 | R58: =Week15!$AE$34 -> 0 | S58: =Week16!$AE$34 -> 0 | T58: =Week17!$AE$34 -> 0 | U58: =Week18!$AE$34 -> 0 | V58: =Week19!$AE$34 -> 0 | W58: =Week20!$AE$34 -> 0 | X58: =Week21!$AE$34 -> 0 | Y58: =SUM(D58:X58) -> 42 | Z58: =Y58/(Y58+Y59) -> 0.41584158
C59: L | D59: =Week1!$AE$35 -> 8 | E59: =Week2!$AE$35 -> 8 | F59: =Week3!$AE$35 -> 8 | G59: =Week4!$AE$35 -> 12 | H59: =Week5!$AE$35 -> 7 | I59: =Week6!$AE$35 -> 7 | J59: =Week7!$AE$35 -> 9 | K59: =Week8!$AE$35 -> 0 | L59: =Week9!$AE$35 -> 0 | M59: =Week10!$AE$35 -> 0 | N59: =Week11!$AE$35 -> 0 | O59: =Week12!$AE$35 -> 0 | P59: =Week13!$AE$35 -> 0 | Q59: =Week14!$AE$35 -> 0 | R59: =Week15!$AE$35 -> 0 | S59: =Week16!$AE$35 -> 0 | T59: =Week17!$AE$35 -> 0 | U59: =Week18!$AE$35 -> 0 | V59: =Week19!$AE$35 -> 0 | W59: =Week20!$AE$35 -> 0 | X59: =Week21!$AE$35 -> 0 | Y59: =SUM(D59:X59) -> 59
A60: 30 | B60: =Week1!AF$1 -> McGinnins, S | C60: W | D60: =Week1!$AF$34 -> 10 | E60: =Week2!$AF$34 -> 8 | F60: =Week3!$AF$34 -> 5 | G60: =Week4!$AF$34 -> 6 | H60: =Week5!$AF$34 -> 7 | I60: =Week6!$AF$34 -> 4 | J60: =Week7!$AF$34 -> 6 | K60: =Week8!$AF$34 -> 0 | L60: =Week9!$AF$34 -> 0 | M60: =Week10!$AF$34 -> 0 | N60: =Week11!$AF$34 -> 0 | O60: =Week12!$AF$34 -> 0 | P60: =Week13!$AF$34 -> 0 | Q60: =Week14!$AF$34 -> 0 | R60: =Week15!$AF$34 -> 0 | S60: =Week16!$AF$34 -> 0 | T60: =Week17!$AF$34 -> 0 | U60: =Week18!$AF$34 -> 0 | V60: =Week19!$AF$34 -> 0 | W60: =Week20!$AF$34 -> 0 | X60: =Week21!$AF$34 -> 0 | Y60: =SUM(D60:X60) -> 46 | Z60: =Y60/(Y60+Y61) -> 0.45544554
C61: L | D61: =Week1!$AF$35 -> 6 | E61: =Week2!$AF$35 -> 7 | F61: =Week3!$AF$35 -> 10 | G61: =Week4!$AF$35 -> 9 | H61: =Week5!$AF$35 -> 7 | I61: =Week6!$AF$35 -> 9 | J61: =Week7!$AF$35 -> 7 | K61: =Week8!$AF$35 -> 0 | L61: =Week9!$AF$35 -> 0 | M61: =Week10!$AF$35 -> 0 | N61: =Week11!$AF$35 -> 0 | O61: =Week12!$AF$35 -> 0 | P61: =Week13!$AF$35 -> 0 | Q61: =Week14!$AF$35 -> 0 | R61: =Week15!$AF$35 -> 0 | S61: =Week16!$AF$35 -> 0 | T61: =Week17!$AF$35 -> 0 | U61: =Week18!$AF$35 -> 0 | V61: =Week19!$AF$35 -> 0 | W61: =Week20!$AF$35 -> 0 | X61: =Week21!$AF$35 -> 0 | Y61: =SUM(D61:X61) -> 55
A62: 31 | B62: =Week1!AG$1 -> Patti B | C62: W | D62: =Week1!$AG$34 -> 8 | E62: =Week2!$AG$34 -> 7 | F62: =Week3!$AG$34 -> 6 | G62: =Week4!$AG$34 -> 4 | H62: =Week5!$AG$34 -> 7 | I62: =Week6!$AG$34 -> 5 | J62: =Week7!$AG$34 -> 5 | K62: =Week8!$AG$34 -> 0 | L62: =Week9!$AG$34 -> 0 | M62: =Week10!$AG$34 -> 0 | N62: =Week11!$AG$34 -> 0 | O62: =Week12!$AG$34 -> 0 | P62: =Week13!$AG$34 -> 0 | Q62: =Week14!$AG$34 -> 0 | R62: =Week15!$AG$34 -> 0 | S62: =Week16!$AG$34 -> 0 | T62: =Week17!$AG$34 -> 0 | U62: =Week18!$AG$34 -> 0 | V62: =Week19!$AG$34 -> 0 | W62: =Week20!$AG$34 -> 0 | X62: =Week21!$AG$34 -> 0 | Y62: =SUM(D62:X62) -> 42 | Z62: =Y62/(Y62+Y63) -> 0.41584158
C63: L | D63: =Week1!$AG$35 -> 8 | E63: =Week2!$AG$35 -> 8 | F63: =Week3!$AG$35 -> 9 | G63: =Week4!$AG$35 -> 11 | H63: =Week5!$AG$35 -> 7 | I63: =Week6!$AG$35 -> 8 | J63: =Week7!$AG$35 -> 8 | K63: =Week8!$AG$35 -> 0 | L63: =Week9!$AG$35 -> 0 | M63: =Week10!$AG$35 -> 0 | N63: =Week11!$AG$35 -> 0 | O63: =Week12!$AG$35 -> 0 | P63: =Week13!$AG$35 -> 0 | Q63: =Week14!$AG$35 -> 0 | R63: =Week15!$AG$35 -> 0 | S63: =Week16!$AG$35 -> 0 | T63: =Week17!$AG$35 -> 0 | U63: =Week18!$AG$35 -> 0 | V63: =Week19!$AG$35 -> 0 | W63: =Week20!$AG$35 -> 0 | X63: =Week21!$AG$35 -> 0 | Y63: =SUM(D63:X63) -> 59
A64: 32 | B64: =Week1!AH$1 -> McDevitt, J | C64: W | D64: =Week1!$AH$34 -> 6 | E64: =Week2!$AH$34 -> 4 | F64: =Week3!$AH$34 -> 7 | G64: =Week4!$AH$34 -> 8 | H64: =Week5!$AH$34 -> 9 | I64: =Week6!$AH$34 -> 4 | J64: =Week7!$AH$34 -> 4 | K64: =Week8!$AH$34 -> 0 | L64: =Week9!$AH$34 -> 0 | M64: =Week10!$AH$34 -> 0 | N64: =Week11!$AH$34 -> 0 | O64: =Week12!$AH$34 -> 0 | P64: =Week13!$AH$34 -> 0 | Q64: =Week14!$AH$34 -> 0 | R64: =Week15!$AH$34 -> 0 | S64: =Week16!$AH$34 -> 0 | T64: =Week17!$AH$34 -> 0 | U64: =Week18!$AH$34 -> 0 | V64: =Week19!$AH$34 -> 0 | W64: =Week20!$AH$34 -> 0 | X64: =Week21!$AH$34 -> 0 | Y64: =SUM(D64:X64) -> 42 | Z64: =Y64/(Y64+Y65) -> 0.41584158
C65: L | D65: =Week1!$AH$35 -> 10 | E65: =Week2!$AH$35 -> 11 | F65: =Week3!$AH$35 -> 8 | G65: =Week4!$AH$35 -> 7 | H65: =Week5!$AH$35 -> 5 | I65: =Week6!$AH$35 -> 9 | J65: =Week7!$AH$35 -> 9 | K65: =Week8!$AH$35 -> 0 | L65: =Week9!$AH$35 -> 0 | M65: =Week10!$AH$35 -> 0 | N65: =Week11!$AH$35 -> 0 | O65: =Week12!$AH$35 -> 0 | P65: =Week13!$AH$35 -> 0 | Q65: =Week14!$AH$35 -> 0 | R65: =Week15!$AH$35 -> 0 | S65: =Week16!$AH$35 -> 0 | T65: =Week17!$AH$35 -> 0 | U65: =Week18!$AH$35 -> 0 | V65: =Week19!$AH$35 -> 0 | W65: =Week20!$AH$35 -> 0 | X65: =Week21!$AH$35 -> 0 | Y65: =SUM(D65:X65) -> 59
A66: 33 | B66: =Week1!AI$1 -> Kunkel, D | C66: W | D66: =Week1!$AI$34 -> 9 | E66: =Week2!$AI$34 -> 7 | F66: =Week3!$AI$34 -> 10 | G66: =Week4!$AI$34 -> 7 | H66: =Week5!$AI$34 -> 7 | I66: =Week6!$AI$34 -> 4 | J66: =Week7!$AI$34 -> 9 | K66: =Week8!$AI$34 -> 0 | L66: =Week9!$AI$34 -> 0 | M66: =Week10!$AI$34 -> 0 | N66: =Week11!$AI$34 -> 0 | O66: =Week12!$AI$34 -> 0 | P66: =Week13!$AI$34 -> 0 | Q66: =Week14!$AI$34 -> 0 | R66: =Week15!$AI$34 -> 0 | S66: =Week16!$AI$34 -> 0 | T66: =Week17!$AI$34 -> 0 | U66: =Week18!$AI$34 -> 0 | V66: =Week19!$AI$34 -> 0 | W66: =Week20!$AI$34 -> 0 | X66: =Week21!$AI$34 -> 0 | Y66: =SUM(D66:X66) -> 53 | Z66: =Y66/(Y66+Y67) -> 0.52475248
C67: L | D67: =Week1!$AI$35 -> 7 | E67: =Week2!$AI$35 -> 8 | F67: =Week3!$AI$35 -> 5 | G67: =Week4!$AI$35 -> 8 | H67: =Week5!$AI$35 -> 7 | I67: =Week6!$AI$35 -> 9 | J67: =Week7!$AI$35 -> 4 | K67: =Week8!$AI$35 -> 0 | L67: =Week9!$AI$35 -> 0 | M67: =Week10!$AI$35 -> 0 | N67: =Week11!$AI$35 -> 0 | O67: =Week12!$AI$35 -> 0 | P67: =Week13!$AI$35 -> 0 | Q67: =Week14!$AI$35 -> 0 | R67: =Week15!$AI$35 -> 0 | S67: =Week16!$AI$35 -> 0 | T67: =Week17!$AI$35 -> 0 | U67: =Week18!$AI$35 -> 0 | V67: =Week19!$AI$35 -> 0 | W67: =Week20!$AI$35 -> 0 | X67: =Week21!$AI$35 -> 0 | Y67: =SUM(D67:X67) -> 48
A68: 34 | B68: =Week1!AJ$1 -> Kunkel, N | C68: W | D68: =Week1!$AJ$34 -> 6 | E68: =Week2!$AJ$34 -> 4 | F68: =Week3!$AJ$34 -> 9 | G68: =Week4!$AJ$34 -> 9 | H68: =Week5!$AJ$34 -> 11 | I68: =Week6!$AJ$34 -> 4 | J68: =Week7!$AJ$34 -> 10 | K68: =Week8!$AJ$34 -> 0 | L68: =Week9!$AJ$34 -> 0 | M68: =Week10!$AJ$34 -> 0 | N68: =Week11!$AJ$34 -> 0 | O68: =Week12!$AJ$34 -> 0 | P68: =Week13!$AJ$34 -> 0 | Q68: =Week14!$AJ$34 -> 0 | R68: =Week15!$AJ$34 -> 0 | S68: =Week16!$AJ$34 -> 0 | T68: =Week17!$AJ$34 -> 0 | U68: =Week18!$AJ$34 -> 0 | V68: =Week19!$AJ$34 -> 0 | W68: =Week20!$AJ$34 -> 0 | X68: =Week21!$AJ$34 -> 0 | Y68: =SUM(D68:X68) -> 53 | Z68: =Y68/(Y68+Y69) -> 0.52475248
C69: L | D69: =Week1!$AJ$35 -> 10 | E69: =Week2!$AJ$35 -> 11 | F69: =Week3!$AJ$35 -> 6 | G69: =Week4!$AJ$35 -> 6 | H69: =Week5!$AJ$35 -> 3 | I69: =Week6!$AJ$35 -> 9 | J69: =Week7!$AJ$35 -> 3 | K69: =Week8!$AJ$35 -> 0 | L69: =Week9!$AJ$35 -> 0 | M69: =Week10!$AJ$35 -> 0 | N69: =Week11!$AJ$35 -> 0 | O69: =Week12!$AJ$35 -> 0 | P69: =Week13!$AJ$35 -> 0 | Q69: =Week14!$AJ$35 -> 0 | R69: =Week15!$AJ$35 -> 0 | S69: =Week16!$AJ$35 -> 0 | T69: =Week17!$AJ$35 -> 0 | U69: =Week18!$AJ$35 -> 0 | V69: =Week19!$AJ$35 -> 0 | W69: =Week20!$AJ$35 -> 0 | X69: =Week21!$AJ$35 -> 0 | Y69: =SUM(D69:X69) -> 48
A70: 35 | B70: =Week1!AK$1 -> Saalbach, B | C70: W | D70: =Week1!$AK$34 -> 9 | E70: =Week2!$AK$34 -> 11 | F70: =Week3!$AK$34 -> 9 | G70: =Week4!$AK$34 -> 7 | H70: =Week5!$AK$34 -> 8 | I70: =Week6!$AK$34 -> 9 | J70: =Week7!$AK$34 -> 7 | K70: =Week8!$AK$34 -> 0 | L70: =Week9!$AK$34 -> 0 | M70: =Week10!$AK$34 -> 0 | N70: =Week11!$AK$34 -> 0 | O70: =Week12!$AK$34 -> 0 | P70: =Week13!$AK$34 -> 0 | Q70: =Week14!$AK$34 -> 0 | R70: =Week15!$AK$34 -> 0 | S70: =Week16!$AK$34 -> 0 | T70: =Week17!$AK$34 -> 0 | U70: =Week18!$AK$34 -> 0 | V70: =Week19!$AK$34 -> 0 | W70: =Week20!$AK$34 -> 0 | X70: =Week21!$AK$34 -> 0 | Y70: =SUM(D70:X70) -> 60 | Z70: =Y70/(Y70+Y71) -> 0.59405941
C71: L | D71: =Week1!$AK$35 -> 7 | E71: =Week2!$AK$35 -> 4 | F71: =Week3!$AK$35 -> 6 | G71: =Week4!$AK$35 -> 8 | H71: =Week5!$AK$35 -> 6 | I71: =Week6!$AK$35 -> 4 | J71: =Week7!$AK$35 -> 6 | K71: =Week8!$AK$35 -> 0 | L71: =Week9!$AK$35 -> 0 | M71: =Week10!$AK$35 -> 0 | N71: =Week11!$AK$35 -> 0 | O71: =Week12!$AK$35 -> 0 | P71: =Week13!$AK$35 -> 0 | Q71: =Week14!$AK$35 -> 0 | R71: =Week15!$AK$35 -> 0 | S71: =Week16!$AK$35 -> 0 | T71: =Week17!$AK$35 -> 0 | U71: =Week18!$AK$35 -> 0 | V71: =Week19!$AK$35 -> 0 | W71: =Week20!$AK$35 -> 0 | X71: =Week21!$AK$35 -> 0 | Y71: =SUM(D71:X71) -> 41
A72: 36 | B72: =Week1!AL$1 -> Saalbach, T | C72: W | D72: =Week1!$AL$34 -> 9 | E72: =Week2!$AL$34 -> 5 | F72: =Week3!$AL$34 -> 7 | G72: =Week4!$AL$34 -> 7 | H72: =Week5!$AL$34 -> 9 | I72: =Week6!$AL$34 -> 8 | J72: =Week7!$AL$34 -> 7 | K72: =Week8!$AL$34 -> 0 | L72: =Week9!$AL$34 -> 0 | M72: =Week10!$AL$34 -> 0 | N72: =Week11!$AL$34 -> 0 | O72: =Week12!$AL$34 -> 0 | P72: =Week13!$AL$34 -> 0 | Q72: =Week14!$AL$34 -> 0 | R72: =Week15!$AL$34 -> 0 | S72: =Week16!$AL$34 -> 0 | T72: =Week17!$AL$34 -> 0 | U72: =Week18!$AL$34 -> 0 | V72: =Week19!$AL$34 -> 0 | W72: =Week20!$AL$34 -> 0 | X72: =Week21!$AL$34 -> 0 | Y72: =SUM(D72:X72) -> 52 | Z72: =Y72/(Y72+Y73) -> 0.51485149
C73: L | D73: =Week1!$AL$35 -> 7 | E73: =Week2!$AL$35 -> 10 | F73: =Week3!$AL$35 -> 8 | G73: =Week4!$AL$35 -> 8 | H73: =Week5!$AL$35 -> 5 | I73: =Week6!$AL$35 -> 5 | J73: =Week7!$AL$35 -> 6 | K73: =Week8!$AL$35 -> 0 | L73: =Week9!$AL$35 -> 0 | M73: =Week10!$AL$35 -> 0 | N73: =Week11!$AL$35 -> 0 | O73: =Week12!$AL$35 -> 0 | P73: =Week13!$AL$35 -> 0 | Q73: =Week14!$AL$35 -> 0 | R73: =Week15!$AL$35 -> 0 | S73: =Week16!$AL$35 -> 0 | T73: =Week17!$AL$35 -> 0 | U73: =Week18!$AL$35 -> 0 | V73: =Week19!$AL$35 -> 0 | W73: =Week20!$AL$35 -> 0 | X73: =Week21!$AL$35 -> 0 | Y73: =SUM(D73:X73) -> 49
A74: 37 | B74: =Week1!AM$1 -> Santiago, C | C74: W | D74: =Week1!$AM$34 -> 11 | E74: =Week2!$AM$34 -> 8 | F74: =Week3!$AM$34 -> 8 | G74: =Week4!$AM$34 -> 5 | H74: =Week5!$AM$34 -> 9 | I74: =Week6!$AM$34 -> 4 | J74: =Week7!$AM$34 -> 7 | K74: =Week8!$AM$34 -> 0 | L74: =Week9!$AM$34 -> 0 | M74: =Week10!$AM$34 -> 0 | N74: =Week11!$AM$34 -> 0 | O74: =Week12!$AM$34 -> 0 | P74: =Week13!$AM$34 -> 0 | Q74: =Week14!$AM$34 -> 0 | R74: =Week15!$AM$34 -> 0 | S74: =Week16!$AM$34 -> 0 | T74: =Week17!$AM$34 -> 0 | U74: =Week18!$AM$34 -> 0 | V74: =Week19!$AM$34 -> 0 | W74: =Week20!$AM$34 -> 0 | X74: =Week21!$AM$34 -> 0 | Y74: =SUM(D74:X74) -> 52 | Z74: =Y74/(Y74+Y75) -> 0.51485149
C75: L | D75: =Week1!$AM$35 -> 5 | E75: =Week2!$AM$35 -> 7 | F75: =Week3!$AM$35 -> 7 | G75: =Week4!$AM$35 -> 10 | H75: =Week5!$AM$35 -> 5 | I75: =Week6!$AM$35 -> 9 | J75: =Week7!$AM$35 -> 6 | K75: =Week8!$AM$35 -> 0 | L75: =Week9!$AM$35 -> 0 | M75: =Week10!$AM$35 -> 0 | N75: =Week11!$AM$35 -> 0 | O75: =Week12!$AM$35 -> 0 | P75: =Week13!$AM$35 -> 0 | Q75: =Week14!$AM$35 -> 0 | R75: =Week15!$AM$35 -> 0 | S75: =Week16!$AM$35 -> 0 | T75: =Week17!$AM$35 -> 0 | U75: =Week18!$AM$35 -> 0 | V75: =Week19!$AM$35 -> 0 | W75: =Week20!$AM$35 -> 0 | X75: =Week21!$AM$35 -> 0 | Y75: =SUM(D75:X75) -> 49
A76: 38 | B76: =Week1!AN$1 -> Blank | C76: W | D76: =Week1!$AN$34 -> 8 | E76: =Week2!$AN$34 -> 7 | F76: =Week3!$AN$34 -> 7 | G76: =Week4!$AN$34 -> 5 | H76: =Week5!$AN$34 -> 7 | I76: =Week6!$AN$34 -> 4 | J76: =Week7!$AN$34 -> 6 | K76: =Week8!$AN$34 -> 0 | L76: =Week9!$AN$34 -> 0 | M76: =Week10!$AN$34 -> 0 | N76: =Week11!$AN$34 -> 0 | O76: =Week12!$AN$34 -> 0 | P76: =Week13!$AN$34 -> 0 | Q76: =Week14!$AN$34 -> 0 | R76: =Week15!$AN$34 -> 0 | S76: =Week16!$AN$34 -> 0 | T76: =Week17!$AN$34 -> 0 | U76: =Week18!$AN$34 -> 0 | V76: =Week19!$AN$34 -> 0 | W76: =Week20!$AN$34 -> 0 | X76: =Week21!$AN$34 -> 0 | Y76: =SUM(D76:X76) -> 44 | Z76: =Y76/(Y76+Y77) -> 0.43564356
C77: L | D77: =Week1!$AN$35 -> 8 | E77: =Week2!$AN$35 -> 8 | F77: =Week3!$AN$35 -> 8 | G77: =Week4!$AN$35 -> 10 | H77: =Week5!$AN$35 -> 7 | I77: =Week6!$AN$35 -> 9 | J77: =Week7!$AN$35 -> 7 | K77: =Week8!$AN$35 -> 0 | L77: =Week9!$AN$35 -> 0 | M77: =Week10!$AN$35 -> 0 | N77: =Week11!$AN$35 -> 0 | O77: =Week12!$AN$35 -> 0 | P77: =Week13!$AN$35 -> 0 | Q77: =Week14!$AN$35 -> 0 | R77: =Week15!$AN$35 -> 0 | S77: =Week16!$AN$35 -> 0 | T77: =Week17!$AN$35 -> 0 | U77: =Week18!$AN$35 -> 0 | V77: =Week19!$AN$35 -> 0 | W77: =Week20!$AN$35 -> 0 | X77: =Week21!$AN$35 -> 0 | Y77: =SUM(D77:X77) -> 57
A78: 39 | B78: =Week1!AO$1 -> Quinn, R | C78: W | D78: =Week1!$AO$34 -> 8 | E78: =Week2!$AO$34 -> 8 | F78: =Week3!$AO$34 -> 8 | G78: =Week4!$AO$34 -> 5 | H78: =Week5!$AO$34 -> 5 | I78: =Week6!$AO$34 -> 5 | J78: =Week7!$AO$34 -> 9 | K78: =Week8!$AO$34 -> 0 | L78: =Week9!$AO$34 -> 0 | M78: =Week10!$AO$34 -> 0 | N78: =Week11!$AO$34 -> 0 | O78: =Week12!$AO$34 -> 0 | P78: =Week13!$AO$34 -> 0 | Q78: =Week14!$AO$34 -> 0 | R78: =Week15!$AO$34 -> 0 | S78: =Week16!$AO$34 -> 0 | T78: =Week17!$AO$34 -> 0 | U78: =Week18!$AO$34 -> 0 | V78: =Week19!$AO$34 -> 0 | W78: =Week20!$AO$34 -> 0 | X78: =Week21!$AO$34 -> 0 | Y78: =SUM(D78:X78) -> 48 | Z78: =Y78/(Y78+Y79) -> 0.47524752
C79: L | D79: =Week1!$AO$35 -> 8 | E79: =Week2!$AO$35 -> 7 | F79: =Week3!$AO$35 -> 7 | G79: =Week4!$AO$35 -> 10 | H79: =Week5!$AO$35 -> 9 | I79: =Week6!$AO$35 -> 8 | J79: =Week7!$AO$35 -> 4 | K79: =Week8!$AO$35 -> 0 | L79: =Week9!$AO$35 -> 0 | M79: =Week10!$AO$35 -> 0 | N79: =Week11!$AO$35 -> 0 | O79: =Week12!$AO$35 -> 0 | P79: =Week13!$AO$35 -> 0 | Q79: =Week14!$AO$35 -> 0 | R79: =Week15!$AO$35 -> 0 | S79: =Week16!$AO$35 -> 0 | T79: =Week17!$AO$35 -> 0 | U79: =Week18!$AO$35 -> 0 | V79: =Week19!$AO$35 -> 0 | W79: =Week20!$AO$35 -> 0 | X79: =Week21!$AO$35 -> 0 | Y79: =SUM(D79:X79) -> 53
A80: 40 | B80: =Week1!AP$1 -> Pini, A | C80: W | D80: =Week1!$AP$34 -> 5 | E80: =Week2!$AP$34 -> 6 | F80: =Week3!$AP$34 -> 8 | G80: =Week4!$AP$34 -> 6 | H80: =Week5!$AP$34 -> 9 | I80: =Week6!$AP$34 -> 5 | J80: =Week7!$AP$34 -> 9 | K80: =Week8!$AP$34 -> 0 | L80: =Week9!$AP$34 -> 0 | M80: =Week10!$AP$34 -> 0 | N80: =Week11!$AP$34 -> 0 | O80: =Week12!$AP$34 -> 0 | P80: =Week13!$AP$34 -> 0 | Q80: =Week14!$AP$34 -> 0 | R80: =Week15!$AP$34 -> 0 | S80: =Week16!$AP$34 -> 0 | T80: =Week17!$AP$34 -> 0 | U80: =Week18!$AP$34 -> 0 | V80: =Week19!$AP$34 -> 0 | W80: =Week20!$AP$34 -> 0 | X80: =Week21!$AP$34 -> 0 | Y80: =SUM(D80:X80) -> 48 | Z80: =Y80/(Y80+Y81) -> 0.47524752
C81: L | D81: =Week1!$AP$35 -> 11 | E81: =Week2!$AP$35 -> 9 | F81: =Week3!$AP$35 -> 7 | G81: =Week4!$AP$35 -> 9 | H81: =Week5!$AP$35 -> 5 | I81: =Week6!$AP$35 -> 8 | J81: =Week7!$AP$35 -> 4 | K81: =Week8!$AP$35 -> 0 | L81: =Week9!$AP$35 -> 0 | M81: =Week10!$AP$35 -> 0 | N81: =Week11!$AP$35 -> 0 | O81: =Week12!$AP$35 -> 0 | P81: =Week13!$AP$35 -> 0 | Q81: =Week14!$AP$35 -> 0 | R81: =Week15!$AP$35 -> 0 | S81: =Week16!$AP$35 -> 0 | T81: =Week17!$AP$35 -> 0 | U81: =Week18!$AP$35 -> 0 | V81: =Week19!$AP$35 -> 0 | W81: =Week20!$AP$35 -> 0 | X81: =Week21!$AP$35 -> 0 | Y81: =SUM(D81:X81) -> 53
A82: 41 | B82: =Week1!AQ$1 -> Blank | C82: W | D82: =Week1!$AQ$34 -> 8 | E82: =Week2!$AQ$34 -> 7 | F82: =Week3!$AQ$34 -> 7 | G82: =Week4!$AQ$34 -> 5 | H82: =Week5!$AQ$34 -> 7 | I82: =Week6!$AQ$34 -> 4 | J82: =Week7!$AQ$34 -> 6 | K82: =Week8!$AQ$34 -> 0 | L82: =Week9!$AQ$34 -> 0 | M82: =Week10!$AQ$34 -> 0 | N82: =Week11!$AQ$34 -> 0 | O82: =Week12!$AQ$34 -> 0 | P82: =Week13!$AQ$34 -> 0 | Q82: =Week14!$AQ$34 -> 0 | R82: =Week15!$AQ$34 -> 0 | S82: =Week16!$AQ$34 -> 0 | T82: =Week17!$AQ$34 -> 0 | U82: =Week18!$AQ$34 -> 0 | V82: =Week19!$AQ$34 -> 0 | W82: =Week20!$AQ$34 -> 0 | X82: =Week21!$AQ$34 -> 0 | Y82: =SUM(D82:X82) -> 44 | Z82: =Y82/(Y82+Y83) -> 0.43564356
C83: L | D83: =Week1!$AQ$35 -> 8 | E83: =Week2!$AQ$35 -> 8 | F83: =Week3!$AQ$35 -> 8 | G83: =Week4!$AQ$35 -> 10 | H83: =Week5!$AQ$35 -> 7 | I83: =Week6!$AQ$35 -> 9 | J83: =Week7!$AQ$35 -> 7 | K83: =Week8!$AQ$35 -> 0 | L83: =Week9!$AQ$35 -> 0 | M83: =Week10!$AQ$35 -> 0 | N83: =Week11!$AQ$35 -> 0 | O83: =Week12!$AQ$35 -> 0 | P83: =Week13!$AQ$35 -> 0 | Q83: =Week14!$AQ$35 -> 0 | R83: =Week15!$AQ$35 -> 0 | S83: =Week16!$AQ$35 -> 0 | T83: =Week17!$AQ$35 -> 0 | U83: =Week18!$AQ$35 -> 0 | V83: =Week19!$AQ$35 -> 0 | W83: =Week20!$AQ$35 -> 0 | X83: =Week21!$AQ$35 -> 0 | Y83: =SUM(D83:X83) -> 57
A84: 42 | B84: =Week1!AR$1 -> Blank | C84: W | D84: =Week1!$AR$34 -> 8 | E84: =Week2!$AR$34 -> 7 | F84: =Week3!$AR$34 -> 7 | G84: =Week4!$AR$34 -> 5 | H84: =Week5!$AR$34 -> 7 | I84: =Week6!$AR$34 -> 4 | J84: =Week7!$AR$34 -> 6 | K84: =Week8!$AR$34 -> 0 | L84: =Week9!$AR$34 -> 0 | M84: =Week10!$AR$34 -> 0 | N84: =Week11!$AR$34 -> 0 | O84: =Week12!$AR$34 -> 0 | P84: =Week13!$AR$34 -> 0 | Q84: =Week14!$AR$34 -> 0 | R84: =Week15!$AR$34 -> 0 | S84: =Week16!$AR$34 -> 0 | T84: =Week17!$AR$34 -> 0 | U84: =Week18!$AR$34 -> 0 | V84: =Week19!$AR$34 -> 0 | W84: =Week20!$AR$34 -> 0 | X84: =Week21!$AR$34 -> 0 | Y84: =SUM(D84:X84) -> 44 | Z84: =Y84/(Y84+Y85) -> 0.43564356
C85: L | D85: =Week1!$AR$35 -> 8 | E85: =Week2!$AR$35 -> 8 | F85: =Week3!$AR$35 -> 8 | G85: =Week4!$AR$35 -> 10 | H85: =Week5!$AR$35 -> 7 | I85: =Week6!$AR$35 -> 9 | J85: =Week7!$AR$35 -> 7 | K85: =Week8!$AR$35 -> 0 | L85: =Week9!$AR$35 -> 0 | M85: =Week10!$AR$35 -> 0 | N85: =Week11!$AR$35 -> 0 | O85: =Week12!$AR$35 -> 0 | P85: =Week13!$AR$35 -> 0 | Q85: =Week14!$AR$35 -> 0 | R85: =Week15!$AR$35 -> 0 | S85: =Week16!$AR$35 -> 0 | T85: =Week17!$AR$35 -> 0 | U85: =Week18!$AR$35 -> 0 | V85: =Week19!$AR$35 -> 0 | W85: =Week20!$AR$35 -> 0 | X85: =Week21!$AR$35 -> 0 | Y85: =SUM(D85:X85) -> 57
A86: 43 | B86: =Week1!AS$1 -> Akers, T | C86: W | D86: =Week1!$AS$34 -> 9 | E86: =Week2!$AS$34 -> 10 | F86: =Week3!$AS$34 -> 7 | G86: =Week4!$AS$34 -> 5 | H86: =Week5!$AS$34 -> 10 | I86: =Week6!$AS$34 -> 5 | J86: =Week7!$AS$34 -> 8 | K86: =Week8!$AS$34 -> 0 | L86: =Week9!$AS$34 -> 0 | M86: =Week10!$AS$34 -> 0 | N86: =Week11!$AS$34 -> 0 | O86: =Week12!$AS$34 -> 0 | P86: =Week13!$AS$34 -> 0 | Q86: =Week14!$AS$34 -> 0 | R86: =Week15!$AS$34 -> 0 | S86: =Week16!$AS$34 -> 0 | T86: =Week17!$AS$34 -> 0 | U86: =Week18!$AS$34 -> 0 | V86: =Week19!$AS$34 -> 0 | W86: =Week20!$AS$34 -> 0 | X86: =Week21!$AS$34 -> 0 | Y86: =SUM(D86:X86) -> 54 | Z86: =Y86/(Y86+Y87) -> 0.53465347
C87: L | D87: =Week1!$AS$35 -> 7 | E87: =Week2!$AS$35 -> 5 | F87: =Week3!$AS$35 -> 8 | G87: =Week4!$AS$35 -> 10 | H87: =Week5!$AS$35 -> 4 | I87: =Week6!$AS$35 -> 8 | J87: =Week7!$AS$35 -> 5 | K87: =Week8!$AS$35 -> 0 | L87: =Week9!$AS$35 -> 0 | M87: =Week10!$AS$35 -> 0 | N87: =Week11!$AS$35 -> 0 | O87: =Week12!$AS$35 -> 0 | P87: =Week13!$AS$35 -> 0 | Q87: =Week14!$AS$35 -> 0 | R87: =Week15!$AS$35 -> 0 | S87: =Week16!$AS$35 -> 0 | T87: =Week17!$AS$35 -> 0 | U87: =Week18!$AS$35 -> 0 | V87: =Week19!$AS$35 -> 0 | W87: =Week20!$AS$35 -> 0 | X87: =Week21!$AS$35 -> 0 | Y87: =SUM(D87:X87) -> 47
A88: 44 | B88: =Week1!AT$1 -> Blank | C88: W | D88: =Week1!$AT$34 -> 8 | E88: =Week2!$AT$34 -> 7 | F88: =Week3!$AT$34 -> 7 | G88: =Week4!$AT$34 -> 5 | H88: =Week5!$AT$34 -> 7 | I88: =Week6!$AT$34 -> 4 | J88: =Week7!$AT$34 -> 6 | K88: =Week8!$AT$34 -> 0 | L88: =Week9!$AT$34 -> 0 | M88: =Week10!$AT$34 -> 0 | N88: =Week11!$AT$34 -> 0 | O88: =Week12!$AT$34 -> 0 | P88: =Week13!$AT$34 -> 0 | Q88: =Week14!$AT$34 -> 0 | R88: =Week15!$AT$34 -> 0 | S88: =Week16!$AT$34 -> 0 | T88: =Week17!$AT$34 -> 0 | U88: =Week18!$AT$34 -> 0 | V88: =Week19!$AT$34 -> 0 | W88: =Week20!$AT$34 -> 0 | X88: =Week21!$AT$34 -> 0 | Y88: =SUM(D88:X88) -> 44 | Z88: =Y88/(Y88+Y89) -> 0.43564356
C89: L | D89: =Week1!$AT$35 -> 8 | E89: =Week2!$AT$35 -> 8 | F89: =Week3!$AT$35 -> 8 | G89: =Week4!$AT$35 -> 10 | H89: =Week5!$AT$35 -> 7 | I89: =Week6!$AT$35 -> 9 | J89: =Week7!$AT$35 -> 7 | K89: =Week8!$AT$35 -> 0 | L89: =Week9!$AT$35 -> 0 | M89: =Week10!$AT$35 -> 0 | N89: =Week11!$AT$35 -> 0 | O89: =Week12!$AT$35 -> 0 | P89: =Week13!$AT$35 -> 0 | Q89: =Week14!$AT$35 -> 0 | R89: =Week15!$AT$35 -> 0 | S89: =Week16!$AT$35 -> 0 | T89: =Week17!$AT$35 -> 0 | U89: =Week18!$AT$35 -> 0 | V89: =Week19!$AT$35 -> 0 | W89: =Week20!$AT$35 -> 0 | X89: =Week21!$AT$35 -> 0 | Y89: =SUM(D89:X89) -> 57
A90: 45 | B90: =Week1!AU$1 -> Devores, L | C90: W | D90: =Week1!$AU$34 -> 6 | E90: =Week2!$AU$34 -> 6 | F90: =Week3!$AU$34 -> 5 | G90: =Week4!$AU$34 -> 6 | H90: =Week5!$AU$34 -> 6 | I90: =Week6!$AU$34 -> 7 | J90: =Week7!$AU$34 -> 7 | K90: =Week8!$AU$34 -> 0 | L90: =Week9!$AU$34 -> 0 | M90: =Week10!$AU$34 -> 0 | N90: =Week11!$AU$34 -> 0 | O90: =Week12!$AU$34 -> 0 | P90: =Week13!$AU$34 -> 0 | Q90: =Week14!$AU$34 -> 0 | R90: =Week15!$AU$34 -> 0 | S90: =Week16!$AU$34 -> 0 | T90: =Week17!$AU$34 -> 0 | U90: =Week18!$AU$34 -> 0 | V90: =Week19!$AU$34 -> 0 | W90: =Week20!$AU$34 -> 0 | X90: =Week21!$AU$34 -> 0 | Y90: =SUM(D90:X90) -> 43 | Z90: =Y90/(Y90+Y91) -> 0.42574257
C91: L | D91: =Week1!$AU$35 -> 10 | E91: =Week2!$AU$35 -> 9 | F91: =Week3!$AU$35 -> 10 | G91: =Week4!$AU$35 -> 9 | H91: =Week5!$AU$35 -> 8 | I91: =Week6!$AU$35 -> 6 | J91: =Week7!$AU$35 -> 6 | K91: =Week8!$AU$35 -> 0 | L91: =Week9!$AU$35 -> 0 | M91: =Week10!$AU$35 -> 0 | N91: =Week11!$AU$35 -> 0 | O91: =Week12!$AU$35 -> 0 | P91: =Week13!$AU$35 -> 0 | Q91: =Week14!$AU$35 -> 0 | R91: =Week15!$AU$35 -> 0 | S91: =Week16!$AU$35 -> 0 | T91: =Week17!$AU$35 -> 0 | U91: =Week18!$AU$35 -> 0 | V91: =Week19!$AU$35 -> 0 | W91: =Week20!$AU$35 -> 0 | X91: =Week21!$AU$35 -> 0 | Y91: =SUM(D91:X91) -> 58
A92: 46 | B92: =Week1!AV$1 -> Lundeen, D | C92: W | D92: =Week1!$AV$34 -> 8 | E92: =Week2!$AV$34 -> 7 | F92: =Week3!$AV$34 -> 7 | G92: =Week4!$AV$34 -> 5 | H92: =Week5!$AV$34 -> 8 | I92: =Week6!$AV$34 -> 5 | J92: =Week7!$AV$34 -> 8 | K92: =Week8!$AV$34 -> 0 | L92: =Week9!$AV$34 -> 0 | M92: =Week10!$AV$34 -> 0 | N92: =Week11!$AV$34 -> 0 | O92: =Week12!$AV$34 -> 0 | P92: =Week13!$AV$34 -> 0 | Q92: =Week14!$AV$34 -> 0 | R92: =Week15!$AV$34 -> 0 | S92: =Week16!$AV$34 -> 0 | T92: =Week17!$AV$34 -> 0 | U92: =Week18!$AV$34 -> 0 | V92: =Week19!$AV$34 -> 0 | W92: =Week20!$AV$34 -> 0 | X92: =Week21!$AV$34 -> 0 | Y92: =SUM(D92:X92) -> 48 | Z92: =Y92/(Y92+Y93) -> 0.47524752
C93: L | D93: =Week1!$AV$35 -> 8 | E93: =Week2!$AV$35 -> 8 | F93: =Week3!$AV$35 -> 8 | G93: =Week4!$AV$35 -> 10 | H93: =Week5!$AV$35 -> 6 | I93: =Week6!$AV$35 -> 8 | J93: =Week7!$AV$35 -> 5 | K93: =Week8!$AV$35 -> 0 | L93: =Week9!$AV$35 -> 0 | M93: =Week10!$AV$35 -> 0 | N93: =Week11!$AV$35 -> 0 | O93: =Week12!$AV$35 -> 0 | P93: =Week13!$AV$35 -> 0 | Q93: =Week14!$AV$35 -> 0 | R93: =Week15!$AV$35 -> 0 | S93: =Week16!$AV$35 -> 0 | T93: =Week17!$AV$35 -> 0 | U93: =Week18!$AV$35 -> 0 | V93: =Week19!$AV$35 -> 0 | W93: =Week20!$AV$35 -> 0 | X93: =Week21!$AV$35 -> 0 | Y93: =SUM(D93:X93) -> 53
A94: 47 | B94: =Week1!AW$1 -> Bacote | C94: W | D94: =Week1!$AW$34 -> 9 | E94: =Week2!$AW$34 -> 4 | F94: =Week3!$AW$34 -> 7 | G94: =Week4!$AW$34 -> 8 | H94: =Week5!$AW$34 -> 9 | I94: =Week6!$AW$34 -> 4 | J94: =Week7!$AW$34 -> 7 | K94: =Week8!$AW$34 -> 0 | L94: =Week9!$AW$34 -> 0 | M94: =Week10!$AW$34 -> 0 | N94: =Week11!$AW$34 -> 0 | O94: =Week12!$AW$34 -> 0 | P94: =Week13!$AW$34 -> 0 | Q94: =Week14!$AW$34 -> 0 | R94: =Week15!$AW$34 -> 0 | S94: =Week16!$AW$34 -> 0 | T94: =Week17!$AW$34 -> 0 | U94: =Week18!$AW$34 -> 0 | V94: =Week19!$AW$34 -> 0 | W94: =Week20!$AW$34 -> 0 | X94: =Week21!$AW$34 -> 0 | Y94: =SUM(D94:X94) -> 48 | Z94: =Y94/(Y94+Y95) -> 0.47524752
C95: L | D95: =Week1!$AW$35 -> 7 | E95: =Week2!$AW$35 -> 11 | F95: =Week3!$AW$35 -> 8 | G95: =Week4!$AW$35 -> 7 | H95: =Week5!$AW$35 -> 5 | I95: =Week6!$AW$35 -> 9 | J95: =Week7!$AW$35 -> 6 | K95: =Week8!$AW$35 -> 0 | L95: =Week9!$AW$35 -> 0 | M95: =Week10!$AW$35 -> 0 | N95: =Week11!$AW$35 -> 0 | O95: =Week12!$AW$35 -> 0 | P95: =Week13!$AW$35 -> 0 | Q95: =Week14!$AW$35 -> 0 | R95: =Week15!$AW$35 -> 0 | S95: =Week16!$AW$35 -> 0 | T95: =Week17!$AW$35 -> 0 | U95: =Week18!$AW$35 -> 0 | V95: =Week19!$AW$35 -> 0 | W95: =Week20!$AW$35 -> 0 | X95: =Week21!$AW$35 -> 0 | Y95: =SUM(D95:X95) -> 53
A96: 48 | B96: =Week1!AX$1 -> Weber, N | C96: W | D96: =Week1!$AX$34 -> 12 | E96: =Week2!$AX$34 -> 7 | F96: =Week3!$AX$34 -> 11 | G96: =Week4!$AX$34 -> 5 | H96: =Week5!$AX$34 -> 9 | I96: =Week6!$AX$34 -> 5 | J96: =Week7!$AX$34 -> 6 | K96: =Week8!$AX$34 -> 0 | L96: =Week9!$AX$34 -> 0 | M96: =Week10!$AX$34 -> 0 | N96: =Week11!$AX$34 -> 0 | O96: =Week12!$AX$34 -> 0 | P96: =Week13!$AX$34 -> 0 | Q96: =Week14!$AX$34 -> 0 | R96: =Week15!$AX$34 -> 0 | S96: =Week16!$AX$34 -> 0 | T96: =Week17!$AX$34 -> 0 | U96: =Week18!$AX$34 -> 0 | V96: =Week19!$AX$34 -> 0 | W96: =Week20!$AX$34 -> 0 | X96: =Week21!$AX$34 -> 0 | Y96: =SUM(D96:X96) -> 55 | Z96: =Y96/(Y96+Y97) -> 0.54455446
C97: L | D97: =Week1!$AX$35 -> 4 | E97: =Week2!$AX$35 -> 8 | F97: =Week3!$AX$35 -> 4 | G97: =Week4!$AX$35 -> 10 | H97: =Week5!$AX$35 -> 5 | I97: =Week6!$AX$35 -> 8 | J97: =Week7!$AX$35 -> 7 | K97: =Week8!$AX$35 -> 0 | L97: =Week9!$AX$35 -> 0 | M97: =Week10!$AX$35 -> 0 | N97: =Week11!$AX$35 -> 0 | O97: =Week12!$AX$35 -> 0 | P97: =Week13!$AX$35 -> 0 | Q97: =Week14!$AX$35 -> 0 | R97: =Week15!$AX$35 -> 0 | S97: =Week16!$AX$35 -> 0 | T97: =Week17!$AX$35 -> 0 | U97: =Week18!$AX$35 -> 0 | V97: =Week19!$AX$35 -> 0 | W97: =Week20!$AX$35 -> 0 | X97: =Week21!$AX$35 -> 0 | Y97: =SUM(D97:X97) -> 46
A98: 49 | B98: =Week1!AY$1 -> Yungwulf | C98: W | D98: =Week1!$AY$34 -> 8 | E98: =Week2!$AY$34 -> 7 | F98: =Week3!$AY$34 -> 10 | G98: =Week4!$AY$34 -> 5 | H98: =Week5!$AY$34 -> 7 | I98: =Week6!$AY$34 -> 5 | J98: =Week7!$AY$34 -> 5 | K98: =Week8!$AY$34 -> 0 | L98: =Week9!$AY$34 -> 0 | M98: =Week10!$AY$34 -> 0 | N98: =Week11!$AY$34 -> 0 | O98: =Week12!$AY$34 -> 0 | P98: =Week13!$AY$34 -> 0 | Q98: =Week14!$AY$34 -> 0 | R98: =Week15!$AY$34 -> 0 | S98: =Week16!$AY$34 -> 0 | T98: =Week17!$AY$34 -> 0 | U98: =Week18!$AY$34 -> 0 | V98: =Week19!$AY$34 -> 0 | W98: =Week20!$AY$34 -> 0 | X98: =Week21!$AY$34 -> 0 | Y98: =SUM(D98:X98) -> 47 | Z98: =Y98/(Y98+Y99) -> 0.46534653
C99: L | D99: =Week1!$AY$35 -> 8 | E99: =Week2!$AY$35 -> 8 | F99: =Week3!$AY$35 -> 5 | G99: =Week4!$AY$35 -> 10 | H99: =Week5!$AY$35 -> 7 | I99: =Week6!$AY$35 -> 8 | J99: =Week7!$AY$35 -> 8 | K99: =Week8!$AY$35 -> 0 | L99: =Week9!$AY$35 -> 0 | M99: =Week10!$AY$35 -> 0 | N99: =Week11!$AY$35 -> 0 | O99: =Week12!$AY$35 -> 0 | P99: =Week13!$AY$35 -> 0 | Q99: =Week14!$AY$35 -> 0 | R99: =Week15!$AY$35 -> 0 | S99: =Week16!$AY$35 -> 0 | T99: =Week17!$AY$35 -> 0 | U99: =Week18!$AY$35 -> 0 | V99: =Week19!$AY$35 -> 0 | W99: =Week20!$AY$35 -> 0 | X99: =Week21!$AY$35 -> 0 | Y99: =SUM(D99:X99) -> 54
A100: 50 | B100: =Week1!AZ$1 -> Mills, J | C100: W | D100: =Week1!$AZ$34 -> 7 | E100: =Week2!$AZ$34 -> 6 | F100: =Week3!$AZ$34 -> 7 | G100: =Week4!$AZ$34 -> 5 | H100: =Week5!$AZ$34 -> 7 | I100: =Week6!$AZ$34 -> 4 | J100: =Week7!$AZ$34 -> 6 | K100: =Week8!$AZ$34 -> 0 | L100: =Week9!$AZ$34 -> 0 | M100: =Week10!$AZ$34 -> 0 | N100: =Week11!$AZ$34 -> 0 | O100: =Week12!$AZ$34 -> 0 | P100: =Week13!$AZ$34 -> 0 | Q100: =Week14!$AZ$34 -> 0 | R100: =Week15!$AZ$34 -> 0 | S100: =Week16!$AZ$34 -> 0 | T100: =Week17!$AZ$34 -> 0 | U100: =Week18!$AZ$34 -> 0 | V100: =Week19!$AZ$34 -> 0 | W100: =Week20!$AZ$34 -> 0 | X100: =Week21!$AZ$34 -> 0 | Y100: =Week1!$BF$34 -> 13 | Z100: =Y100/(Y100+Y101) -> 0.8125
...

Sheet Week22
B1: Week 22 | C1: =Week1!C1 -> Jun | D1: =Week1!D1 -> Diana C | E1: =Week1!E1 -> Tinny | F1: =Week1!F1 -> Smith, M | G1: =Week1!G1 -> John McG | H1: =Week1!H1 -> Hamilton, J | I1: =Week1!I1 -> Dan G | J1: =Week1!J1 -> Caracas, M | ... FG1: =Week1!FG1 -> Blank
B4: Total Points: (NFC xx + AFC xx) Tie Breaker 1
B5: Total Rushing Yards: (NFC xxx + AFC xxx) Tie Breaker 2
A6: ABC | B6: 2/X/27 6:30 XXXXX Stadium
B7: Address
B8: City, State Zip
B9: Super Bowl 60(LXI)
B34: W | C34: =COUNTIF(C2:C33,"W") -> 0 | D34: =COUNTIF(D2:D33,"W") -> 0 | E34: =COUNTIF(E2:E33,"W") -> 0 | F34: =COUNTIF(F2:F33,"W") -> 0 | G34: =COUNTIF(G2:G33,"W") -> 0 | H34: =COUNTIF(H2:H33,"W") -> 0 | I34: =COUNTIF(I2:I33,"W") -> 0 | J34: =COUNTIF(J2:J33,"W") -> 0 | ... FG34: =COUNTIF(FG2:FG33,"W") -> 0
B35: L | C35: =COUNTIF(C2:C33,"L") -> 0 | D35: =COUNTIF(D2:D33,"L") -> 0 | E35: =COUNTIF(E2:E33,"L") -> 0 | F35: =COUNTIF(F2:F33,"L") -> 0 | G35: =COUNTIF(G2:G33,"L") -> 0 | H35: =COUNTIF(H2:H33,"L") -> 0 | I35: =COUNTIF(I2:I33,"L") -> 0 | J35: =COUNTIF(J2:J33,"L") -> 0 | ... FG35: =COUNTIF(FG2:FG33,"L") -> 0
B36: Percent | C36: =SUM(C34/(C34+C35)) -> #DIV/0! | D36: =SUM(D34/(D34+D35)) -> #DIV/0! | E36: =SUM(E34/(E34+E35)) -> #DIV/0! | F36: =SUM(F34/(F34+F35)) -> #DIV/0! | G36: =SUM(G34/(G34+G35)) -> #DIV/0! | H36: =SUM(H34/(H34+H35)) -> #DIV/0! | I36: =SUM(I34/(I34+I35)) -> #DIV/0! | J36: =SUM(J34/(J34+J35)) -> #DIV/0! | ... FG36: =SUM(FG34/(FG34+FG35)) -> #DIV/0!
E37: 2nd | M37: 5th | AF37: 3rd | AN37: 1st | CN37: 4th
B38: Overall | C38: 1 | D38: 2 | E38: 3 | F38: 4 | G38: 5 | H38: 6 | I38: 7 | J38: 8 | K38: 9 | L38: 10 | M38: 11 | N38: 12 | O38: 13 | P38: 14 | Q38: 15 | R38: 16 | S38: 17 | T38: 18 | U38: 19 | V38: 20 | W38: 21 | X38: 22 | Y38: 23 | Z38: 24 | AA38: 25 | AB38: 26 | AC38: 27 | AD38: 28 | AE38: 29 | AF38: 30 | AG38: 31 | AH38: 32 | AI38: 33 | AJ38: 34 | AK38: 35 | AL38: 36 | AM38: 37 | AN38: 38 | AO38: 39 | AP38: 40 | AQ38: 41 | AR38: 42 | AS38: 43 | AT38: 44 | AU38: 45 | AV38: 46 | AW38: 47 | AX38: 48 | AY38: 49 | AZ38: 50 | BA38: 51 | BB38: 52 | BC38: 53 | BD38: 54 | BE38: 55 | BF38: 56 | BG38: 57 | BH38: 58 | BI38: 59 | BJ38: 60 | BK38: 61 | BL38: 62 | BM38: 63 | BN38: 64 | BO38: 65 | BP38: 66 | BQ38: 67 | BR38: 68 | BS38: 69 | BT38: 70 | BU38: 71 | BV38: 72 | BW38: 73 | BX38: 74 | BY38: 75 | BZ38: 76 | CA38: 77 | CB38: 78 | CC38: 79 | CD38: 80 | CE38: 81 | CF38: 82 | CG38: 83 | CH38: 84 | CI38: 85 | CJ38: 86 | CK38: 87 | CL38: 88 | CM38: 89 | CN38: 90 | CO38: 91 | CP38: 92 | CQ38: 93 | CR38: 94 | CS38: 95 | CT38: 96 | CU38: 97 | CV38: 98 | CW38: 99 | CX38: 100 | CY38: 101 | CZ38: 102 | DA38: 103 | DB38: 104 | DC38: 105 | DD38: 106 | DE38: 107 | DF38: 108 | DG38: 109 | DH38: 110 | DI38: 111 | DJ38: 112 | DK38: 113 | DL38: 114 | DM38: 115 | DN38: 116 | DO38: 117 | DP38: 118 | DQ38: 119 | DR38: 120 | DS38: 121 | DT38: 122 | DU38: 123 | DV38: 124 | DW38: 125 | DX38: 126 | DY38: 127 | DZ38: 128 | EA38: 129 | EB38: 130 | EC38: 131 | ED38: 132 | EE38: 133 | EF38: 134 | EG38: 135 | EH38: 136 | EI38: 137 | EJ38: 138 | EK38: 139 | EL38: 140 | EM38: 141 | EN38: 142 | EO38: 143 | EP38: 144 | EQ38: 145 | ER38: 146 | ES38: 147 | ET38: 148 | EU38: 149 | EV38: 150 | EW38: 151 | EX38: 152 | EY38: 153 | EZ38: 154 | FA38: 155 | FB38: 156 | FC38: 157 | FD38: 158 | FE38: 159 | FF38: 160 | FG38: 161
B39: W | C39: =Week21!C39+Week22!C34 -> 42 | D39: =Week21!D39+Week22!D34 -> 48 | E39: =Week21!E39+Week22!E34 -> 48 | F39: =Week21!F39+Week22!F34 -> 51 | G39: =Week21!G39+Week22!G34 -> 46 | H39: =Week21!H39+Week22!H34 -> 55 | I39: =Week21!I39+Week22!I34 -> 45 | J39: =Week21!J39+Week22!J34 -> 42 | ... FG39: =Week21!FG39+Week22!FG34 -> 0
B40: L | C40: =Week21!C40+Week22!C35 -> 59 | D40: =Week21!D40+Week22!D35 -> 53 | E40: =Week21!E40+Week22!E35 -> 53 | F40: =Week21!F40+Week22!F35 -> 50 | G40: =Week21!G40+Week22!G35 -> 55 | H40: =Week21!H40+Week22!H35 -> 46 | I40: =Week21!I40+Week22!I35 -> 56 | J40: =Week21!J40+Week22!J35 -> 59 | ... FG40: =Week21!FG40+Week22!FG35 -> 0
B41: Percent | C41: =C39/(C39+C40) -> 0.41584158 | D41: =D39/(D39+D40) -> 0.47524752 | E41: =E39/(E39+E40) -> 0.47524752 | F41: =F39/(F39+F40) -> 0.5049505 | G41: =G39/(G39+G40) -> 0.45544554 | H41: =H39/(H39+H40) -> 0.54455446 | I41: =I39/(I39+I40) -> 0.44554455 | J41: =J39/(J39+J40) -> 0.41584158 | ... FG41: =FG39/(FG39+FG40) -> #DIV/0!
C42: =C1 -> Jun | D42: =D1 -> Diana C | E42: =E1 -> Tinny | F42: =F1 -> Smith, M | G42: =G1 -> John McG | H42: =H1 -> Hamilton, J | I42: =I1 -> Dan G | J42: =J1 -> Caracas, M | ... FG42: =FG1 -> Blank
A43: =A2 -> 0 | B43: =B2 -> 0 | C43: x | D43: x | F43: x | G43: x | H43: x | I43: x | J43: x | L43: x | M43: x | O43: x | P43: x | Q43: x | R43: x | S43: x | T43: x | U43: x | V43: x | W43: x | X43: x | Y43: x | Z43: x | AA43: x | AB43: x | AC43: x | AD43: x | AE43: x | AG43: x | AH43: x | AI43: x | AJ43: x | AL43: x | AM43: x | AN43: x | AO43: x | AP43: x | AR43: x | AS43: x | AT43: x | AU43: x | AV43: x | AW43: x | AX43: x | AY43: x | AZ43: x | BA43: x | BB43: x | BD43: x | BE43: x | BF43: x | BG43: x | BH43: x | BI43: x | BJ43: x | BK43: x | BL43: x | BM43: x | BN43: x | BO43: x | BP43: x | BQ43: x | BR43: x | BS43: x | BT43: x | BU43: x | BV43: x | BW43: x | BX43: x | BY43: x | BZ43: x | CA43: x | CB43: x | CC43: x | CD43: x | CE43: x | CG43: x | CH43: x | CI43: x | CJ43: x | CK43: x | CL43: x | CM43: x | CN43: x | CO43: x | CP43: x | CQ43: x | CR43: x | CT43: x | CU43: x | CV43: x | CW43: x | CX43: x | CY43: x | CZ43: x | DA43: x | DB43: x | DC43: x | DD43: x | DE43: x | DF43: x | DG43: x | DH43: x | DI43: x | DJ43: x | DK43: x | DL43: x | DM43: x | DN43: x | DO43: x | DP43: x | DR43: x | DS43: x | DT43: x | DU43: x | DV43: x | DW43: x
A44: =A3 -> 0 | B44: =B3 -> 0 | E44: x | K44: x | N44: x | AF44: x | AK44: x | AQ44: x | BC44: x | CF44: x | CS44: x | DQ44: x
A45: =A4 -> 0 | B45: Total Rushing Yards
C47: =C39+C40 -> 101 | D47: =D39+D40 -> 101 | E47: =E39+E40 -> 101 | F47: =F39+F40 -> 101 | G47: =G39+G40 -> 101 | H47: =H39+H40 -> 101 | I47: =I39+I40 -> 101 | J47: =J39+J40 -> 101 | ... EC47: =EC39+EC40 -> 0

Sheet Week21
B1: Week 21 | C1: =Week1!C1 -> Jun | D1: =Week1!D1 -> Diana C | E1: =Week1!E1 -> Tinny | F1: =Week1!F1 -> Smith, M | G1: =Week1!G1 -> John McG | H1: =Week1!H1 -> Hamilton, J | I1: =Week1!I1 -> Dan G | J1: =Week1!J1 -> Caracas, M | ... FG1: =Week1!FG1 -> Blank
B34: W | C34: =COUNTIF(C2:C33,"W") -> 0 | D34: =COUNTIF(D2:D33,"W") -> 0 | E34: =COUNTIF(E2:E33,"W") -> 0 | F34: =COUNTIF(F2:F33,"W") -> 0 | G34: =COUNTIF(G2:G33,"W") -> 0 | H34: =COUNTIF(H2:H33,"W") -> 0 | I34: =COUNTIF(I2:I33,"W") -> 0 | J34: =COUNTIF(J2:J33,"W") -> 0 | ... FG34: =COUNTIF(FG2:FG33,"W") -> 0
B35: L | C35: =COUNTIF(C2:C33,"L") -> 0 | D35: =COUNTIF(D2:D33,"L") -> 0 | E35: =COUNTIF(E2:E33,"L") -> 0 | F35: =COUNTIF(F2:F33,"L") -> 0 | G35: =COUNTIF(G2:G33,"L") -> 0 | H35: =COUNTIF(H2:H33,"L") -> 0 | I35: =COUNTIF(I2:I33,"L") -> 0 | J35: =COUNTIF(J2:J33,"L") -> 0 | ... FG35: =COUNTIF(FG2:FG33,"L") -> 0
B36: Percent | C36: =SUM(C34/(C34+C35)) -> #DIV/0! | D36: =SUM(D34/(D34+D35)) -> #DIV/0! | E36: =SUM(E34/(E34+E35)) -> #DIV/0! | F36: =SUM(F34/(F34+F35)) -> #DIV/0! | G36: =SUM(G34/(G34+G35)) -> #DIV/0! | H36: =SUM(H34/(H34+H35)) -> #DIV/0! | I36: =SUM(I34/(I34+I35)) -> #DIV/0! | J36: =SUM(J34/(J34+J35)) -> #DIV/0! | ... FG36: =SUM(FG34/(FG34+FG35)) -> #DIV/0!
B38: Overall | C38: 1 | D38: 2 | E38: 3 | F38: 4 | G38: 5 | H38: 6 | I38: 7 | J38: 8 | K38: 9 | L38: 10 | M38: 11 | N38: 12 | O38: 13 | P38: 14 | Q38: 15 | R38: 16 | S38: 17 | T38: 18 | U38: 19 | V38: 20 | W38: 21 | X38: 22 | Y38: 23 | Z38: 24 | AA38: 25 | AB38: 26 | AC38: 27 | AD38: 28 | AE38: 29 | AF38: 30 | AG38: 31 | AH38: 32 | AI38: 33 | AJ38: 34 | AK38: 35 | AL38: 36 | AM38: 37 | AN38: 38 | AO38: 39 | AP38: 40 | AQ38: 41 | AR38: 42 | AS38: 43 | AT38: 44 | AU38: 45 | AV38: 46 | AW38: 47 | AX38: 48 | AY38: 49 | AZ38: 50 | BA38: 51 | BB38: 52 | BC38: 53 | BD38: 54 | BE38: 55 | BF38: 56 | BG38: 57 | BH38: 58 | BI38: 59 | BJ38: 60 | BK38: 61 | BL38: 62 | BM38: 63 | BN38: 64 | BO38: 65 | BP38: 66 | BQ38: 67 | BR38: 68 | BS38: 69 | BT38: 70 | BU38: 71 | BV38: 72 | BW38: 73 | BX38: 74 | BY38: 75 | BZ38: 76 | CA38: 77 | CB38: 78 | CC38: 79 | CD38: 80 | CE38: 81 | CF38: 82 | CG38: 83 | CH38: 84 | CI38: 85 | CJ38: 86 | CK38: 87 | CL38: 88 | CM38: 89 | CN38: 90 | CO38: 91 | CP38: 92 | CQ38: 93 | CR38: 94 | CS38: 95 | CT38: 96 | CU38: 97 | CV38: 98 | CW38: 99 | CX38: 100 | CY38: 101 | CZ38: 102 | DA38: 103 | DB38: 104 | DC38: 105 | DD38: 106 | DE38: 107 | DF38: 108 | DG38: 109 | DH38: 110 | DI38: 111 | DJ38: 112 | DK38: 113 | DL38: 114 | DM38: 115 | DN38: 116 | DO38: 117 | DP38: 118 | DQ38: 119 | DR38: 120 | DS38: 121 | DT38: 122 | DU38: 123 | DV38: 124 | DW38: 125 | DX38: 126 | DY38: 127 | DZ38: 128 | EA38: 129 | EB38: 130 | EC38: 131 | ED38: 132 | EE38: 133 | EF38: 134 | EG38: 135 | EH38: 136 | EI38: 137 | EJ38: 138 | EK38: 139 | EL38: 140 | EM38: 141 | EN38: 142 | EO38: 143 | EP38: 144 | EQ38: 145 | ER38: 146 | ES38: 147 | ET38: 148 | EU38: 149 | EV38: 150 | EW38: 151 | EX38: 152 | EY38: 153 | EZ38: 154 | FA38: 155 | FB38: 156 | FC38: 157 | FD38: 158 | FE38: 159 | FF38: 160 | FG38: 161
B39: W | C39: =Week20!C39+Week21!C34 -> 42 | D39: =Week20!D39+Week21!D34 -> 48 | E39: =Week20!E39+Week21!E34 -> 48 | F39: =Week20!F39+Week21!F34 -> 51 | G39: =Week20!G39+Week21!G34 -> 46 | H39: =Week20!H39+Week21!H34 -> 55 | I39: =Week20!I39+Week21!I34 -> 45 | J39: =Week20!J39+Week21!J34 -> 42 | ... FG39: =Week20!FG39+Week21!FG34 -> 0
B40: L | C40: =Week20!C40+Week21!C35 -> 59 | D40: =Week20!D40+Week21!D35 -> 53 | E40: =Week20!E40+Week21!E35 -> 53 | F40: =Week20!F40+Week21!F35 -> 50 | G40: =Week20!G40+Week21!G35 -> 55 | H40: =Week20!H40+Week21!H35 -> 46 | I40: =Week20!I40+Week21!I35 -> 56 | J40: =Week20!J40+Week21!J35 -> 59 | ... FG40: =Week20!FG40+Week21!FG35 -> 0
B41: Percent | C41: =C39/(C39+C40) -> 0.41584158 | D41: =D39/(D39+D40) -> 0.47524752 | E41: =E39/(E39+E40) -> 0.47524752 | F41: =F39/(F39+F40) -> 0.5049505 | G41: =G39/(G39+G40) -> 0.45544554 | H41: =H39/(H39+H40) -> 0.54455446 | I41: =I39/(I39+I40) -> 0.44554455 | J41: =J39/(J39+J40) -> 0.41584158 | ... FG41: =FG39/(FG39+FG40) -> #DIV/0!
C42: =C1 -> Jun | D42: =D1 -> Diana C | E42: =E1 -> Tinny | F42: =F1 -> Smith, M | G42: =G1 -> John McG | H42: =H1 -> Hamilton, J | I42: =I1 -> Dan G | J42: =J1 -> Caracas, M | ... FG42: =FG1 -> Blank
A43: =A4 -> 0 | B43: =B4 -> 0 | C43: 55 | D43: x | F43: x | G43: 62 | H43: x | J43: x | L43: x | M43: 50 | N43: 40 | O43: 48 | P43: x | Q43: x | R43: x | S43: x | T43: x | U43: x | V43: x | W43: x | X43: x | Y43: x | Z43: x | AA43: x | AD43: x | AE43: x | AF43: x | AG43: x | AH43: x | AI43: x | AJ43: x | AL43: x | AM43: x | AN43: x | AO43: x | AP43: x | AQ43: x | AR43: x | AT43: x | AU43: x | AV43: x | AW43: x | AX43: x | AY43: x | AZ43: x | BA43: x | BB43: x | BC43: x | BD43: x | BE43: 42 | BF43: x | BG43: x | BH43: x | BI43: x | BJ43: x | BK43: x | BL43: x | BM43: x | BN43: x | BO43: x | BP43: x | BQ43: x | BR43: x | BS43: x | BT43: x | BU43: x | BV43: x | BW43: x | BX43: x | BY43: x | BZ43: x | CA43: x | CB43: x | CC43: x | CD43: x | CE43: x | CF43: x | CG43: x | CH43: x | CJ43: x | CK43: x | CL43: x | CM43: x | CN43: 55 | CO43: x | CQ43: x | CR43: x | CS43: x | CT43: x | CU43: x | CV43: x | CW43: x | CX43: x | CY43: x | CZ43: x | DA43: x | DB43: x | DC43: x | DE43: x | DF43: x | DG43: x | DH43: x | DI43: x | DJ43: x | DK43: 54 | DL43: 50 | DM43: x | DO43: x | DP43: x | DQ43: x | DR43: x | DS43: 55 | DT43: x | DU43: x | DW43: x
A44: =A5 -> 0 | B44: =B5 -> 0 | E44: 40 | I44: x | K44: x | AB44: x | AC44: x | AK44: x | AS44: x | CI44: x | CP44: x | DD44: x | DN44: x | DV44: 44
C46: =C40+C39 -> 101 | D46: =D40+D39 -> 101 | E46: =E40+E39 -> 101 | F46: =F40+F39 -> 101 | G46: =G40+G39 -> 101 | H46: =H40+H39 -> 101 | I46: =I40+I39 -> 101 | J46: =J40+J39 -> 101 | ... EC46: =EC40+EC39 -> 0

Sheet Week20
B1: Week 20 | C1: =Week1!C1 -> Jun | D1: =Week1!D1 -> Diana C | E1: =Week1!E1 -> Tinny | F1: =Week1!F1 -> Smith, M | G1: =Week1!G1 -> John McG | H1: =Week1!H1 -> Hamilton, J | I1: =Week1!I1 -> Dan G | J1: =Week1!J1 -> Caracas, M | ... FG1: =Week1!FG1 -> Blank
B34: W | C34: =COUNTIF(C2:C33,"W") -> 0 | D34: =COUNTIF(D2:D33,"W") -> 0 | E34: =COUNTIF(E2:E33,"W") -> 0 | F34: =COUNTIF(F2:F33,"W") -> 0 | G34: =COUNTIF(G2:G33,"W") -> 0 | H34: =COUNTIF(H2:H33,"W") -> 0 | I34: =COUNTIF(I2:I33,"W") -> 0 | J34: =COUNTIF(J2:J33,"W") -> 0 | ... FG34: =COUNTIF(FG2:FG33,"W") -> 0
B35: L | C35: =COUNTIF(C2:C33,"L") -> 0 | D35: =COUNTIF(D2:D33,"L") -> 0 | E35: =COUNTIF(E2:E33,"L") -> 0 | F35: =COUNTIF(F2:F33,"L") -> 0 | G35: =COUNTIF(G2:G33,"L") -> 0 | H35: =COUNTIF(H2:H33,"L") -> 0 | I35: =COUNTIF(I2:I33,"L") -> 0 | J35: =COUNTIF(J2:J33,"L") -> 0 | ... FG35: =COUNTIF(FG2:FG33,"L") -> 0
B36: Percent | C36: =SUM(C34/(C34+C35)) -> #DIV/0! | D36: =SUM(D34/(D34+D35)) -> #DIV/0! | E36: =SUM(E34/(E34+E35)) -> #DIV/0! | F36: =SUM(F34/(F34+F35)) -> #DIV/0! | G36: =SUM(G34/(G34+G35)) -> #DIV/0! | H36: =SUM(H34/(H34+H35)) -> #DIV/0! | I36: =SUM(I34/(I34+I35)) -> #DIV/0! | J36: =SUM(J34/(J34+J35)) -> #DIV/0! | ... FG36: =SUM(FG34/(FG34+FG35)) -> #DIV/0!
B38: Overall | C38: 1 | D38: 2 | E38: 3 | F38: 4 | G38: 5 | H38: 6 | I38: 7 | J38: 8 | K38: 9 | L38: 10 | M38: 11 | N38: 12 | O38: 13 | P38: 14 | Q38: 15 | R38: 16 | S38: 17 | T38: 18 | U38: 19 | V38: 20 | W38: 21 | X38: 22 | Y38: 23 | Z38: 24 | AA38: 25 | AB38: 26 | AC38: 27 | AD38: 28 | AE38: 29 | AF38: 30 | AG38: 31 | AH38: 32 | AI38: 33 | AJ38: 34 | AK38: 35 | AL38: 36 | AM38: 37 | AN38: 38 | AO38: 39 | AP38: 40 | AQ38: 41 | AR38: 42 | AS38: 43 | AT38: 44 | AU38: 45 | AV38: 46 | AW38: 47 | AX38: 48 | AY38: 49 | AZ38: 50 | BA38: 51 | BB38: 52 | BC38: 53 | BD38: 54 | BE38: 55 | BF38: 56 | BG38: 57 | BH38: 58 | BI38: 59 | BJ38: 60 | BK38: 61 | BL38: 62 | BM38: 63 | BN38: 64 | BO38: 65 | BP38: 66 | BQ38: 67 | BR38: 68 | BS38: 69 | BT38: 70 | BU38: 71 | BV38: 72 | BW38: 73 | BX38: 74 | BY38: 75 | BZ38: 76 | CA38: 77 | CB38: 78 | CC38: 79 | CD38: 80 | CE38: 81 | CF38: 82 | CG38: 83 | CH38: 84 | CI38: 85 | CJ38: 86 | CK38: 87 | CL38: 88 | CM38: 89 | CN38: 90 | CO38: 91 | CP38: 92 | CQ38: 93 | CR38: 94 | CS38: 95 | CT38: 96 | CU38: 97 | CV38: 98 | CW38: 99 | CX38: 100 | CY38: 101 | CZ38: 102 | DA38: 103 | DB38: 104 | DC38: 105 | DD38: 106 | DE38: 107 | DF38: 108 | DG38: 109 | DH38: 110 | DI38: 111 | DJ38: 112 | DK38: 113 | DL38: 114 | DM38: 115 | DN38: 116 | DO38: 117 | DP38: 118 | DQ38: 119 | DR38: 120 | DS38: 121 | DT38: 122 | DU38: 123 | DV38: 124 | DW38: 125 | DX38: 126 | DY38: 127 | DZ38: 128 | EA38: 129 | EB38: 130 | EC38: 131 | ED38: 132 | EE38: 133 | EF38: 134 | EG38: 135 | EH38: 136 | EI38: 137 | EJ38: 138 | EK38: 139 | EL38: 140 | EM38: 141 | EN38: 142 | EO38: 143 | EP38: 144 | EQ38: 145 | ER38: 146 | ES38: 147 | ET38: 148 | EU38: 149 | EV38: 150 | EW38: 151 | EX38: 152 | EY38: 153 | EZ38: 154 | FA38: 155 | FB38: 156 | FC38: 157 | FD38: 158 | FE38: 159 | FF38: 160 | FG38: 161
B39: W | C39: =Week19!C39+Week20!C34 -> 42 | D39: =Week19!D39+Week20!D34 -> 48 | E39: =Week19!E39+Week20!E34 -> 48 | F39: =Week19!F39+Week20!F34 -> 51 | G39: =Week19!G39+Week20!G34 -> 46 | H39: =Week19!H39+Week20!H34 -> 55 | I39: =Week19!I39+Week20!I34 -> 45 | J39: =Week19!J39+Week20!J34 -> 42 | ... FG39: =Week19!FG39+Week20!FG34 -> 0
B40: L | C40: =Week19!C40+Week20!C35 -> 59 | D40: =Week19!D40+Week20!D35 -> 53 | E40: =Week19!E40+Week20!E35 -> 53 | F40: =Week19!F40+Week20!F35 -> 50 | G40: =Week19!G40+Week20!G35 -> 55 | H40: =Week19!H40+Week20!H35 -> 46 | I40: =Week19!I40+Week20!I35 -> 56 | J40: =Week19!J40+Week20!J35 -> 59 | ... FG40: =Week19!FG40+Week20!FG35 -> 0
B41: Percent | C41: =C39/(C39+C40) -> 0.41584158 | D41: =D39/(D39+D40) -> 0.47524752 | E41: =E39/(E39+E40) -> 0.47524752 | F41: =F39/(F39+F40) -> 0.5049505 | G41: =G39/(G39+G40) -> 0.45544554 | H41: =H39/(H39+H40) -> 0.54455446 | I41: =I39/(I39+I40) -> 0.44554455 | J41: =J39/(J39+J40) -> 0.41584158 | ... FG41: =FG39/(FG39+FG40) -> #DIV/0!
C42: =C1 -> Jun | D42: =D1 -> Diana C | E42: =E1 -> Tinny | F42: =F1 -> Smith, M | G42: =G1 -> John McG | H42: =H1 -> Hamilton, J | I42: =I1 -> Dan G | J42: =J1 -> Caracas, M | ... FG42: =FG1 -> Blank
A43: =A8 -> 0 | B43: =B8 -> 0 | F43: x | G43: 46 | H43: x | J43: x | L43: x | M43: 44 | N43: x | O43: 48 | R43: x | S43: x | U43: x | V43: x | X43: x | Y43: x | Z43: x | AA43: x | AB43: x | AC43: x | AD43: x | AF43: x | AG43: x | AH43: x | AI43: x | AJ43: x | AK43: x | AL43: x | AM43: x | AN43: x | AP43: x | AR43: x | AT43: x | AW43: x | AX43: x | AY43: x | AZ43: x | BA43: x | BB43: x | BD43: x | BF43: x | BG43: x | BH43: x | BI43: x | BJ43: x | BM43: x | BN43: x | BO43: x | BP43: x | BQ43: x | BR43: x | BU43: x | BV43: x | BW43: x | BX43: x | BY43: x | BZ43: x | CA43: x | CC43: x | CD43: x | CE43: x | CI43: x | CJ43: x | CK43: x | CL43: x | CM43: x | CN43: 52 | CO43: x | CP43: 48 | CQ43: x | CR43: x | CU43: x | CV43: x | CW43: x | CY43: x | CZ43: x | DA43: x | DC43: x | DD43: x | DI43: x | DJ43: x | DK43: 43 | DN43: x | DO43: x | DP43: x | DQ43: 58 | DR43: x | DT43: x | DU43: x | DV43: 44 | DW43: x
A44: =A9 -> 0 | B44: =B9 -> 0 | C44: x | D44: x | E44: 35 | I44: x | K44: x | P44: x | Q44: x | T44: x | W44: x | AE44: x | AO44: x | AQ44: x | AS44: x | AU44: x | AV44: x | BC44: 44 | BE44: 48 | BK44: x | BL44: x | BS44: x | BT44: x | CB44: x | CF44: x | CG44: x | CH44: x | CS44: x | CT44: x | CX44: x | DB44: x | DE44: x | DF44: x | DG44: x | DH44: x | DL44: x | DM44: x | DS44: 52
C46: =C40+C39 -> 101 | D46: =D40+D39 -> 101 | E46: =E40+E39 -> 101 | F46: =F40+F39 -> 101 | G46: =G40+G39 -> 101 | H46: =H40+H39 -> 101 | I46: =I40+I39 -> 101 | J46: =J40+J39 -> 101 | ... EC46: =EC40+EC39 -> 0

Sheet Week19
B1: Week 19 | C1: =Week1!C1 -> Jun | D1: =Week1!D1 -> Diana C | E1: =Week1!E1 -> Tinny | F1: =Week1!F1 -> Smith, M | G1: =Week1!G1 -> John McG | H1: =Week1!H1 -> Hamilton, J | I1: =Week1!I1 -> Dan G | J1: =Week1!J1 -> Caracas, M | ... FG1: =Week1!FG1 -> Blank
B34: W | C34: =COUNTIF(C2:C33,"W") -> 0 | D34: =COUNTIF(D2:D33,"W") -> 0 | E34: =COUNTIF(E2:E33,"W") -> 0 | F34: =COUNTIF(F2:F33,"W") -> 0 | G34: =COUNTIF(G2:G33,"W") -> 0 | H34: =COUNTIF(H2:H33,"W") -> 0 | I34: =COUNTIF(I2:I33,"W") -> 0 | J34: =COUNTIF(J2:J33,"W") -> 0 | ... FG34: =COUNTIF(FG2:FG33,"W") -> 0
B35: L | C35: =COUNTIF(C2:C33,"L") -> 0 | D35: =COUNTIF(D2:D33,"L") -> 0 | E35: =COUNTIF(E2:E33,"L") -> 0 | F35: =COUNTIF(F2:F33,"L") -> 0 | G35: =COUNTIF(G2:G33,"L") -> 0 | H35: =COUNTIF(H2:H33,"L") -> 0 | I35: =COUNTIF(I2:I33,"L") -> 0 | J35: =COUNTIF(J2:J33,"L") -> 0 | ... FG35: =COUNTIF(FG2:FG33,"L") -> 0
B36: Percent | C36: =SUM(C34/(C34+C35)) -> #DIV/0! | D36: =SUM(D34/(D34+D35)) -> #DIV/0! | E36: =SUM(E34/(E34+E35)) -> #DIV/0! | F36: =SUM(F34/(F34+F35)) -> #DIV/0! | G36: =SUM(G34/(G34+G35)) -> #DIV/0! | H36: =SUM(H34/(H34+H35)) -> #DIV/0! | I36: =SUM(I34/(I34+I35)) -> #DIV/0! | J36: =SUM(J34/(J34+J35)) -> #DIV/0! | ... FG36: =SUM(FG34/(FG34+FG35)) -> #DIV/0!
B38: Overall | C38: 1 | D38: 2 | E38: 3 | F38: 4 | G38: 5 | H38: 6 | I38: 7 | J38: 8 | K38: 9 | L38: 10 | M38: 11 | N38: 12 | O38: 13 | P38: 14 | Q38: 15 | R38: 16 | S38: 17 | T38: 18 | U38: 19 | V38: 20 | W38: 21 | X38: 22 | Y38: 23 | Z38: 24 | AA38: 25 | AB38: 26 | AC38: 27 | AD38: 28 | AE38: 29 | AF38: 30 | AG38: 31 | AH38: 32 | AI38: 33 | AJ38: 34 | AK38: 35 | AL38: 36 | AM38: 37 | AN38: 38 | AO38: 39 | AP38: 40 | AQ38: 41 | AR38: 42 | AS38: 43 | AT38: 44 | AU38: 45 | AV38: 46 | AW38: 47 | AX38: 48 | AY38: 49 | AZ38: 50 | BA38: 51 | BB38: 52 | BC38: 53 | BD38: 54 | BE38: 55 | BF38: 56 | BG38: 57 | BH38: 58 | BI38: 59 | BJ38: 60 | BK38: 61 | BL38: 62 | BM38: 63 | BN38: 64 | BO38: 65 | BP38: 66 | BQ38: 67 | BR38: 68 | BS38: 69 | BT38: 70 | BU38: 71 | BV38: 72 | BW38: 73 | BX38: 74 | BY38: 75 | BZ38: 76 | CA38: 77 | CB38: 78 | CC38: 79 | CD38: 80 | CE38: 81 | CF38: 82 | CG38: 83 | CH38: 84 | CI38: 85 | CJ38: 86 | CK38: 87 | CL38: 88 | CM38: 89 | CN38: 90 | CO38: 91 | CP38: 92 | CQ38: 93 | CR38: 94 | CS38: 95 | CT38: 96 | CU38: 97 | CV38: 98 | CW38: 99 | CX38: 100 | CY38: 101 | CZ38: 102 | DA38: 103 | DB38: 104 | DC38: 105 | DD38: 106 | DE38: 107 | DF38: 108 | DG38: 109 | DH38: 110 | DI38: 111 | DJ38: 112 | DK38: 113 | DL38: 114 | DM38: 115 | DN38: 116 | DO38: 117 | DP38: 118 | DQ38: 119 | DR38: 120 | DS38: 121 | DT38: 122 | DU38: 123 | DV38: 124 | DW38: 125 | DX38: 126 | DY38: 127 | DZ38: 128 | EA38: 129 | EB38: 130 | EC38: 131 | ED38: 132 | EE38: 133 | EF38: 134 | EG38: 135 | EH38: 136 | EI38: 137 | EJ38: 138 | EK38: 139 | EL38: 140 | EM38: 141 | EN38: 142 | EO38: 143 | EP38: 144 | EQ38: 145 | ER38: 146 | ES38: 147 | ET38: 148 | EU38: 149 | EV38: 150 | EW38: 151 | EX38: 152 | EY38: 153 | EZ38: 154 | FA38: 155 | FB38: 156 | FC38: 157 | FD38: 158 | FE38: 159 | FF38: 160 | FG38: 161
B39: W | C39: =Week18!C39+Week19!C34 -> 42 | D39: =Week18!D39+Week19!D34 -> 48 | E39: =Week18!E39+Week19!E34 -> 48 | F39: =Week18!F39+Week19!F34 -> 51 | G39: =Week18!G39+Week19!G34 -> 46 | H39: =Week18!H39+Week19!H34 -> 55 | I39: =Week18!I39+Week19!I34 -> 45 | J39: =Week18!J39+Week19!J34 -> 42 | ... FG39: =Week18!FG39+Week19!FG34 -> 0
B40: L | C40: =Week18!C40+Week19!C35 -> 59 | D40: =Week18!D40+Week19!D35 -> 53 | E40: =Week18!E40+Week19!E35 -> 53 | F40: =Week18!F40+Week19!F35 -> 50 | G40: =Week18!G40+Week19!G35 -> 55 | H40: =Week18!H40+Week19!H35 -> 46 | I40: =Week18!I40+Week19!I35 -> 56 | J40: =Week18!J40+Week19!J35 -> 59 | ... FG40: =Week18!FG40+Week19!FG35 -> 0
B41: Percent | C41: =C39/(C39+C40) -> 0.41584158 | D41: =D39/(D39+D40) -> 0.47524752 | E41: =E39/(E39+E40) -> 0.47524752 | F41: =F39/(F39+F40) -> 0.5049505 | G41: =G39/(G39+G40) -> 0.45544554 | H41: =H39/(H39+H40) -> 0.54455446 | I41: =I39/(I39+I40) -> 0.44554455 | J41: =J39/(J39+J40) -> 0.41584158 | ... FG41: =FG39/(FG39+FG40) -> #DIV/0!
C42: =C1 -> Jun | D42: =D1 -> Diana C | E42: =E1 -> Tinny | F42: =F1 -> Smith, M | G42: =G1 -> John McG | H42: =H1 -> Hamilton, J | I42: =I1 -> Dan G | J42: =J1 -> Caracas, M | ... FG42: =FG1 -> Blank
A43: =A12 -> 0 | B43: =B12 -> 0 | C43: 37 | D43: x | G43: 37 | I43: x | J43: x | L43: x | N43: x | Q43: x | R43: x | S43: x | T43: x | U43: x | W43: x | X43: x | Y43: x | Z43: x | AA43: x | AB43: x | AC43: x | AD43: x | AE43: x | AF43: x | AG43: x | AI43: x | AJ43: x | AK43: x | AL43: x | AM43: x | AQ43: 40 | AR43: x | AS43: x | AT43: x | AU43: x | AV43: 38 | AW43: x | AX43: x | AY43: x | BA43: x | BB43: x | BC43: 30 | BD43: x | BF43: x | BG43: x | BH43: x | BI43: x | BJ43: x | BK43: x | BL43: x | BM43: x | BN43: x | BQ43: x | BR43: x | BS43: x | BU43: x | BV43: x | BW43: x | BX43: x | BY43: x | BZ43: x | CA43: x | CC43: x | CE43: x | CF43: x | CH43: x | CK43: x | CL43: x | CN43: 42 | CO43: x | CP43: 41 | CQ43: x | CS43: x | CU43: x | CV43: x | CW43: x | CX43: x | CY43: x | CZ43: x | DA43: x | DB43: x | DC43: x | DD43: x | DF43: x | DI43: x | DJ43: x | DK43: 56 | DM43: x | DN43: x | DO43: x | DQ43: 36 | DR43: x | DS43: 41 | DT43: x | DU43: x | DV43: x | DW43: x
A44: =-A13 -> 0 | B44: =B13 -> 0 | E44: 35 | F44: x | K44: x | M44: 45 | O44: 42 | P44: x | V44: x | AH44: x | AN44: x | AO44: x | AP44: x | AZ44: x | BE44: 36 | BO44: 56 | BP44: 56 | BT44: x | CB44: x | CD44: x | CG44: x | CI44: x | CJ44: x | CM44: x | CR44: x | CT44: x | DE44: x | DG44: x | DH44: x | DL44: 42 | DP44: x
C46: =C39+C40 -> 101 | D46: =D39+D40 -> 101 | E46: =E39+E40 -> 101 | F46: =F39+F40 -> 101 | G46: =G39+G40 -> 101 | H46: =H39+H40 -> 101 | I46: =I39+I40 -> 101 | J46: =J39+J40 -> 101 | ... DW46: =DW39+DW40 -> 101

Sheet Week18
B1: Week 18 | C1: =Week1!C1 -> Jun | D1: =Week1!D1 -> Diana C | E1: =Week1!E1 -> Tinny | F1: =Week1!F1 -> Smith, M | G1: =Week1!G1 -> John McG | H1: =Week1!H1 -> Hamilton, J | I1: =Week1!I1 -> Dan G | J1: =Week1!J1 -> Caracas, M | ... FG1: =Week1!FG1 -> Blank
B34: W | C34: =COUNTIF(C2:C33,"W") -> 0 | D34: =COUNTIF(D2:D33,"W") -> 0 | E34: =COUNTIF(E2:E33,"W") -> 0 | F34: =COUNTIF(F2:F33,"W") -> 0 | G34: =COUNTIF(G2:G33,"W") -> 0 | H34: =COUNTIF(H2:H33,"W") -> 0 | I34: =COUNTIF(I2:I33,"W") -> 0 | J34: =COUNTIF(J2:J33,"W") -> 0 | ... FG34: =COUNTIF(FG2:FG33,"W") -> 0
B35: L | C35: =COUNTIF(C2:C33,"L") -> 0 | D35: =COUNTIF(D2:D33,"L") -> 0 | E35: =COUNTIF(E2:E33,"L") -> 0 | F35: =COUNTIF(F2:F33,"L") -> 0 | G35: =COUNTIF(G2:G33,"L") -> 0 | H35: =COUNTIF(H2:H33,"L") -> 0 | I35: =COUNTIF(I2:I33,"L") -> 0 | J35: =COUNTIF(J2:J33,"L") -> 0 | ... FG35: =COUNTIF(FG2:FG33,"L") -> 0
B36: Percent | C36: =SUM(C34/(C34+C35)) -> #DIV/0! | D36: =SUM(D34/(D34+D35)) -> #DIV/0! | E36: =SUM(E34/(E34+E35)) -> #DIV/0! | F36: =SUM(F34/(F34+F35)) -> #DIV/0! | G36: =SUM(G34/(G34+G35)) -> #DIV/0! | H36: =SUM(H34/(H34+H35)) -> #DIV/0! | I36: =SUM(I34/(I34+I35)) -> #DIV/0! | J36: =SUM(J34/(J34+J35)) -> #DIV/0! | ... FG36: =SUM(FG34/(FG34+FG35)) -> #DIV/0!
B38: Overall | C38: 1 | D38: 2 | E38: 3 | F38: 4 | G38: 5 | H38: 6 | I38: 7 | J38: 8 | K38: 9 | L38: 10 | M38: 11 | N38: 12 | O38: 13 | P38: 14 | Q38: 15 | R38: 16 | S38: 17 | T38: 18 | U38: 19 | V38: 20 | W38: 21 | X38: 22 | Y38: 23 | Z38: 24 | AA38: 25 | AB38: 26 | AC38: 27 | AD38: 28 | AE38: 29 | AF38: 30 | AG38: 31 | AH38: 32 | AI38: 33 | AJ38: 34 | AK38: 35 | AL38: 36 | AM38: 37 | AN38: 38 | AO38: 39 | AP38: 40 | AQ38: 41 | AR38: 42 | AS38: 43 | AT38: 44 | AU38: 45 | AV38: 46 | AW38: 47 | AX38: 48 | AY38: 49 | AZ38: 50 | BA38: 51 | BB38: 52 | BC38: 53 | BD38: 54 | BE38: 55 | BF38: 56 | BG38: 57 | BH38: 58 | BI38: 59 | BJ38: 60 | BK38: 61 | BL38: 62 | BM38: 63 | BN38: 64 | BO38: 65 | BP38: 66 | BQ38: 67 | BR38: 68 | BS38: 69 | BT38: 70 | BU38: 71 | BV38: 72 | BW38: 73 | BX38: 74 | BY38: 75 | BZ38: 76 | CA38: 77 | CB38: 78 | CC38: 79 | CD38: 80 | CE38: 81 | CF38: 82 | CG38: 83 | CH38: 84 | CI38: 85 | CJ38: 86 | CK38: 87 | CL38: 88 | CM38: 89 | CN38: 90 | CO38: 91 | CP38: 92 | CQ38: 93 | CR38: 94 | CS38: 95 | CT38: 96 | CU38: 97 | CV38: 98 | CW38: 99 | CX38: 100 | CY38: 101 | CZ38: 102 | DA38: 103 | DB38: 104 | DC38: 105 | DD38: 106 | DE38: 107 | DF38: 108 | DG38: 109 | DH38: 110 | DI38: 111 | DJ38: 112 | DK38: 113 | DL38: 114 | DM38: 115 | DN38: 116 | DO38: 117 | DP38: 118 | DQ38: 119 | DR38: 120 | DS38: 121 | DT38: 122 | DU38: 123 | DV38: 124 | DW38: 125 | DX38: 126 | DY38: 127 | DZ38: 128 | EA38: 129 | EB38: 130 | EC38: 131 | ED38: 132 | EE38: 133 | EF38: 134 | EG38: 135 | EH38: 136 | EI38: 137 | EJ38: 138 | EK38: 139 | EL38: 140 | EM38: 141 | EN38: 142 | EO38: 143 | EP38: 144 | EQ38: 145 | ER38: 146 | ES38: 147 | ET38: 148 | EU38: 149 | EV38: 150 | EW38: 151 | EX38: 152 | EY38: 153 | EZ38: 154 | FA38: 155 | FB38: 156 | FC38: 157 | FD38: 158 | FE38: 159 | FF38: 160 | FG38: 161
B39: W | C39: =Week17!C39+Week18!C34 -> 42 | D39: =Week17!D39+Week18!D34 -> 48 | E39: =Week17!E39+Week18!E34 -> 48 | F39: =Week17!F39+Week18!F34 -> 51 | G39: =Week17!G39+Week18!G34 -> 46 | H39: =Week17!H39+Week18!H34 -> 55 | I39: =Week17!I39+Week18!I34 -> 45 | J39: =Week17!J39+Week18!J34 -> 42 | ... FG39: =Week17!FG39+Week18!FG34 -> 0
B40: L | C40: =Week17!C40+Week18!C35 -> 59 | D40: =Week17!D40+Week18!D35 -> 53 | E40: =Week17!E40+Week18!E35 -> 53 | F40: =Week17!F40+Week18!F35 -> 50 | G40: =Week17!G40+Week18!G35 -> 55 | H40: =Week17!H40+Week18!H35 -> 46 | I40: =Week17!I40+Week18!I35 -> 56 | J40: =Week17!J40+Week18!J35 -> 59 | ... FG40: =Week17!FG40+Week18!FG35 -> 0
B41: Percent | C41: =C39/(C39+C40) -> 0.41584158 | D41: =D39/(D39+D40) -> 0.47524752 | E41: =E39/(E39+E40) -> 0.47524752 | F41: =F39/(F39+F40) -> 0.5049505 | G41: =G39/(G39+G40) -> 0.45544554 | H41: =H39/(H39+H40) -> 0.54455446 | I41: =I39/(I39+I40) -> 0.44554455 | J41: =J39/(J39+J40) -> 0.41584158 | ... FG41: =FG39/(FG39+FG40) -> #DIV/0!
C42: =C1 -> Jun | D42: =D1 -> Diana C | E42: =E1 -> Tinny | F42: =F1 -> Smith, M | G42: =G1 -> John McG | H42: =H1 -> Hamilton, J | I42: =I1 -> Dan G | J42: =J1 -> Caracas, M | ... FG42: =FG1 -> Blank
A43: =A32 -> 0 | B43: =B32 -> 0 | C43: 48 | D43: 27 | F43: x | G43: 58 | I43: x | J43: x | P43: x | Q43: x | R43: x | S43: x | T43: x | U43: x | X43: x | Y43: x | Z43: x | AB43: x | AD43: 45 | AE43: 43 | AG43: x | AI43: x | AJ43: x | AM43: x | AQ43: 40 | AR43: x | AS43: x | AT43: x | AV43: 42 | AW43: x | AY43: x | AZ43: x | BB43: x | BD43: x | BF43: x | BG43: x | BH43: x | BI43: x | BJ43: x | BL43: x | BM43: x | BN43: x | BO43: 56 | BP43: 56 | BQ43: x | BR43: x | BS43: x | BU43: x | BW43: x | BX43: x | BY43: x | BZ43: x | CA43: x | CE43: x | CH43: x | CJ43: x | CK43: x | CL43: x | CM43: x | CN43: 45 | CO43: 40 | CR43: x | CU43: x | CV43: x | CW43: x | CX43: x | CY43: x | CZ43: x | DA43: x | DC43: x | DF43: x | DG43: x | DH43: x | DI43: x | DJ43: x | DK43: 48 | DM43: x | DN43: x | DO43: x | DQ43: 37 | DR43: 35 | DS43: 35 | DT43: x | DU43: x | DV43: 44 | DW43: x
A44: =A33 -> 0 | B44: =B33 -> 0 | E44: 35 | H44: x | K44: x | L44: x | M44: 43 | N44: x | O44: 42 | V44: x | W44: x | AA44: x | AC44: x | AF44: x | AH44: x | AK44: x | AL44: x | AN44: x | AO44: x | AP44: x | AU44: x | AX44: x | BA44: 35 | BC44: 58 | BE44: 42 | BK44: x | BT44: x | BV44: x | CB44: x | CC44: x | CD44: x | CF44: x | CG44: x | CI44: x | CP44: 38 | CQ44: x | CS44: x | CT44: x | DB44: x | DD44: x | DE44: x | DL44: 44 | DP44: x
C46: =C39+C40 -> 101 | D46: =D39+D40 -> 101 | E46: =E39+E40 -> 101 | F46: =F39+F40 -> 101 | G46: =G39+G40 -> 101 | H46: =H39+H40 -> 101 | I46: =I39+I40 -> 101 | J46: =J39+J40 -> 101 | ... DW46: =DW39+DW40 -> 101

Sheet Week17
B1: Week 17 | C1: =Week1!C1 -> Jun | D1: =Week1!D1 -> Diana C | E1: =Week1!E1 -> Tinny | F1: =Week1!F1 -> Smith, M | G1: =Week1!G1 -> John McG | H1: =Week1!H1 -> Hamilton, J | I1: =Week1!I1 -> Dan G | J1: =Week1!J1 -> Caracas, M | ... FG1: =Week1!FG1 -> Blank
A2: n/a | B2: CINCINNATI ()
A3: n/a | B3: Baltimore ()
B4: ATLANTA ()
B5: New Orleans ()
B6: CAROLINA ()
B7: Seattle ()
B8: CLEVELAND ()
B9: Indianapolis ()
B10: DALLAS ()
B11: NY Giants
B12: MIAMI ()
B13: Buffalo ()
B14: NY JETS ()
B15: Minnesota ()
... B33: TAMPA BAY ()
B34: W | C34: =COUNTIF(C2:C33,"W") -> 0 | D34: =COUNTIF(D2:D33,"W") -> 0 | E34: =COUNTIF(E2:E33,"W") -> 0 | F34: =COUNTIF(F2:F33,"W") -> 0 | G34: =COUNTIF(G2:G33,"W") -> 0 | H34: =COUNTIF(H2:H33,"W") -> 0 | I34: =COUNTIF(I2:I33,"W") -> 0 | J34: =COUNTIF(J2:J33,"W") -> 0 | ... FG34: =COUNTIF(FG2:FG33,"W") -> 0
B35: L | C35: =COUNTIF(C2:C33,"L") -> 0 | D35: =COUNTIF(D2:D33,"L") -> 0 | E35: =COUNTIF(E2:E33,"L") -> 0 | F35: =COUNTIF(F2:F33,"L") -> 0 | G35: =COUNTIF(G2:G33,"L") -> 0 | H35: =COUNTIF(H2:H33,"L") -> 0 | I35: =COUNTIF(I2:I33,"L") -> 0 | J35: =COUNTIF(J2:J33,"L") -> 0 | ... FG35: =COUNTIF(FG2:FG33,"L") -> 0
B36: Percent | C36: =SUM(C34/(C34+C35)) -> #DIV/0! | D36: =SUM(D34/(D34+D35)) -> #DIV/0! | E36: =SUM(E34/(E34+E35)) -> #DIV/0! | F36: =SUM(F34/(F34+F35)) -> #DIV/0! | G36: =SUM(G34/(G34+G35)) -> #DIV/0! | H36: =SUM(H34/(H34+H35)) -> #DIV/0! | I36: =SUM(I34/(I34+I35)) -> #DIV/0! | J36: =SUM(J34/(J34+J35)) -> #DIV/0! | ... FG36: =SUM(FG34/(FG34+FG35)) -> #DIV/0!
B38: Overall | C38: 1 | D38: 2 | E38: 3 | F38: 4 | G38: 5 | H38: 6 | I38: 7 | J38: 8 | K38: 9 | L38: 10 | M38: 11 | N38: 12 | O38: 13 | P38: 14 | Q38: 15 | R38: 16 | S38: 17 | T38: 18 | U38: 19 | V38: 20 | W38: 21 | X38: 22 | Y38: 23 | Z38: 24 | AA38: 25 | AB38: 26 | AC38: 27 | AD38: 28 | AE38: 29 | AF38: 30 | AG38: 31 | AH38: 32 | AI38: 33 | AJ38: 34 | AK38: 35 | AL38: 36 | AM38: 37 | AN38: 38 | AO38: 39 | AP38: 40 | AQ38: 41 | AR38: 42 | AS38: 43 | AT38: 44 | AU38: 45 | AV38: 46 | AW38: 47 | AX38: 48 | AY38: 49 | AZ38: 50 | BA38: 51 | BB38: 52 | BC38: 53 | BD38: 54 | BE38: 55 | BF38: 56 | BG38: 57 | BH38: 58 | BI38: 59 | BJ38: 60 | BK38: 61 | BL38: 62 | BM38: 63 | BN38: 64 | BO38: 65 | BP38: 66 | BQ38: 67 | BR38: 68 | BS38: 69 | BT38: 70 | BU38: 71 | BV38: 72 | BW38: 73 | BX38: 74 | BY38: 75 | BZ38: 76 | CA38: 77 | CB38: 78 | CC38: 79 | CD38: 80 | CE38: 81 | CF38: 82 | CG38: 83 | CH38: 84 | CI38: 85 | CJ38: 86 | CK38: 87 | CL38: 88 | CM38: 89 | CN38: 90 | CO38: 91 | CP38: 92 | CQ38: 93 | CR38: 94 | CS38: 95 | CT38: 96 | CU38: 97 | CV38: 98 | CW38: 99 | CX38: 100 | CY38: 101 | CZ38: 102 | DA38: 103 | DB38: 104 | DC38: 105 | DD38: 106 | DE38: 107 | DF38: 108 | DG38: 109 | DH38: 110 | DI38: 111 | DJ38: 112 | DK38: 113 | DL38: 114 | DM38: 115 | DN38: 116 | DO38: 117 | DP38: 118 | DQ38: 119 | DR38: 120 | DS38: 121 | DT38: 122 | DU38: 123 | DV38: 124 | DW38: 125 | DX38: 126 | DY38: 127 | DZ38: 128 | EA38: 129 | EB38: 130 | EC38: 131 | ED38: 132 | EE38: 133 | EF38: 134 | EG38: 135 | EH38: 136 | EI38: 137 | EJ38: 138 | EK38: 139 | EL38: 140 | EM38: 141 | EN38: 142 | EO38: 143 | EP38: 144 | EQ38: 145 | ER38: 146 | ES38: 147 | ET38: 148 | EU38: 149 | EV38: 150 | EW38: 151 | EX38: 152 | EY38: 153 | EZ38: 154 | FA38: 155 | FB38: 156 | FC38: 157 | FD38: 158 | FE38: 159 | FF38: 160 | FG38: 161
B39: W | C39: =Week16!C39+Week17!C34 -> 42 | D39: =Week16!D39+Week17!D34 -> 48 | E39: =Week16!E39+Week17!E34 -> 48 | F39: =Week16!F39+Week17!F34 -> 51 | G39: =Week16!G39+Week17!G34 -> 46 | H39: =Week16!H39+Week17!H34 -> 55 | I39: =Week16!I39+Week17!I34 -> 45 | J39: =Week16!J39+Week17!J34 -> 42 | ... FG39: =Week16!FG39+Week17!FG34 -> 0
B40: L | C40: =Week16!C40+Week17!C35 -> 59 | D40: =Week16!D40+Week17!D35 -> 53 | E40: =Week16!E40+Week17!E35 -> 53 | F40: =Week16!F40+Week17!F35 -> 50 | G40: =Week16!G40+Week17!G35 -> 55 | H40: =Week16!H40+Week17!H35 -> 46 | I40: =Week16!I40+Week17!I35 -> 56 | J40: =Week16!J40+Week17!J35 -> 59 | ... FG40: =Week16!FG40+Week17!FG35 -> 0
B41: Percent | C41: =C39/(C39+C40) -> 0.41584158 | D41: =D39/(D39+D40) -> 0.47524752 | E41: =E39/(E39+E40) -> 0.47524752 | F41: =F39/(F39+F40) -> 0.5049505 | G41: =G39/(G39+G40) -> 0.45544554 | H41: =H39/(H39+H40) -> 0.54455446 | I41: =I39/(I39+I40) -> 0.44554455 | J41: =J39/(J39+J40) -> 0.41584158 | ... FG41: =FG39/(FG39+FG40) -> #DIV/0!
C42: =C1 -> Jun | D42: =D1 -> Diana C | E42: =E1 -> Tinny | F42: =F1 -> Smith, M | G42: =G1 -> John McG | H42: =H1 -> Hamilton, J | I42: =I1 -> Dan G | J42: =J1 -> Caracas, M | ... FG42: =FG1 -> Blank
A43: =A32 -> 0 | B43: =B32 -> LA Rams | C43: 37 | D43: 44 | E43: 40 | G43: 47 | H43: x | I43: x | J43: x | K43: x | M43: 33 | N43: 55 | O43: 48 | P43: x | R43: x | S43: 49 | T43: x | U43: x | V43: 48 | X43: x | Y43: x | Z43: x | AA43: x | AB43: x | AD43: x | AE43: x | AF43: x | AG43: x | AI43: x | AJ43: x | AK43: x | AL43: x | AM43: x | AN43: x | AO43: x | AP43: x | AQ43: 45 | AR43: x | AS43: x | AT43: x | AW43: x | AY43: x | AZ43: x | BA43: x | BB43: x | BC43: 46 | BD43: x | BF43: x | BG43: x | BH43: x | BI43: x | BJ43: x | BK43: x | BM43: x | BN43: x | BO43: x | BP43: x | BQ43: x | BR43: x | BS43: x | BT43: x | BU43: x | BV43: x | BW43: x | BX43: x | BY43: x | BZ43: x | CA43: x | CC43: x | CD43: x | CE43: x | CG43: x | CH43: x | CI43: x | CJ43: x | CK43: x | CL43: x | CM43: x | CN43: 52 | CO43: 44 | CQ43: x | CR43: x | CS43: x | CT43: x | CU43: x | CV43: x | CW43: x | CY43: x | CZ43: x | DA43: x | DC43: x | DD43: x | DE43: x | DG43: x | DI43: x | DJ43: x | DL43: 45 | DM43: x | DN43: x | DO43: x | DP43: x | DQ43: 48 | DS43: 50 | DT43: x | DW43: x
A44: =A33 -> 0 | B44: =B33 -> TAMPA BAY () | F44: x | L44: x | Q44: x | W44: x | AC44: x | AH44: x | AU44: x | AV44: 48 | AX44: x | BE44: x | BL44: x | CB44: x | CF44: x | CP44: 38 | CX44: x | DB44: x | DF44: x | DH44: x | DK44: 54 | DR44: 51 | DU44: x | DV44: 44
C46: =C39+C40 -> 101 | D46: =D39+D40 -> 101 | E46: =E39+E40 -> 101 | F46: =F39+F40 -> 101 | G46: =G39+G40 -> 101 | H46: =H39+H40 -> 101 | I46: =I39+I40 -> 101 | J46: =J39+J40 -> 101 | ... DW46: =DW39+DW40 -> 101

Sheet Week16
B1: Week 16 | C1: =Week1!C1 -> Jun | D1: =Week1!D1 -> Diana C | E1: =Week1!E1 -> Tinny | F1: =Week1!F1 -> Smith, M | G1: =Week1!G1 -> John McG | H1: =Week1!H1 -> Hamilton, J | I1: =Week1!I1 -> Dan G | J1: =Week1!J1 -> Caracas, M | ... FG1: =Week1!FG1 -> Blank
B2: PHILADELPHIA ()
B3: Houston
B4: CHICAGO ()
B5: Green Bay ()
B6: Buffalo ()
B7: DENVER ()
B8: SEATTLE ()
B9: LA Rams ()
B10: BALTIMORE ()
B11: Cleveland ()
B12: MIAMI ()
B13: LA Chargers
... B33: Carolina ()
B34: W | C34: =COUNTIF(C2:C33,"W") -> 0 | D34: =COUNTIF(D2:D33,"W") -> 0 | E34: =COUNTIF(E2:E33,"W") -> 0 | F34: =COUNTIF(F2:F33,"W") -> 0 | G34: =COUNTIF(G2:G33,"W") -> 0 | H34: =COUNTIF(H2:H33,"W") -> 0 | I34: =COUNTIF(I2:I33,"W") -> 0 | J34: =COUNTIF(J2:J33,"W") -> 0 | ... FG34: =COUNTIF(FG2:FG33,"W") -> 0
B35: L | C35: =COUNTIF(C2:C33,"L") -> 0 | D35: =COUNTIF(D2:D33,"L") -> 0 | E35: =COUNTIF(E2:E33,"L") -> 0 | F35: =COUNTIF(F2:F33,"L") -> 0 | G35: =COUNTIF(G2:G33,"L") -> 0 | H35: =COUNTIF(H2:H33,"L") -> 0 | I35: =COUNTIF(I2:I33,"L") -> 0 | J35: =COUNTIF(J2:J33,"L") -> 0 | ... FG35: =COUNTIF(FG2:FG33,"L") -> 0
B36: Percent | C36: =SUM(C34/(C34+C35)) -> #DIV/0! | D36: =SUM(D34/(D34+D35)) -> #DIV/0! | E36: =SUM(E34/(E34+E35)) -> #DIV/0! | F36: =SUM(F34/(F34+F35)) -> #DIV/0! | G36: =SUM(G34/(G34+G35)) -> #DIV/0! | H36: =SUM(H34/(H34+H35)) -> #DIV/0! | I36: =SUM(I34/(I34+I35)) -> #DIV/0! | J36: =SUM(J34/(J34+J35)) -> #DIV/0! | ... FG36: =SUM(FG34/(FG34+FG35)) -> #DIV/0!
B38: Overall | C38: 1 | D38: 2 | E38: 3 | F38: 4 | G38: 5 | H38: 6 | I38: 7 | J38: 8 | K38: 9 | L38: 10 | M38: 11 | N38: 12 | O38: 13 | P38: 14 | Q38: 15 | R38: 16 | S38: 17 | T38: 18 | U38: 19 | V38: 20 | W38: 21 | X38: 22 | Y38: 23 | Z38: 24 | AA38: 25 | AB38: 26 | AC38: 27 | AD38: 28 | AE38: 29 | AF38: 30 | AG38: 31 | AH38: 32 | AI38: 33 | AJ38: 34 | AK38: 35 | AL38: 36 | AM38: 37 | AN38: 38 | AO38: 39 | AP38: 40 | AQ38: 41 | AR38: 42 | AS38: 43 | AT38: 44 | AU38: 45 | AV38: 46 | AW38: 47 | AX38: 48 | AY38: 49 | AZ38: 50 | BA38: 51 | BB38: 52 | BC38: 53 | BD38: 54 | BE38: 55 | BF38: 56 | BG38: 57 | BH38: 58 | BI38: 59 | BJ38: 60 | BK38: 61 | BL38: 62 | BM38: 63 | BN38: 64 | BO38: 65 | BP38: 66 | BQ38: 67 | BR38: 68 | BS38: 69 | BT38: 70 | BU38: 71 | BV38: 72 | BW38: 73 | BX38: 74 | BY38: 75 | BZ38: 76 | CA38: 77 | CB38: 78 | CC38: 79 | CD38: 80 | CE38: 81 | CF38: 82 | CG38: 83 | CH38: 84 | CI38: 85 | CJ38: 86 | CK38: 87 | CL38: 88 | CM38: 89 | CN38: 90 | CO38: 91 | CP38: 92 | CQ38: 93 | CR38: 94 | CS38: 95 | CT38: 96 | CU38: 97 | CV38: 98 | CW38: 99 | CX38: 100 | CY38: 101 | CZ38: 102 | DA38: 103 | DB38: 104 | DC38: 105 | DD38: 106 | DE38: 107 | DF38: 108 | DG38: 109 | DH38: 110 | DI38: 111 | DJ38: 112 | DK38: 113 | DL38: 114 | DM38: 115 | DN38: 116 | DO38: 117 | DP38: 118 | DQ38: 119 | DR38: 120 | DS38: 121 | DT38: 122 | DU38: 123 | DV38: 124 | DW38: 125 | DX38: 126 | DY38: 127 | DZ38: 128 | EA38: 129 | EB38: 130 | EC38: 131 | ED38: 132 | EE38: 133 | EF38: 134 | EG38: 135 | EH38: 136 | EI38: 137 | EJ38: 138 | EK38: 139 | EL38: 140 | EM38: 141 | EN38: 142 | EO38: 143 | EP38: 144 | EQ38: 145 | ER38: 146 | ES38: 147 | ET38: 148 | EU38: 149 | EV38: 150 | EW38: 151 | EX38: 152 | EY38: 153 | EZ38: 154 | FA38: 155 | FB38: 156 | FC38: 157 | FD38: 158 | FE38: 159 | FF38: 160 | FG38: 161
B39: W | C39: =Week15!C39+Week16!C34 -> 42 | D39: =Week15!D39+Week16!D34 -> 48 | E39: =Week15!E39+Week16!E34 -> 48 | F39: =Week15!F39+Week16!F34 -> 51 | G39: =Week15!G39+Week16!G34 -> 46 | H39: =Week15!H39+Week16!H34 -> 55 | I39: =Week15!I39+Week16!I34 -> 45 | J39: =Week15!J39+Week16!J34 -> 42 | ... FG39: =Week15!FG39+Week16!FG34 -> 0
B40: L | C40: =Week15!C40+Week16!C35 -> 59 | D40: =Week15!D40+Week16!D35 -> 53 | E40: =Week15!E40+Week16!E35 -> 53 | F40: =Week15!F40+Week16!F35 -> 50 | G40: =Week15!G40+Week16!G35 -> 55 | H40: =Week15!H40+Week16!H35 -> 46 | I40: =Week15!I40+Week16!I35 -> 56 | J40: =Week15!J40+Week16!J35 -> 59 | ... FG40: =Week15!FG40+Week16!FG35 -> 0
B41: Percent | C41: =C39/(C39+C40) -> 0.41584158 | D41: =D39/(D39+D40) -> 0.47524752 | E41: =E39/(E39+E40) -> 0.47524752 | F41: =F39/(F39+F40) -> 0.5049505 | G41: =G39/(G39+G40) -> 0.45544554 | H41: =H39/(H39+H40) -> 0.54455446 | I41: =I39/(I39+I40) -> 0.44554455 | J41: =J39/(J39+J40) -> 0.41584158 | ... FG41: =FG39/(FG39+FG40) -> #DIV/0!
C42: =C1 -> Jun | D42: =D1 -> Diana C | E42: =E1 -> Tinny | F42: =F1 -> Smith, M | G42: =G1 -> John McG | H42: =H1 -> Hamilton, J | I42: =I1 -> Dan G | J42: =J1 -> Caracas, M | ... FG42: =FG1 -> Blank
A43: =A32 -> 0 | B43: =B32 -> PITTSBURGH () | C43: 47 | D43: 37 | F43: x | I43: x | L43: x | M43: 39 | O43: 42 | P43: x | S43: 44 | T43: x | U43: x | V43: x | Y43: x | Z43: x | AA43: x | AB43: x | AC43: x | AE43: x | AG43: x | AH43: x | AI43: x | AJ43: x | AL43: x | AM43: x | AN43: x | AO43: x | AQ43: 45 | AR43: x | AS43: x | AT43: x | AU43: x | AV43: x | AW43: x | AX43: x | AY43: x | AZ43: x | BA43: x | BC43: x | BD43: x | BF43: x | BG43: x | BH43: x | BI43: x | BJ43: x | BK43: x | BM43: x | BN43: x | BO43: 45 | BQ43: X | BR43: X | BS43: x | BT43: x | BU43: x | BV43: x | BW43: x | BX43: x | BY43: x | BZ43: x | CA43: x | CB43: x | CC43: x | CD43: x | CG43: x | CH43: x | CI43: x | CJ43: x | CK43: 37 | CL43: x | CM43: x | CN43: 50 | CO43: 41 | CP43: x | CQ43: x | CT43: x | CV43: x | CW43: 50 | CZ43: x | DA43: x | DB43: x | DC43: x | DD43: x | DE43: x | DF43: x | DG43: x | DH43: x | DI43: x | DM43: x | DN43: x | DO43: x | DP43: x | DR43: 40 | DT43: x | DU43: x | DV43: 44 | DW43: x
A44: =A33 -> 0 | B44: =B33 -> Carolina () | E44: 40 | G44: 51 | H44: x | J44: x | K44: x | N44: 53 | Q44: x | R44: x | W44: x | X44: x | AD44: 49 | AF44: x | AK44: x | AP44: x | BB44: x | BE44: 40 | BL44: x | BP44: 45 | CE44: x | CF44: x | CR44: x | CS44: x | CU44: x | CX44: x | CY44: x | DJ44: x | DK44: 45 | DL44: 48 | DQ44: 41 | DS44: 50
C46: =C39+C40 -> 101 | D46: =D39+D40 -> 101 | E46: =E39+E40 -> 101 | F46: =F39+F40 -> 101 | G46: =G39+G40 -> 101 | H46: =H39+H40 -> 101 | I46: =I39+I40 -> 101 | J46: =J39+J40 -> 101 | ... DW46: =DW39+DW40 -> 101

Sheet Week15
B1: Week 15 | C1: =Week1!C1 -> Jun | D1: =Week1!D1 -> Diana C | E1: =Week1!E1 -> Tinny | F1: =Week1!F1 -> Smith, M | G1: =Week1!G1 -> John McG | H1: =Week1!H1 -> Hamilton, J | I1: =Week1!I1 -> Dan G | J1: =Week1!J1 -> Caracas, M | ... FG1: =Week1!FG1 -> Blank
A2: n/a | B2: San Francisco () Does Not
A3: n/a | B3: LA CHARGERS () +xx Count
B4: Seattle ()
B5: PHILADELPHIA ()
B6: BUFFALO ()
B7: Chicago ()
B8: CAROLINA ()
B9: Cincinnati ()
B10: GREEN BAY ()
B11: Miami ()
B12: Jacksonville ()
B13: HOUSTON ()
B14: NY GIANYS ()
B15: Cleveland ()
... B33: New England ()
B34: W | C34: =COUNTIF(C2:C33,"W") -> 0 | D34: =COUNTIF(D2:D33,"W") -> 0 | E34: =COUNTIF(E2:E33,"W") -> 0 | F34: =COUNTIF(F2:F33,"W") -> 0 | G34: =COUNTIF(G2:G33,"W") -> 0 | H34: =COUNTIF(H2:H33,"W") -> 0 | I34: =COUNTIF(I2:I33,"W") -> 0 | J34: =COUNTIF(J2:J33,"W") -> 0 | ... FG34: =COUNTIF(FG2:FG33,"W") -> 0
B35: L | C35: =COUNTIF(C2:C33,"L") -> 0 | D35: =COUNTIF(D2:D33,"L") -> 0 | E35: =COUNTIF(E2:E33,"L") -> 0 | F35: =COUNTIF(F2:F33,"L") -> 0 | G35: =COUNTIF(G2:G33,"L") -> 0 | H35: =COUNTIF(H2:H33,"L") -> 0 | I35: =COUNTIF(I2:I33,"L") -> 0 | J35: =COUNTIF(J2:J33,"L") -> 0 | ... FG35: =COUNTIF(FG2:FG33,"L") -> 0
B36: Percent | C36: =SUM(C34/(C34+C35)) -> #DIV/0! | D36: =SUM(D34/(D34+D35)) -> #DIV/0! | E36: =SUM(E34/(E34+E35)) -> #DIV/0! | F36: =SUM(F34/(F34+F35)) -> #DIV/0! | G36: =SUM(G34/(G34+G35)) -> #DIV/0! | H36: =SUM(H34/(H34+H35)) -> #DIV/0! | I36: =SUM(I34/(I34+I35)) -> #DIV/0! | J36: =SUM(J34/(J34+J35)) -> #DIV/0! | ... FG36: =SUM(FG34/(FG34+FG35)) -> #DIV/0!
B38: Overall | C38: 1 | D38: 2 | E38: 3 | F38: 4 | G38: 5 | H38: 6 | I38: 7 | J38: 8 | K38: 9 | L38: 10 | M38: 11 | N38: 12 | O38: 13 | P38: 14 | Q38: 15 | R38: 16 | S38: 17 | T38: 18 | U38: 19 | V38: 20 | W38: 21 | X38: 22 | Y38: 23 | Z38: 24 | AA38: 25 | AB38: 26 | AC38: 27 | AD38: 28 | AE38: 29 | AF38: 30 | AG38: 31 | AH38: 32 | AI38: 33 | AJ38: 34 | AK38: 35 | AL38: 36 | AM38: 37 | AN38: 38 | AO38: 39 | AP38: 40 | AQ38: 41 | AR38: 42 | AS38: 43 | AT38: 44 | AU38: 45 | AV38: 46 | AW38: 47 | AX38: 48 | AY38: 49 | AZ38: 50 | BA38: 51 | BB38: 52 | BC38: 53 | BD38: 54 | BE38: 55 | BF38: 56 | BG38: 57 | BH38: 58 | BI38: 59 | BJ38: 60 | BK38: 61 | BL38: 62 | BM38: 63 | BN38: 64 | BO38: 65 | BP38: 66 | BQ38: 67 | BR38: 68 | BS38: 69 | BT38: 70 | BU38: 71 | BV38: 72 | BW38: 73 | BX38: 74 | BY38: 75 | BZ38: 76 | CA38: 77 | CB38: 78 | CC38: 79 | CD38: 80 | CE38: 81 | CF38: 82 | CG38: 83 | CH38: 84 | CI38: 85 | CJ38: 86 | CK38: 87 | CL38: 88 | CM38: 89 | CN38: 90 | CO38: 91 | CP38: 92 | CQ38: 93 | CR38: 94 | CS38: 95 | CT38: 96 | CU38: 97 | CV38: 98 | CW38: 99 | CX38: 100 | CY38: 101 | CZ38: 102 | DA38: 103 | DB38: 104 | DC38: 105 | DD38: 106 | DE38: 107 | DF38: 108 | DG38: 109 | DH38: 110 | DI38: 111 | DJ38: 112 | DK38: 113 | DL38: 114 | DM38: 115 | DN38: 116 | DO38: 117 | DP38: 118 | DQ38: 119 | DR38: 120 | DS38: 121 | DT38: 122 | DU38: 123 | DV38: 124 | DW38: 125 | DX38: 126 | DY38: 127 | DZ38: 128 | EA38: 129 | EB38: 130 | EC38: 131 | ED38: 132 | EE38: 133 | EF38: 134 | EG38: 135 | EH38: 136 | EI38: 137 | EJ38: 138 | EK38: 139 | EL38: 140 | EM38: 141 | EN38: 142 | EO38: 143 | EP38: 144 | EQ38: 145 | ER38: 146 | ES38: 147 | ET38: 148 | EU38: 149 | EV38: 150 | EW38: 151 | EX38: 152 | EY38: 153 | EZ38: 154 | FA38: 155 | FB38: 156 | FC38: 157 | FD38: 158 | FE38: 159 | FF38: 160 | FG38: 161
B39: W | C39: =Week14!C39+Week15!C34 -> 42 | D39: =Week14!D39+Week15!D34 -> 48 | E39: =Week14!E39+Week15!E34 -> 48 | F39: =Week14!F39+Week15!F34 -> 51 | G39: =Week14!G39+Week15!G34 -> 46 | H39: =Week14!H39+Week15!H34 -> 55 | I39: =Week14!I39+Week15!I34 -> 45 | J39: =Week14!J39+Week15!J34 -> 42 | ... FG39: =Week14!FG39+Week15!FG34 -> 0
B40: L | C40: =Week14!C40+Week15!C35 -> 59 | D40: =Week14!D40+Week15!D35 -> 53 | E40: =Week14!E40+Week15!E35 -> 53 | F40: =Week14!F40+Week15!F35 -> 50 | G40: =Week14!G40+Week15!G35 -> 55 | H40: =Week14!H40+Week15!H35 -> 46 | I40: =Week14!I40+Week15!I35 -> 56 | J40: =Week14!J40+Week15!J35 -> 59 | ... FG40: =Week14!FG40+Week15!FG35 -> 0
B41: Percent | C41: =C39/(C39+C40) -> 0.41584158 | D41: =D39/(D39+D40) -> 0.47524752 | E41: =E39/(E39+E40) -> 0.47524752 | F41: =F39/(F39+F40) -> 0.5049505 | G41: =G39/(G39+G40) -> 0.45544554 | H41: =H39/(H39+H40) -> 0.54455446 | I41: =I39/(I39+I40) -> 0.44554455 | J41: =J39/(J39+J40) -> 0.41584158 | ... FG41: =FG39/(FG39+FG40) -> #DIV/0!
C42: =C1 -> Jun | D42: =D1 -> Diana C | E42: =E1 -> Tinny | F42: =F1 -> Smith, M | G42: =G1 -> John McG | H42: =H1 -> Hamilton, J | I42: =I1 -> Dan G | J42: =J1 -> Caracas, M | ... FG42: =FG1 -> Blank
A43: =A32 -> 0 | B43: =B32 -> KANSAS CITY () | C43: 37 | D43: x | G43: 37 | H43: x | J43: x | K43: x | L43: x | M43: x | N43: 40 | O43: 48 | P43: x | S43: 46 | T43: x | U43: x | V43: 38 | W43: x | Y43: x | Z43: x | AA43: x | AC43: x | AF43: x | AG43: x | AH43: x | AI43: x | AJ43: x | AL43: x | AM43: x | AO43: x | AR43: x | AS43: x | AT43: x | AW43: x | AX43: x | AY43: x | AZ43: x | BA43: x | BB43: 51 | BC43: 60 | BD43: x | BF43: x | BG43: x | BH43: x | BI43: x | BJ43: x | BL43: x | BM43: x | BN43: x | BP43: 45 | BQ43: x | BR43: x | BS43: x | BT43: x | BU43: x | BV43: x | BW43: x | BY43: x | BZ43: x | CA43: x | CC43: x | CD43: x | CE43: x | CG43: x | CH43: x | CJ43: x | CK43: 37 | CM43: x | CN43: 44 | CO43: 34 | CP43: x | CQ43: x | CS43: x | CT43: x | CW43: 45 | CX43: x | CY43: x | CZ43: x | DA43: x | DC43: 38 | DD43: x | DG43: x | DH43: x | DM43: x | DO43: x | DR43: x | DS43: 44 | DT43: x | DW43: x
A44: =A33 -> 0 | B44: =B33 -> New England () | E44: 38 | F44: x | I44: x | Q44: x | R44: x | X44: x | AB44: x | AD44: 46 | AE44: 40 | AK44: x | AN44: x | AP44: x | AQ44: 54 | AU44: x | AV44: 41 | BE44: 40 | BK44: x | BO44: 45 | BX44: x | CB44: x | CF44: x | CI44: x | CL44: x | CR44: x | CU44: x | CV44: x | DB44: x | DE44: x | DF44: x | DI44: x | DJ44: x | DK44: 39 | DL44: 46 | DN44: x | DP44: x | DQ44: 47 | DU44: x | DV44: 44
C46: =C39+C40 -> 101 | D46: =D39+D40 -> 101 | E46: =E39+E40 -> 101 | F46: =F39+F40 -> 101 | G46: =G39+G40 -> 101 | H46: =H39+H40 -> 101 | I46: =I39+I40 -> 101 | J46: =J39+J40 -> 101 | ... EC46: =EC39+EC40 -> 0

Sheet Week14
B1: Week 14 | C1: =Week1!C1 -> Jun | D1: =Week1!D1 -> Diana C | E1: =Week1!E1 -> Tinny | F1: =Week1!F1 -> Smith, M | G1: =Week1!G1 -> John McG | H1: =Week1!H1 -> Hamilton, J | I1: =Week1!I1 -> Dan G | J1: =Week1!J1 -> Caracas, M | ... FG1: =Week1!FG1 -> Blank
A2: n/a | B2: NEW ENGLAND () Does Not
A3: n/a | B3: Minnesota () +xx Count
B4: BALTIMORE ()
B5: Tampa Bay ()
B6: CAOLINA ()
B7: New Orleans ()
B8: CLEVELAND ()
B9: Atlanta ()
B10: DETROIT ()
B11: Tennessee ()
B12: Chicago ()
B13: MIAMI ()
B14: Denver ()
B15: NY JETS ()
... B31: Pittsburgh ()
A32: Bye | B32: Arizona ()
A33: Bye | B33: Dallas ()
B34: W | C34: =COUNTIF(C2:C33,"W") -> 0 | D34: =COUNTIF(D2:D33,"W") -> 0 | E34: =COUNTIF(E2:E33,"W") -> 0 | F34: =COUNTIF(F2:F33,"W") -> 0 | G34: =COUNTIF(G2:G33,"W") -> 0 | H34: =COUNTIF(H2:H33,"W") -> 0 | I34: =COUNTIF(I2:I33,"W") -> 0 | J34: =COUNTIF(J2:J33,"W") -> 0 | ... FG34: =COUNTIF(FG2:FG33,"W") -> 0
B35: L | C35: =COUNTIF(C2:C33,"L") -> 0 | D35: =COUNTIF(D2:D33,"L") -> 0 | E35: =COUNTIF(E2:E33,"L") -> 0 | F35: =COUNTIF(F2:F33,"L") -> 0 | G35: =COUNTIF(G2:G33,"L") -> 0 | H35: =COUNTIF(H2:H33,"L") -> 0 | I35: =COUNTIF(I2:I33,"L") -> 0 | J35: =COUNTIF(J2:J33,"L") -> 0 | ... FG35: =COUNTIF(FG2:FG33,"L") -> 0
B36: Percent | C36: =SUM(C34/(C34+C35)) -> #DIV/0! | D36: =SUM(D34/(D34+D35)) -> #DIV/0! | E36: =SUM(E34/(E34+E35)) -> #DIV/0! | F36: =SUM(F34/(F34+F35)) -> #DIV/0! | G36: =SUM(G34/(G34+G35)) -> #DIV/0! | H36: =SUM(H34/(H34+H35)) -> #DIV/0! | I36: =SUM(I34/(I34+I35)) -> #DIV/0! | J36: =SUM(J34/(J34+J35)) -> #DIV/0! | ... FG36: =SUM(FG34/(FG34+FG35)) -> #DIV/0!
B38: Overall | C38: 1 | D38: 2 | E38: 3 | F38: 4 | G38: 5 | H38: 6 | I38: 7 | J38: 8 | K38: 9 | L38: 10 | M38: 11 | N38: 12 | O38: 13 | P38: 14 | Q38: 15 | R38: 16 | S38: 17 | T38: 18 | U38: 19 | V38: 20 | W38: 21 | X38: 22 | Y38: 23 | Z38: 24 | AA38: 25 | AB38: 26 | AC38: 27 | AD38: 28 | AE38: 29 | AF38: 30 | AG38: 31 | AH38: 32 | AI38: 33 | AJ38: 34 | AK38: 35 | AL38: 36 | AM38: 37 | AN38: 38 | AO38: 39 | AP38: 40 | AQ38: 41 | AR38: 42 | AS38: 43 | AT38: 44 | AU38: 45 | AV38: 46 | AW38: 47 | AX38: 48 | AY38: 49 | AZ38: 50 | BA38: 51 | BB38: 52 | BC38: 53 | BD38: 54 | BE38: 55 | BF38: 56 | BG38: 57 | BH38: 58 | BI38: 59 | BJ38: 60 | BK38: 61 | BL38: 62 | BM38: 63 | BN38: 64 | BO38: 65 | BP38: 66 | BQ38: 67 | BR38: 68 | BS38: 69 | BT38: 70 | BU38: 71 | BV38: 72 | BW38: 73 | BX38: 74 | BY38: 75 | BZ38: 76 | CA38: 77 | CB38: 78 | CC38: 79 | CD38: 80 | CE38: 81 | CF38: 82 | CG38: 83 | CH38: 84 | CI38: 85 | CJ38: 86 | CK38: 87 | CL38: 88 | CM38: 89 | CN38: 90 | CO38: 91 | CP38: 92 | CQ38: 93 | CR38: 94 | CS38: 95 | CT38: 96 | CU38: 97 | CV38: 98 | CW38: 99 | CX38: 100 | CY38: 101 | CZ38: 102 | DA38: 103 | DB38: 104 | DC38: 105 | DD38: 106 | DE38: 107 | DF38: 108 | DG38: 109 | DH38: 110 | DI38: 111 | DJ38: 112 | DK38: 113 | DL38: 114 | DM38: 115 | DN38: 116 | DO38: 117 | DP38: 118 | DQ38: 119 | DR38: 120 | DS38: 121 | DT38: 122 | DU38: 123 | DV38: 124 | DW38: 125 | DX38: 126 | DY38: 127 | DZ38: 128 | EA38: 129 | EB38: 130 | EC38: 131 | ED38: 132 | EE38: 133 | EF38: 134 | EG38: 135 | EH38: 136 | EI38: 137 | EJ38: 138 | EK38: 139 | EL38: 140 | EM38: 141 | EN38: 142 | EO38: 143 | EP38: 144 | EQ38: 145 | ER38: 146 | ES38: 147 | ET38: 148 | EU38: 149 | EV38: 150 | EW38: 151 | EX38: 152 | EY38: 153 | EZ38: 154 | FA38: 155 | FB38: 156 | FC38: 157 | FD38: 158 | FE38: 159 | FF38: 160 | FG38: 161
B39: W | C39: =Week13!C39+Week14!C34 -> 42 | D39: =Week13!D39+Week14!D34 -> 48 | E39: =Week13!E39+Week14!E34 -> 48 | F39: =Week13!F39+Week14!F34 -> 51 | G39: =Week13!G39+Week14!G34 -> 46 | H39: =Week13!H39+Week14!H34 -> 55 | I39: =Week13!I39+Week14!I34 -> 45 | J39: =Week13!J39+Week14!J34 -> 42 | ... FG39: =Week13!FG39+Week14!FG34 -> 0
B40: L | C40: =Week13!C40+Week14!C35 -> 59 | D40: =Week13!D40+Week14!D35 -> 53 | E40: =Week13!E40+Week14!E35 -> 53 | F40: =Week13!F40+Week14!F35 -> 50 | G40: =Week13!G40+Week14!G35 -> 55 | H40: =Week13!H40+Week14!H35 -> 46 | I40: =Week13!I40+Week14!I35 -> 56 | J40: =Week13!J40+Week14!J35 -> 59 | ... FG40: =Week13!FG40+Week14!FG35 -> 0
B41: Percent | C41: =C39/(C39+C40) -> 0.41584158 | D41: =D39/(D39+D40) -> 0.47524752 | E41: =E39/(E39+E40) -> 0.47524752 | F41: =F39/(F39+F40) -> 0.5049505 | G41: =G39/(G39+G40) -> 0.45544554 | H41: =H39/(H39+H40) -> 0.54455446 | I41: =I39/(I39+I40) -> 0.44554455 | J41: =J39/(J39+J40) -> 0.41584158 | ... FG41: =FG39/(FG39+FG40) -> #DIV/0!
C42: =C1 -> Jun | D42: =D1 -> Diana C | E42: =E1 -> Tinny | F42: =F1 -> Smith, M | G42: =G1 -> John McG | H42: =H1 -> Hamilton, J | I42: =I1 -> Dan G | J42: =J1 -> Caracas, M | ... FG42: =FG1 -> Blank
A43: =A28 -> 0 | B43: =B28 -> GREEN BAY () | E43: 40 | F43: x | H43: x | I43: x | J43: x | K43: x | L43: x | M43: 39 | O43: 44 | P43: x | Q43: x | T43: x | U43: 50 | V43: 44 | W43: x | X43: x | Y43: x | Z43: x | AB43: x | AC43: x | AD43: x | AE43: 39 | AF43: x | AH43: x | AI43: x | AK43: 56 | AL43: x | AM43: x | AN43: x | AP43: x | AQ43: 45 | AR43: x | AS43: x | AT43: x | AU43: x | AW43: x | AY43: x | BA43: x | BB43: x | BC43: 48 | BD43: x | BF43: x | BG43: x | BH43: x | BI43: x | BJ43: x | BK43: x | BM43: x | BN43: x | BO43: 45 | BP43: 45 | BQ43: x | BR43: x | BS43: x | BT43: x | BU43: x | BV43: x | BW43: x | BX43: x | BY43: x | CA43: x | CB43: x | CC43: x | CD43: x | CE43: x | CF43: x | CG43: x | CH43: x | CI43: x | CJ43: x | CL43: x | CM43: x | CN43: 45 | CO43: 34 | CQ43: x | CR43: x | CS43: x | CT43: x | CV43: x | CW43: x | CX43: x | CZ43: x | DB43: x | DC43: 44 | DD43: x | DE43: x | DG43: x | DH43: x | DI43: x | DJ43: x | DK43: 39 | DL43: 43 | DO43: x | DP43: x | DQ43: 46 | DT43: x | DW43: x
A44: =A29 -> 0 | B44: =B29 -> Buffalo () | C44: 47 | D44: 42 | G44: 43 | N44: x | R44: x | S44: 46 | AA44: x | AG44: x | AJ44: x | AO44: x | AV44: 40 | AX44: x | AZ44: x | BE44: 40 | BL44: x | BZ44: x | CK44: 57 | CP44: 41 | CU44: x | CY44: x | DA44: X | DF44: x | DM44: x | DN44: x | DR44: 48 | DS44: 38 | DU44: x | DV44: 44
C46: =C40+C39 -> 101 | D46: =D40+D39 -> 101 | E46: =E40+E39 -> 101 | F46: =F40+F39 -> 101 | G46: =G40+G39 -> 101 | H46: =H40+H39 -> 101 | I46: =I40+I39 -> 101 | J46: =J40+J39 -> 101 | ... DW46: =DW40+DW39 -> 101

Sheet Week13
B1: Week 13 | C1: =Week1!C1 -> Jun | D1: =Week1!D1 -> Diana C | E1: =Week1!E1 -> Tinny | F1: =Week1!F1 -> Smith, M | G1: =Week1!G1 -> John McG | H1: =Week1!H1 -> Hamilton, J | I1: =Week1!I1 -> Dan G | J1: =Week1!J1 -> Caracas, M | ... FG1: =Week1!FG1 -> Blank
A2: n/a | B2: Kansas City () Does Not
A3: n/a | B3: LA RAMS () +xx Count
B4: ATLANTA ()
B5: Detroit ()
B6: CHICAGO ()
B7: Jacksonville ()
B8: Cincinnati ()
B9: CLEVELAND ()
B10: Green Bay ()
B11: NEW ORLEANS ()
B12: San Francisco ()
B13: NY GIANTS ()
B14: TAMPA BAY ()
B15: LA Chargers ()
... B29: Dallas ()
A30: Bye | B30: Baltimore ()
A31: Bye | B31: Indianapolis ()
A32: Bye | B32: Las Vegas ()
A33: Bye | B33: NY Jets ()
B34: W | C34: =COUNTIF(C2:C33,"W") -> 0 | D34: =COUNTIF(D2:D33,"W") -> 0 | E34: =COUNTIF(E2:E33,"W") -> 0 | F34: =COUNTIF(F2:F33,"W") -> 0 | G34: =COUNTIF(G2:G33,"W") -> 0 | H34: =COUNTIF(H2:H33,"W") -> 0 | I34: =COUNTIF(I2:I33,"W") -> 0 | J34: =COUNTIF(J2:J33,"W") -> 0 | ... FG34: =COUNTIF(FG2:FG33,"W") -> 0
B35: L | C35: =COUNTIF(C2:C33,"L") -> 0 | D35: =COUNTIF(D2:D33,"L") -> 0 | E35: =COUNTIF(E2:E33,"L") -> 0 | F35: =COUNTIF(F2:F33,"L") -> 0 | G35: =COUNTIF(G2:G33,"L") -> 0 | H35: =COUNTIF(H2:H33,"L") -> 0 | I35: =COUNTIF(I2:I33,"L") -> 0 | J35: =COUNTIF(J2:J33,"L") -> 0 | ... FG35: =COUNTIF(FG2:FG33,"L") -> 0
B36: Percent | C36: =SUM(C34/(C34+C35)) -> #DIV/0! | D36: =SUM(D34/(D34+D35)) -> #DIV/0! | E36: =SUM(E34/(E34+E35)) -> #DIV/0! | F36: =SUM(F34/(F34+F35)) -> #DIV/0! | G36: =SUM(G34/(G34+G35)) -> #DIV/0! | H36: =SUM(H34/(H34+H35)) -> #DIV/0! | I36: =SUM(I34/(I34+I35)) -> #DIV/0! | J36: =SUM(J34/(J34+J35)) -> #DIV/0! | ... FG36: =SUM(FG34/(FG34+FG35)) -> #DIV/0!
B38: Overall | C38: 1 | D38: 2 | E38: 3 | F38: 4 | G38: 5 | H38: 6 | I38: 7 | J38: 8 | K38: 9 | L38: 10 | M38: 11 | N38: 12 | O38: 13 | P38: 14 | Q38: 15 | R38: 16 | S38: 17 | T38: 18 | U38: 19 | V38: 20 | W38: 21 | X38: 22 | Y38: 23 | Z38: 24 | AA38: 25 | AB38: 26 | AC38: 27 | AD38: 28 | AE38: 29 | AF38: 30 | AG38: 31 | AH38: 32 | AI38: 33 | AJ38: 34 | AK38: 35 | AL38: 36 | AM38: 37 | AN38: 38 | AO38: 39 | AP38: 40 | AQ38: 41 | AR38: 42 | AS38: 43 | AT38: 44 | AU38: 45 | AV38: 46 | AW38: 47 | AX38: 48 | AY38: 49 | AZ38: 50 | BA38: 51 | BB38: 52 | BC38: 53 | BD38: 54 | BE38: 55 | BF38: 56 | BG38: 57 | BH38: 58 | BI38: 59 | BJ38: 60 | BK38: 61 | BL38: 62 | BM38: 63 | BN38: 64 | BO38: 65 | BP38: 66 | BQ38: 67 | BR38: 68 | BS38: 69 | BT38: 70 | BU38: 71 | BV38: 72 | BW38: 73 | BX38: 74 | BY38: 75 | BZ38: 76 | CA38: 77 | CB38: 78 | CC38: 79 | CD38: 80 | CE38: 81 | CF38: 82 | CG38: 83 | CH38: 84 | CI38: 85 | CJ38: 86 | CK38: 87 | CL38: 88 | CM38: 89 | CN38: 90 | CO38: 91 | CP38: 92 | CQ38: 93 | CR38: 94 | CS38: 95 | CT38: 96 | CU38: 97 | CV38: 98 | CW38: 99 | CX38: 100 | CY38: 101 | CZ38: 101 | DA38: 103 | DB38: 104 | DC38: 105 | DD38: 106 | DE38: 107 | DF38: 108 | DG38: 109 | DH38: 110 | DI38: 111 | DJ38: 112 | DK38: 113 | DL38: 114 | DM38: 115 | DN38: 116 | DO38: 117 | DP38: 118 | DQ38: 119 | DR38: 120 | DS38: 121 | DT38: 122 | DU38: 123 | DV38: 124 | DW38: 125 | DX38: 126 | DY38: 127 | DZ38: 128 | EA38: 129 | EB38: 130 | EC38: 131 | ED38: 132 | EE38: 133 | EF38: 134 | EG38: 135 | EH38: 136 | EI38: 137 | EJ38: 138 | EK38: 139 | EL38: 140 | EM38: 141 | EN38: 142 | EO38: 143 | EP38: 144 | EQ38: 145 | ER38: 146 | ES38: 147 | ET38: 148 | EU38: 149 | EV38: 150 | EW38: 151 | EX38: 152 | EY38: 153 | EZ38: 154 | FA38: 155 | FB38: 156 | FC38: 157 | FD38: 158 | FE38: 159 | FF38: 160 | FG38: 161
B39: W | C39: =Week12!C39+Week13!C34 -> 42 | D39: =Week12!D39+Week13!D34 -> 48 | E39: =Week12!E39+Week13!E34 -> 48 | F39: =Week12!F39+Week13!F34 -> 51 | G39: =Week12!G39+Week13!G34 -> 46 | H39: =Week12!H39+Week13!H34 -> 55 | I39: =Week12!I39+Week13!I34 -> 45 | J39: =Week12!J39+Week13!J34 -> 42 | ... FG39: =Week12!FG39+Week13!FG34 -> 0
B40: L | C40: =Week12!C40+Week13!C35 -> 59 | D40: =Week12!D40+Week13!D35 -> 53 | E40: =Week12!E40+Week13!E35 -> 53 | F40: =Week12!F40+Week13!F35 -> 50 | G40: =Week12!G40+Week13!G35 -> 55 | H40: =Week12!H40+Week13!H35 -> 46 | I40: =Week12!I40+Week13!I35 -> 56 | J40: =Week12!J40+Week13!J35 -> 59 | ... FG40: =Week12!FG40+Week13!FG35 -> 0
B41: Percent | C41: =C39/(C39+C40) -> 0.41584158 | D41: =D39/(D39+D40) -> 0.47524752 | E41: =E39/(E39+E40) -> 0.47524752 | F41: =F39/(F39+F40) -> 0.5049505 | G41: =G39/(G39+G40) -> 0.45544554 | H41: =H39/(H39+H40) -> 0.54455446 | I41: =I39/(I39+I40) -> 0.44554455 | J41: =J39/(J39+J40) -> 0.41584158 | ... FG41: =FG39/(FG39+FG40) -> #DIV/0!
C42: =C1 -> Jun | D42: =D1 -> Diana C | E42: =E1 -> Tinny | F42: =F1 -> Smith, M | G42: =G1 -> John McG | H42: =H1 -> Hamilton, J | I42: =I1 -> Dan G | J42: =J1 -> Caracas, M | ... FG42: =FG1 -> Blank
A43: =A32 -> Bye | B43: =B32 -> Las Vegas () | C43: 43 | D43: 32 | E43: 35 | F43: x | G43: 48 | H43: x | L43: x | M43: 48 | N43: x | O43: 48 | P43: x | R43: x | S43: 49 | T43: x | U43: 44 | V43: x | W43: x | X43: x | Y43: x | Z43: x | AA43: x | AB43: x | AC43: x | AD43: x | AE43: 45 | AF43: x | AG43: x | AI43: x | AJ43: x | AL43: x | AM43: x | AO43: x | AQ43: x | AR43: x | AT43: x | AU43: x | AV43: 48 | AW43: x | AY43: x | AZ43: x | BA43: x | BB43: x | BC43: x | BD43: x | BE43: 42 | BF43: 38 | BG43: x | BH43: x | BI43: x | BJ43: x | BL43: x | BM43: x | BN43: x | BO43: x | BP43: x | BQ43: x | BR43: x | BS43: x | BT43: x | BU43: x | BW43: x | BX43: x | BY43: x | BZ43: x | CA43: x | CB43: x | CC43: x | CD43: x | CE43: x | CF43: x | CG43: x | CH43: x | CI43: x | CJ43: x | CK43: 37 | CL43: x | CN43: 38 | CP43: 38 | CQ43: x | CR43: x | CS43: x | CT43: x | CU43: x | CX43: x | DA43: x | DB43: x | DC43: 44 | DD43: x | DF43: x | DG43: x | DH43: x | DI43: 38 | DJ43: x | DL43: 38 | DO43: x | DS43: 48 | DT43: x | DU43: x | DW43: x
A44: =A33 -> Bye | B44: =B33 -> NY Jets () | I44: x | J44: x | K44: x | Q44: x | AH44: x | AK44: 56 | AN44: x | AP44: x | AS44: x | AX44: x | BK44: x | BV44: x | CM44: x | CO44: 44 | CV44: x | CW44: 42 | CY44: x | CZ44: x | DE44: x | DK44: 48 | DM44: x | DN44: x | DP44: x | DQ44: 47 | DR44: 44 | DV44: 44
C47: =C40+C39 -> 101 | D47: =D40+D39 -> 101 | E47: =E40+E39 -> 101 | F47: =F40+F39 -> 101 | G47: =G40+G39 -> 101 | H47: =H40+H39 -> 101 | I47: =I40+I39 -> 101 | J47: =J40+J39 -> 101 | ... DW47: =DW40+DW39 -> 101

Sheet Week12
B1: Week 12 | C1: =Week1!C1 -> Jun | D1: =Week1!D1 -> Diana C | E1: =Week1!E1 -> Tinny | F1: =Week1!F1 -> Smith, M | G1: =Week1!G1 -> John McG | H1: =Week1!H1 -> Hamilton, J | I1: =Week1!I1 -> Dan G | J1: =Week1!J1 -> Caracas, M | ... FG1: =Week1!FG1 -> Blank
B2: LA RAMS ()
B3: Green Bay ()
B4: DETROIT ()
B5: Chicago ()
B6: DALLAS ()
B7: Philadelphia ()
B8: BUFFALO
B9: Kansas City ()
B10: PITTSBURGH ()
B11: Denver ()
B12: CINCINNATI ()
B13: New Orleans ()
... B33: Carolina ()
B34: W | C34: =COUNTIF(C2:C33,"W") -> 0 | D34: =COUNTIF(D2:D33,"W") -> 0 | E34: =COUNTIF(E2:E33,"W") -> 0 | F34: =COUNTIF(F2:F33,"W") -> 0 | G34: =COUNTIF(G2:G33,"W") -> 0 | H34: =COUNTIF(H2:H33,"W") -> 0 | I34: =COUNTIF(I2:I33,"W") -> 0 | J34: =COUNTIF(J2:J33,"W") -> 0 | ... FG34: =COUNTIF(FG2:FG33,"W") -> 0
B35: L | C35: =COUNTIF(C2:C33,"L") -> 0 | D35: =COUNTIF(D2:D33,"L") -> 0 | E35: =COUNTIF(E2:E33,"L") -> 0 | F35: =COUNTIF(F2:F33,"L") -> 0 | G35: =COUNTIF(G2:G33,"L") -> 0 | H35: =COUNTIF(H2:H33,"L") -> 0 | I35: =COUNTIF(I2:I33,"L") -> 0 | J35: =COUNTIF(J2:J33,"L") -> 0 | ... FG35: =COUNTIF(FG2:FG33,"L") -> 0
B36: Percent | C36: =SUM(C34/(C34+C35)) -> #DIV/0! | D36: =SUM(D34/(D34+D35)) -> #DIV/0! | E36: =SUM(E34/(E34+E35)) -> #DIV/0! | F36: =SUM(F34/(F34+F35)) -> #DIV/0! | G36: =SUM(G34/(G34+G35)) -> #DIV/0! | H36: =SUM(H34/(H34+H35)) -> #DIV/0! | I36: =SUM(I34/(I34+I35)) -> #DIV/0! | J36: =SUM(J34/(J34+J35)) -> #DIV/0! | ... FG36: =SUM(FG34/(FG34+FG35)) -> #DIV/0!
B38: Overall | C38: 1 | D38: 2 | E38: 3 | F38: 4 | G38: 5 | H38: 6 | I38: 7 | J38: 8 | K38: 9 | L38: 10 | M38: 11 | N38: 12 | O38: 13 | P38: 14 | Q38: 15 | R38: 16 | S38: 17 | T38: 18 | U38: 19 | V38: 20 | W38: 21 | X38: 22 | Y38: 23 | Z38: 24 | AA38: 25 | AB38: 26 | AC38: 27 | AD38: 28 | AE38: 29 | AF38: 30 | AG38: 31 | AH38: 32 | AI38: 33 | AJ38: 34 | AK38: 35 | AL38: 36 | AM38: 37 | AN38: 38 | AO38: 39 | AP38: 40 | AQ38: 41 | AR38: 42 | AS38: 43 | AT38: 44 | AU38: 45 | AV38: 46 | AW38: 47 | AX38: 48 | AY38: 49 | AZ38: 50 | BA38: 51 | BB38: 52 | BC38: 53 | BD38: 54 | BE38: 55 | BF38: 56 | BG38: 57 | BH38: 58 | BI38: 59 | BJ38: 60 | BK38: 61 | BL38: 62 | BM38: 63 | BN38: 64 | BO38: 65 | BP38: 66 | BQ38: 67 | BR38: 68 | BS38: 69 | BT38: 70 | BU38: 71 | BV38: 72 | BW38: 73 | BX38: 74 | BY38: 75 | BZ38: 76 | CA38: 77 | CB38: 78 | CC38: 79 | CD38: 80 | CE38: 81 | CF38: 82 | CG38: 83 | CH38: 84 | CI38: 85 | CJ38: 86 | CK38: 87 | CL38: 88 | CM38: 89 | CN38: 90 | CO38: 91 | CP38: 92 | CQ38: 93 | CR38: 94 | CS38: 95 | CT38: 96 | CU38: 97 | CV38: 98 | CW38: 99 | CX38: 100 | CY38: 101 | CZ38: 102 | DA38: 103 | DB38: 104 | DC38: 105 | DD38: 106 | DE38: 107 | DF38: 108 | DG38: 109 | DH38: 110 | DI38: 111 | DJ38: 112 | DK38: 113 | DL38: 114 | DM38: 115 | DN38: 116 | DO38: 117 | DP38: 118 | DQ38: 119 | DR38: 120 | DS38: 121 | DT38: 122 | DU38: 123 | DV38: 124 | DW38: 125 | DX38: 126 | DY38: 127 | DZ38: 128 | EA38: 129 | EB38: 130 | EC38: 131 | ED38: 132 | EE38: 133 | EF38: 134 | EG38: 135 | EH38: 136 | EI38: 137 | EJ38: 138 | EK38: 139 | EL38: 140 | EM38: 141 | EN38: 142 | EO38: 143 | EP38: 144 | EQ38: 145 | ER38: 146 | ES38: 147 | ET38: 148 | EU38: 149 | EV38: 150 | EW38: 151 | EX38: 152 | EY38: 153 | EZ38: 154 | FA38: 155 | FB38: 156 | FC38: 157 | FD38: 158 | FE38: 159 | FF38: 160 | FG38: 161
B39: W | C39: =Week11!C39+Week12!C34 -> 42 | D39: =Week11!D39+Week12!D34 -> 48 | E39: =Week11!E39+Week12!E34 -> 48 | F39: =Week11!F39+Week12!F34 -> 51 | G39: =Week11!G39+Week12!G34 -> 46 | H39: =Week11!H39+Week12!H34 -> 55 | I39: =Week11!I39+Week12!I34 -> 45 | J39: =Week11!J39+Week12!J34 -> 42 | ... FG39: =Week11!FG39+Week12!FG34 -> 0
B40: L | C40: =Week11!C40+Week12!C35 -> 59 | D40: =Week11!D40+Week12!D35 -> 53 | E40: =Week11!E40+Week12!E35 -> 53 | F40: =Week11!F40+Week12!F35 -> 50 | G40: =Week11!G40+Week12!G35 -> 55 | H40: =Week11!H40+Week12!H35 -> 46 | I40: =Week11!I40+Week12!I35 -> 56 | J40: =Week11!J40+Week12!J35 -> 59 | ... FG40: =Week11!FG40+Week12!FG35 -> 0
B41: Percent | C41: =C39/(C39+C40) -> 0.41584158 | D41: =D39/(D39+D40) -> 0.47524752 | E41: =E39/(E39+E40) -> 0.47524752 | F41: =F39/(F39+F40) -> 0.5049505 | G41: =G39/(G39+G40) -> 0.45544554 | H41: =H39/(H39+H40) -> 0.54455446 | I41: =I39/(I39+I40) -> 0.44554455 | J41: =J39/(J39+J40) -> 0.41584158 | ... FG41: =FG39/(FG39+FG40) -> #DIV/0!
C42: =C1 -> Jun | D42: =D1 -> Diana C | E42: =E1 -> Tinny | F42: =F1 -> Smith, M | G42: =G1 -> John McG | H42: =H1 -> Hamilton, J | I42: =I1 -> Dan G | J42: =J1 -> Caracas, M | ... FG42: =FG1 -> Blank
A43: =A26 -> 0 | B43: =B26 -> ARIZONA () | D43: 47 | G43: 55 | H43: x | I43: x | J43: x | K43: x | N43: 51 | O43: 48 | P43: x | R43: x | T43: x | V43: x | X43: x | Y43: x | Z43: x | AA43: x | AB43: x | AC43: x | AE43: 47 | AF43: x | AH43: x | AI43: x | AJ43: x | AM43: x | AN43: x | AQ43: 50 | AR43: x | AU43: x | AV43: 42 | AW43: x | AX43: x | AY43: x | AZ43: x | BA43: x | BB43: x | BC43: 44 | BD43: 51 | BE43: x | BF43: x | BG43: x | BH43: x | BI43: x | BJ43: x | BL43: x | BM43: x | BN43: x | BO43: x | BP43: x | BQ43: x | BR43: x | BT43: x | BU43: x | BV43: x | BW43: x | BX43: x | BY43: x | BZ43: x | CA43: x | CC43: x | CD43: x | CF43: x | CG43: x | CH43: x | CJ43: x | CK43: 37 | CL43: x | CN43: 48 | CO43: 44 | CP43: 38 | CQ43: x | CR43: x | CT43: x | CU43: x | CV43: x | CW43: 35 | CX43: x | CZ43: x | DB43: x | DD43: x | DE43: x | DG43: x | DH43: x | DI43: 44 | DN43: x | DO43: x | DP43: x | DQ43: 42 | DR43: x | DS43: 50 | DT43: x | DU43: x | DV43: x | DW43: x
A44: =A27 -> 0 | B44: =B27 -> Washington () | C44: 37 | E44: 35 | F44: x | L44: x | M44: 45 | Q44: x | S44: 55 | U44: 50 | W44: x | AD44: 38 | AG44: x | AK44: 56 | AL44: x | AO44: x | AP44: x | AS44: x | AT44: x | BK44: x | BS44: x | CB44: x | CE44: x | CI44: x | CM44: x | CS44: x | CY44: x | DA44: x | DC44: 47 | DF44: x | DJ44: x | DK44: 49 | DL44: 48 | DM44: x
C46: =C40+C39 -> 101 | D46: =D40+D39 -> 101 | E46: =E40+E39 -> 101 | F46: =F40+F39 -> 101 | G46: =G40+G39 -> 101 | H46: =H40+H39 -> 101 | I46: =I40+I39 -> 101 | J46: =J40+J39 -> 101 | ... DW46: =DW40+DW39 -> 101

Sheet Week11
B1: Week 11 | C1: =Week1!C1 -> Jun | D1: =Week1!D1 -> Diana C | E1: =Week1!E1 -> Tinny | F1: =Week1!F1 -> Smith, M | G1: =Week1!G1 -> John McG | H1: =Week1!H1 -> Hamilton, J | I1: =Week1!I1 -> Dan G | J1: =Week1!J1 -> Caracas, M | ... FG1: =Week1!FG1 -> Blank
A2: n/a | B2: HOUSTON () Does Not
A3: n/a | B3: Indianapolis () +xx Count
B4: BUFFALO ()
B5: Miami ()
B6: CAROLINA ()
B7: Baltimore ()
B8: CHICAGO ()
B9: New Orleans ()
B10: DALLAS ()
B11: Tennessee ()
B12: DETROIT ()
B13: Tampa Bay ()
B14: KANSAS CITY ()
B15: Arizona ()
... B27: Cincinnati ()
A28: Bye | B28: Atlanta ()
A29: Bye | B29: Cleveland ()
A30: Bye | B30: Green Bay ()
A31: Bye | B31: LA Rams ()
A32: Bye | B32: New England ()
A33: Bye | B33: Seattle ()
B34: W | C34: =COUNTIF(C2:C33,"W") -> 0 | D34: =COUNTIF(D2:D33,"W") -> 0 | E34: =COUNTIF(E2:E33,"W") -> 0 | F34: =COUNTIF(F2:F33,"W") -> 0 | G34: =COUNTIF(G2:G33,"W") -> 0 | H34: =COUNTIF(H2:H33,"W") -> 0 | I34: =COUNTIF(I2:I33,"W") -> 0 | J34: =COUNTIF(J2:J33,"W") -> 0 | ... FG34: =COUNTIF(FG2:FG33,"W") -> 0
B35: L | C35: =COUNTIF(C2:C33,"L") -> 0 | D35: =COUNTIF(D2:D33,"L") -> 0 | E35: =COUNTIF(E2:E33,"L") -> 0 | F35: =COUNTIF(F2:F33,"L") -> 0 | G35: =COUNTIF(G2:G33,"L") -> 0 | H35: =COUNTIF(H2:H33,"L") -> 0 | I35: =COUNTIF(I2:I33,"L") -> 0 | J35: =COUNTIF(J2:J33,"L") -> 0 | ... FG35: =COUNTIF(FG2:FG33,"L") -> 0
B36: Percent | C36: =SUM(C34/(C34+C35)) -> #DIV/0! | D36: =SUM(D34/(D34+D35)) -> #DIV/0! | E36: =SUM(E34/(E34+E35)) -> #DIV/0! | F36: =SUM(F34/(F34+F35)) -> #DIV/0! | G36: =SUM(G34/(G34+G35)) -> #DIV/0! | H36: =SUM(H34/(H34+H35)) -> #DIV/0! | I36: =SUM(I34/(I34+I35)) -> #DIV/0! | J36: =SUM(J34/(J34+J35)) -> #DIV/0! | ... FG36: =SUM(FG34/(FG34+FG35)) -> #DIV/0!
B38: Overall | C38: 1 | D38: 2 | E38: 3 | F38: 4 | G38: 5 | H38: 6 | I38: 7 | J38: 8 | K38: 9 | L38: 10 | M38: 11 | N38: 12 | O38: 13 | P38: 14 | Q38: 15 | R38: 16 | S38: 17 | T38: 18 | U38: 19 | V38: 20 | W38: 21 | X38: 22 | Y38: 23 | Z38: 24 | AA38: 25 | AB38: 26 | AC38: 27 | AD38: 28 | AE38: 29 | AF38: 30 | AG38: 31 | AH38: 32 | AI38: 33 | AJ38: 34 | AK38: 35 | AL38: 36 | AM38: 37 | AN38: 38 | AO38: 39 | AP38: 40 | AQ38: 41 | AR38: 42 | AS38: 43 | AT38: 44 | AU38: 45 | AV38: 46 | AW38: 47 | AX38: 48 | AY38: 49 | AZ38: 50 | BA38: 51 | BB38: 52 | BC38: 53 | BD38: 54 | BE38: 55 | BF38: 56 | BG38: 57 | BH38: 58 | BI38: 59 | BJ38: 60 | BK38: 61 | BL38: 62 | BM38: 63 | BN38: 64 | BO38: 65 | BP38: 66 | BQ38: 67 | BR38: 68 | BS38: 69 | BT38: 70 | BU38: 71 | BV38: 72 | BW38: 73 | BX38: 74 | BY38: 75 | BZ38: 76 | CA38: 77 | CB38: 78 | CC38: 79 | CD38: 80 | CE38: 81 | CF38: 82 | CG38: 83 | CH38: 84 | CI38: 85 | CJ38: 86 | CK38: 87 | CL38: 88 | CM38: 89 | CN38: 90 | CO38: 91 | CP38: 92 | CQ38: 93 | CR38: 94 | CS38: 95 | CT38: 96 | CU38: 97 | CV38: 98 | CW38: 99 | CX38: 100 | CY38: 101 | CZ38: 102 | DA38: 103 | DB38: 104 | DC38: 105 | DD38: 106 | DE38: 107 | DF38: 108 | DG38: 109 | DH38: 110 | DI38: 111 | DJ38: 112 | DK38: 113 | DL38: 114 | DM38: 115 | DN38: 116 | DO38: 117 | DP38: 118 | DQ38: 119 | DR38: 120 | DS38: 121 | DT38: 122 | DU38: 123 | DV38: 124 | DW38: 125 | DX38: 126 | DY38: 127 | DZ38: 128 | EA38: 129 | EB38: 130 | EC38: 131 | ED38: 132 | EE38: 133 | EF38: 134 | EG38: 135 | EH38: 136 | EI38: 137 | EJ38: 138 | EK38: 139 | EL38: 140 | EM38: 141 | EN38: 142 | EO38: 143 | EP38: 144 | EQ38: 145 | ER38: 146 | ES38: 147 | ET38: 148 | EU38: 149 | EV38: 150 | EW38: 151 | EX38: 152 | EY38: 153 | EZ38: 154 | FA38: 155 | FB38: 156 | FC38: 157 | FD38: 158 | FE38: 159 | FF38: 160 | FG38: 161
B39: W | C39: =Week10!C39+Week11!C34 -> 42 | D39: =Week10!D39+Week11!D34 -> 48 | E39: =Week10!E39+Week11!E34 -> 48 | F39: =Week10!F39+Week11!F34 -> 51 | G39: =Week10!G39+Week11!G34 -> 46 | H39: =Week10!H39+Week11!H34 -> 55 | I39: =Week10!I39+Week11!I34 -> 45 | J39: =Week10!J39+Week11!J34 -> 42 | ... FG39: =Week10!FG39+Week11!FG34 -> 0
B40: L | C40: =Week10!C40+Week11!C35 -> 59 | D40: =Week10!D40+Week11!D35 -> 53 | E40: =Week10!E40+Week11!E35 -> 53 | F40: =Week10!F40+Week11!F35 -> 50 | G40: =Week10!G40+Week11!G35 -> 55 | H40: =Week10!H40+Week11!H35 -> 46 | I40: =Week10!I40+Week11!I35 -> 56 | J40: =Week10!J40+Week11!J35 -> 59 | ... FG40: =Week10!FG40+Week11!FG35 -> 0
B41: Percent | C41: =C39/(C39+C40) -> 0.41584158 | D41: =D39/(D39+D40) -> 0.47524752 | E41: =E39/(E39+E40) -> 0.47524752 | F41: =F39/(F39+F40) -> 0.5049505 | G41: =G39/(G39+G40) -> 0.45544554 | H41: =H39/(H39+H40) -> 0.54455446 | I41: =I39/(I39+I40) -> 0.44554455 | J41: =J39/(J39+J40) -> 0.41584158 | ... FG41: =FG39/(FG39+FG40) -> #DIV/0!
C42: =C1 -> Jun | D42: =D1 -> Diana C | E42: =E1 -> Tinny | F42: =F1 -> Smith, M | G42: =G1 -> John McG | H42: =H1 -> Hamilton, J | I42: =I1 -> Dan G | J42: =J1 -> Caracas, M | ... FG42: =FG1 -> Blank
A43: =A28 -> Bye | B43: =B28 -> Atlanta () | C43: 37 | D43: 45 | E43: 40 | F43: x | G43: 47 | H43: x | I43: x | J43: x | K43: x | L43: x | M43: 33 | O43: 52 | P43: x | T43: X | X43: x | Y43: x | Z43: x | AB43: x | AF43: x | AI43: x | AJ43: x | AL43: x | AM43: x | AO43: x | AQ43: 50 | AR43: x | AT43: x | AU43: x | AV43: 48 | AW43: x | AX43: x | AY43: x | BA43: x | BC43: 47 | BD43: x | BG43: x | BH43: x | BI43: x | BJ43: x | BL43: x | BM43: x | BN43: x | BO43: 25 | BP43: 25 | BQ43: x | BR43: x | BS43: x | BT43: x | BU43: x | BW43: x | BX43: x | BY43: x | BZ43: 43 | CA43: x | CD43: x | CE43: x | CG43: x | CH43: x | CI43: x | CJ43: x | CK43: x | CL43: x | CN43: 52 | CO43: 51 | CP43: x | CQ43: x | CR43: x | CS43: x | CU43: x | CV43: x | CW43: 55 | CX43: x | CY43: x | CZ43: x | DA43: x | DB43: x | DC43: 43 | DE43: x | DF43: x | DI43: x | DJ43: x | DM43: x | DN43: x | DP43: x | DQ43: 62 | DR43: x | DT43: x | DV43: 44 | DW43: x
A44: =A29 -> Bye | B44: =B29 -> Cleveland () | N44: 42 | Q44: x | R44: x | S44: 52 | U44: 41 | V44: 48 | W44: x | AA44: x | AC44: 47 | AD44: 46 | AE44: 45 | AG44: x | AH44: x | AK44: 56 | AN44: x | AP44: x | AS44: x | AZ44: x | BB44: 54 | BE44: 42 | BF44: 45 | BK44: x | BV44: x | CB44: x | CC44: x | CF44: x | CM44: x | CT44: x | DD44: x | DG44: x | DH44: x | DK44: 55 | DL44: x | DS44: 55 | DU44: x
C46: =C40+C39 -> 101 | D46: =D40+D39 -> 101 | E46: =E40+E39 -> 101 | F46: =F40+F39 -> 101 | G46: =G40+G39 -> 101 | H46: =H40+H39 -> 101 | I46: =I40+I39 -> 101 | J46: =J40+J39 -> 101 | ... DW46: =DW40+DW39 -> 101

Sheet Week10
B1: Week 10 | C1: =Week1!C1 -> Jun | D1: =Week1!D1 -> Diana C | E1: =Week1!E1 -> Tinny | F1: =Week1!F1 -> Smith, M | G1: =Week1!G1 -> John McG | H1: =Week1!H1 -> Hamilton, J | I1: =Week1!I1 -> Dan G | J1: =Week1!J1 -> Caracas, M | ... FG1: =Week1!FG1 -> Blank
A2: n/a | B2: NY GIANTS () Does Not
A3: n/a | B3: Washington () +xx Count
B4: DETROIT ()
B5: New England ()
B6: Kansas City ()
B7: ATLANTA ()
B8: CLEVELAND ()
B9: Houston ()
B10: Minnesota ()
B11: GREEN BAY ()
B12: INDIANAPOLIS ()
B13: Miami ()
B14: Carolina ()
B15: NEW ORLEANS ()
... B29: LA Chargers ()
A30: Bye | B30: Chicago ()
A31: Bye | B31: Denver ()
A32: Bye | B32: Philadelphia ()
A33: Bye | B33: Tampa Bay ()
B34: W | C34: =COUNTIF(C2:C33,"W") -> 0 | D34: =COUNTIF(D2:D33,"W") -> 0 | E34: =COUNTIF(E2:E33,"W") -> 0 | F34: =COUNTIF(F2:F33,"W") -> 0 | G34: =COUNTIF(G2:G33,"W") -> 0 | H34: =COUNTIF(H2:H33,"W") -> 0 | I34: =COUNTIF(I2:I33,"W") -> 0 | J34: =COUNTIF(J2:J33,"W") -> 0 | ... FG34: =COUNTIF(FG2:FG33,"W") -> 0
B35: L | C35: =COUNTIF(C2:C33,"L") -> 0 | D35: =COUNTIF(D2:D33,"L") -> 0 | E35: =COUNTIF(E2:E33,"L") -> 0 | F35: =COUNTIF(F2:F33,"L") -> 0 | G35: =COUNTIF(G2:G33,"L") -> 0 | H35: =COUNTIF(H2:H33,"L") -> 0 | I35: =COUNTIF(I2:I33,"L") -> 0 | J35: =COUNTIF(J2:J33,"L") -> 0 | ... FG35: =COUNTIF(FG2:FG33,"L") -> 0
B36: Percent | C36: =SUM(C34/(C34+C35)) -> #DIV/0! | D36: =SUM(D34/(D34+D35)) -> #DIV/0! | E36: =SUM(E34/(E34+E35)) -> #DIV/0! | F36: =SUM(F34/(F34+F35)) -> #DIV/0! | G36: =SUM(G34/(G34+G35)) -> #DIV/0! | H36: =SUM(H34/(H34+H35)) -> #DIV/0! | I36: =SUM(I34/(I34+I35)) -> #DIV/0! | J36: =SUM(J34/(J34+J35)) -> #DIV/0! | ... FG36: =SUM(FG34/(FG34+FG35)) -> #DIV/0!
B38: Overall | C38: 1 | D38: 2 | E38: 3 | F38: 4 | G38: 5 | H38: 6 | I38: 7 | J38: 8 | K38: 9 | L38: 10 | M38: 11 | N38: 12 | O38: 13 | P38: 14 | Q38: 15 | R38: 16 | S38: 17 | T38: 18 | U38: 19 | V38: 20 | W38: 21 | X38: 22 | Y38: 23 | Z38: 24 | AA38: 25 | AB38: 26 | AC38: 27 | AD38: 28 | AE38: 29 | AF38: 30 | AG38: 31 | AH38: 32 | AI38: 33 | AJ38: 34 | AK38: 35 | AL38: 36 | AM38: 37 | AN38: 38 | AO38: 39 | AP38: 40 | AQ38: 41 | AR38: 42 | AS38: 43 | AT38: 44 | AU38: 45 | AV38: 46 | AW38: 47 | AX38: 48 | AY38: 49 | AZ38: 50 | BA38: 51 | BB38: 52 | BC38: 53 | BD38: 54 | BE38: 55 | BF38: 56 | BG38: 57 | BH38: 58 | BI38: 59 | BJ38: 60 | BK38: 61 | BL38: 62 | BM38: 63 | BN38: 64 | BO38: 65 | BP38: 66 | BQ38: 67 | BR38: 68 | BS38: 69 | BT38: 70 | BU38: 71 | BV38: 72 | BW38: 73 | BX38: 74 | BY38: 75 | BZ38: 76 | CA38: 77 | CB38: 78 | CC38: 79 | CD38: 80 | CE38: 81 | CF38: 82 | CG38: 83 | CH38: 84 | CI38: 85 | CJ38: 86 | CK38: 87 | CL38: 88 | CM38: 89 | CN38: 90 | CO38: 91 | CP38: 92 | CQ38: 93 | CR38: 94 | CS38: 95 | CT38: 96 | CU38: 97 | CV38: 98 | CW38: 99 | CX38: 100 | CY38: 101 | CZ38: 102 | DA38: 103 | DB38: 104 | DC38: 105 | DD38: 106 | DE38: 107 | DF38: 108 | DG38: 109 | DH38: 110 | DI38: 111 | DJ38: 112 | DK38: 113 | DL38: 114 | DM38: 115 | DN38: 116 | DO38: 117 | DP38: 118 | DQ38: 119 | DR38: 120 | DS38: 121 | DT38: 122 | DU38: 123 | DV38: 124 | DW38: 125 | DX38: 126 | DY38: 127 | DZ38: 128 | EA38: 129 | EB38: 130 | EC38: 131 | ED38: 132 | EE38: 133 | EF38: 134 | EG38: 135 | EH38: 136 | EI38: 137 | EJ38: 138 | EK38: 139 | EL38: 140 | EM38: 141 | EN38: 142 | EO38: 143 | EP38: 144 | EQ38: 145 | ER38: 146 | ES38: 147 | ET38: 148 | EU38: 149 | EV38: 150 | EW38: 151 | EX38: 152 | EY38: 153 | EZ38: 154 | FA38: 155 | FB38: 156 | FC38: 157 | FD38: 158 | FE38: 159 | FF38: 160 | FG38: 161
B39: W | C39: =Week9!C39+Week10!C34 -> 42 | D39: =Week9!D39+Week10!D34 -> 48 | E39: =Week9!E39+Week10!E34 -> 48 | F39: =Week9!F39+Week10!F34 -> 51 | G39: =Week9!G39+Week10!G34 -> 46 | H39: =Week9!H39+Week10!H34 -> 55 | I39: =Week9!I39+Week10!I34 -> 45 | J39: =Week9!J39+Week10!J34 -> 42 | ... FG39: =Week9!FG39+Week10!FG34 -> 0
B40: L | C40: =Week9!C40+Week10!C35 -> 59 | D40: =Week9!D40+Week10!D35 -> 53 | E40: =Week9!E40+Week10!E35 -> 53 | F40: =Week9!F40+Week10!F35 -> 50 | G40: =Week9!G40+Week10!G35 -> 55 | H40: =Week9!H40+Week10!H35 -> 46 | I40: =Week9!I40+Week10!I35 -> 56 | J40: =Week9!J40+Week10!J35 -> 59 | ... FG40: =Week9!FG40+Week10!FG35 -> 0
B41: Percent | C41: =C39/(C39+C40) -> 0.41584158 | D41: =D39/(D39+D40) -> 0.47524752 | E41: =E39/(E39+E40) -> 0.47524752 | F41: =F39/(F39+F40) -> 0.5049505 | G41: =G39/(G39+G40) -> 0.45544554 | H41: =H39/(H39+H40) -> 0.54455446 | I41: =I39/(I39+I40) -> 0.44554455 | J41: =J39/(J39+J40) -> 0.41584158 | ... FG41: =FG39/(FG39+FG40) -> #DIV/0!
C42: =C1 -> Jun | D42: =D1 -> Diana C | E42: =E1 -> Tinny | F42: =F1 -> Smith, M | G42: =G1 -> John McG | H42: =H1 -> Hamilton, J | I42: =I1 -> Dan G | J42: =J1 -> Caracas, M | ... FG42: =FG1 -> Blank
A43: =A28 -> 0 | B43: =B28 -> BALTIMORE () | K43: x | L43: x | O43: 57 | P43: x | X43: x | Z43: x | AB43: x | AC43: x | AE43: 43 | AF43: x | AG43: x | AJ43: x | AP43: x | AR43: x | AW43: x | AY43: x | BD43: x | BF43: 45 | BG43: x | BH43: x | BM43: x | BN43: x | BO43: x | BP43: x | BQ43: x | BR43: x | BU43: x | BV43: x | BW43: x | CA43: x | CE43: x | CH43: x | CK43: 37 | CP43: 41 | CT43: x | CU43: x | DB43: x | DC43: x | DI43: x | DN43: x | DO43: x | DT43: x | DU43: x | DV43: 44 | DW43: x
A44: =A29 -> 0 | B44: =B29 -> LA Chargers () | C44: 60 | D44: 47 | E44: 40 | F44: x | G44: 51 | H44: x | I44: x | J44: x | M44: 45 | N44: 61 | Q44: x | R44: x | S44: 47 | T44: x | U44: 53 | V44: 48 | W44: x | Y44: x | AA44: x | AD44: 50 | AH44: x | AI44: x | AK44: x | AL44: x | AM44: x | AN44: x | AO44: x | AQ44: 50 | AS44: x | AT44: x | AU44: x | AV44: 54 | AX44: x | AZ44: x | BA44: x | BB44: 49 | BC44: 33 | BE44: 40 | BI44: x | BJ44: x | BK44: x | BL44: x | BS44: x | BT44: x | BX44: x | BY44: x | BZ44: x | CB44: x | CC44: x | CD44: x | CF44: x | CG44: x | CI44: x | CJ44: x | CL44: x | CM44: x | CN44: 52 | CO44: 44 | CQ44: x | CR44: x | CS44: x | CV44: x | CW44: 52 | CX44: x | CY44: x | CZ44: x | DA44: x | DD44: x | DE44: x | DF44: x | DG44: x | DH44: x | DJ44: x | DK44: 46.5 | DL44: 46 | DM44: x | DP44: x | DQ44: 53 | DR44: 48 | DS44: 45
C46: =C40+C39 -> 101 | D46: =D40+D39 -> 101 | E46: =E40+E39 -> 101 | F46: =F40+F39 -> 101 | G46: =G40+G39 -> 101 | H46: =H40+H39 -> 101 | I46: =I40+I39 -> 101 | J46: =J40+J39 -> 101 | ... DW46: =DW40+DW39 -> 101

Sheet Week9
B1: Week 9 | C1: =Week1!C1 -> Jun | D1: =Week1!D1 -> Diana C | E1: =Week1!E1 -> Tinny | F1: =Week1!F1 -> Smith, M | G1: =Week1!G1 -> John McG | H1: =Week1!H1 -> Hamilton, J | I1: =Week1!I1 -> Dan G | J1: =Week1!J1 -> Caracas, M | ... FG1: =Week1!FG1 -> Blank
A2: n/a | B2: BALTIMORE () Does Not
A3: n/a | B3: Jacksonville () +xx Count
B4: Cincinnati ()
B5: ATLANTA ()
B6: Denver ()
B7: CAROLINA ()
B8: Dallas ()
B9: INDIANAPOLIS ()
B10: KANSAS CITY ()
B11: NY Jets ()
B12: Detroit ()
B13: MIAMI ()
B14: Cleveland ()
B15: NEW ORLEANS ()
... B31: Buffalo ()
A32: Bye | B32: Pittsburgh ()
A33: Bye | B33: Tennessee ()
B34: W | C34: =COUNTIF(C2:C33,"W") -> 0 | D34: =COUNTIF(D2:D33,"W") -> 0 | E34: =COUNTIF(E2:E33,"W") -> 0 | F34: =COUNTIF(F2:F33,"W") -> 0 | G34: =COUNTIF(G2:G33,"W") -> 0 | H34: =COUNTIF(H2:H33,"W") -> 0 | I34: =COUNTIF(I2:I33,"W") -> 0 | J34: =COUNTIF(J2:J33,"W") -> 0 | ... FG34: =COUNTIF(FG2:FG33,"W") -> 0
B35: L | C35: =COUNTIF(C2:C33,"L") -> 0 | D35: =COUNTIF(D2:D33,"L") -> 0 | E35: =COUNTIF(E2:E33,"L") -> 0 | F35: =COUNTIF(F2:F33,"L") -> 0 | G35: =COUNTIF(G2:G33,"L") -> 0 | H35: =COUNTIF(H2:H33,"L") -> 0 | I35: =COUNTIF(I2:I33,"L") -> 0 | J35: =COUNTIF(J2:J33,"L") -> 0 | ... FG35: =COUNTIF(FG2:FG33,"L") -> 0
B36: Percent | C36: =SUM(C34/(C34+C35)) -> #DIV/0! | D36: =SUM(D34/(D34+D35)) -> #DIV/0! | E36: =SUM(E34/(E34+E35)) -> #DIV/0! | F36: =SUM(F34/(F34+F35)) -> #DIV/0! | G36: =SUM(G34/(G34+G35)) -> #DIV/0! | H36: =SUM(H34/(H34+H35)) -> #DIV/0! | I36: =SUM(I34/(I34+I35)) -> #DIV/0! | J36: =SUM(J34/(J34+J35)) -> #DIV/0! | ... FG36: =SUM(FG34/(FG34+FG35)) -> #DIV/0!
B38: Overall | C38: 1 | D38: 2 | E38: 3 | F38: 4 | G38: 5 | H38: 6 | I38: 7 | J38: 8 | K38: 9 | L38: 10 | M38: 11 | N38: 12 | O38: 13 | P38: 14 | Q38: 15 | R38: 16 | S38: 17 | T38: 18 | U38: 19 | V38: 20 | W38: 21 | X38: 22 | Y38: 23 | Z38: 24 | AA38: 25 | AB38: 26 | AC38: 27 | AD38: 28 | AE38: 29 | AF38: 30 | AG38: 31 | AH38: 32 | AI38: 33 | AJ38: 34 | AK38: 35 | AL38: 36 | AM38: 37 | AN38: 38 | AO38: 39 | AP38: 40 | AQ38: 41 | AR38: 42 | AS38: 43 | AT38: 44 | AU38: 45 | AV38: 46 | AW38: 47 | AX38: 48 | AY38: 49 | AZ38: 50 | BA38: 51 | BB38: 52 | BC38: 53 | BD38: 54 | BE38: 55 | BF38: 56 | BG38: 57 | BH38: 58 | BI38: 59 | BJ38: 60 | BK38: 61 | BL38: 62 | BM38: 63 | BN38: 64 | BO38: 65 | BP38: 66 | BQ38: 67 | BR38: 68 | BS38: 69 | BT38: 70 | BU38: 71 | BV38: 72 | BW38: 73 | BX38: 74 | BY38: 75 | BZ38: 76 | CA38: 77 | CB38: 78 | CC38: 79 | CD38: 80 | CE38: 81 | CF38: 82 | CG38: 83 | CH38: 84 | CI38: 85 | CJ38: 86 | CK38: 87 | CL38: 88 | CM38: 89 | CN38: 90 | CO38: 91 | CP38: 92 | CQ38: 93 | CR38: 94 | CS38: 95 | CT38: 96 | CU38: 97 | CV38: 98 | CW38: 99 | CX38: 100 | CY38: 101 | CZ38: 102 | DA38: 103 | DB38: 104 | DC38: 105 | DD38: 106 | DE38: 107 | DF38: 108 | DG38: 109 | DH38: 110 | DI38: 111 | DJ38: 112 | DK38: 113 | DL38: 114 | DM38: 115 | DN38: 116 | DO38: 117 | DP38: 118 | DQ38: 119 | DR38: 120 | DS38: 121 | DT38: 122 | DU38: 123 | DV38: 124 | DW38: 125 | DX38: 126 | DY38: 127 | DZ38: 128 | EA38: 129 | EB38: 130 | EC38: 131 | ED38: 132 | EE38: 133 | EF38: 134 | EG38: 135 | EH38: 136 | EI38: 137 | EJ38: 138 | EK38: 139 | EL38: 140 | EM38: 141 | EN38: 142 | EO38: 143 | EP38: 144 | EQ38: 145 | ER38: 146 | ES38: 147 | ET38: 148 | EU38: 149 | EV38: 150 | EW38: 151 | EX38: 152 | EY38: 153 | EZ38: 154 | FA38: 155 | FB38: 156 | FC38: 157 | FD38: 158 | FE38: 159 | FF38: 160 | FG38: 161
B39: W | C39: =Week8!C39+Week9!C34 -> 42 | D39: =Week8!D39+Week9!D34 -> 48 | E39: =Week8!E39+Week9!E34 -> 48 | F39: =Week8!F39+Week9!F34 -> 51 | G39: =Week8!G39+Week9!G34 -> 46 | H39: =Week8!H39+Week9!H34 -> 55 | I39: =Week8!I39+Week9!I34 -> 45 | J39: =Week8!J39+Week9!J34 -> 42 | ... FG39: =Week8!FG39+Week9!FG34 -> 0
B40: L | C40: =Week8!C40+Week9!C35 -> 59 | D40: =Week8!D40+Week9!D35 -> 53 | E40: =Week8!E40+Week9!E35 -> 53 | F40: =Week8!F40+Week9!F35 -> 50 | G40: =Week8!G40+Week9!G35 -> 55 | H40: =Week8!H40+Week9!H35 -> 46 | I40: =Week8!I40+Week9!I35 -> 56 | J40: =Week8!J40+Week9!J35 -> 59 | ... FG40: =Week8!FG40+Week9!FG35 -> 0
B41: Percent | C41: =C39/(C39+C40) -> 0.41584158 | D41: =D39/(D39+D40) -> 0.47524752 | E41: =E39/(E39+E40) -> 0.47524752 | F41: =F39/(F39+F40) -> 0.5049505 | G41: =G39/(G39+G40) -> 0.45544554 | H41: =H39/(H39+H40) -> 0.54455446 | I41: =I39/(I39+I40) -> 0.44554455 | J41: =J39/(J39+J40) -> 0.41584158 | ... FG41: =FG39/(FG39+FG40) -> #DIV/0!
C42: =C1 -> Jun | D42: =D1 -> Diana C | E42: =E1 -> Tinny | F42: =F1 -> Smith, M | G42: =G1 -> John McG | H42: =H1 -> Hamilton, J | I42: =I1 -> Dan G | J42: =J1 -> Caracas, M | ... FG42: =FG1 -> Blank
A43: =A28 -> 0 | B43: =B28 -> CHICAGO () | C43: 37 | D43: 43 | F43: x | G43: 44 | H43: x | I43: x | J43: x | K43: x | L43: x | M43: 33 | N43: 51 | O43: 56 | P43: x | Q43: x | R43: x | S43: 46 | T43: x | U43: 50 | V43: 51 | W43: x | X43: x | Y43: x | Z43: x | AA43: x | AB43: x | AC43: x | AD43: 50 | AE43: x | AF43: x | AH43: x | AI43: X | AJ43: x | AK43: 56 | AL43: x | AM43: x | AN43: x | AO43: x | AP43: x | AQ43: 50 | AR43: x | AT43: x | AU43: x | AW43: x | AX43: x | AY43: x | AZ43: x | BA43: x | BC43: 26 | BD43: x | BE43: 44 | BF43: 44 | BG43: x | BH43: x | BI43: x | BJ43: x | BL43: x | BM43: x | BN43: x | BO43: 45 | BP43: 45 | BQ43: x | BR43: x | BS43: x | BU43: x | BV43: x | BW43: x | BX43: x | BY43: x | BZ43: x | CA43: x | CC43: x | CD43: x | CE43: x | CG43: x | CH43: x | CI43: x | CJ43: x | CK43: 37 | CL43: x | CN43: 58 | CO43: 58 | CP43: x | CQ43: x | CR43: x | CS43: x | CT43: x | CU43: x | CW43: 44 | CX43: x | CY43: x | DA43: x | DB43: x | DC43: 47 | DD43: x | DE43: x | DF43: x | DH43: x | DJ43: x | DK43: 54 | DM43: x | DN43: x | DO43: 54 | DP43: x | DQ43: 56 | DR43: 36 | DS43: 55 | DT43: x | DU43: X | DV43: 44 | DW43: x
A44: =A29 -> 0 | B44: =B29 -> Tampa Bay () | E44: 40 | AG44: x | AS44: x | AV44: 52 | BB44: 43 | BK44: x | BT44: x | CB44: x | CF44: x | CM44: x | CV44: x | CZ44: x | DG44: x | DI44: 41 | DL44: 58
C46: =C40+C39 -> 101 | D46: =D40+D39 -> 101 | E46: =E40+E39 -> 101 | F46: =F40+F39 -> 101 | G46: =G40+G39 -> 101 | H46: =H40+H39 -> 101 | I46: =I40+I39 -> 101 | J46: =J40+J39 -> 101 | ... DW46: =DW40+DW39 -> 101

Sheet Week8
B1: Week 8 | C1: =Week1!C1 -> Jun | D1: =Week1!D1 -> Diana C | E1: =Week1!E1 -> Tinny | F1: =Week1!F1 -> Smith, M | G1: =Week1!G1 -> John McG | H1: =Week1!H1 -> Hamilton, J | I1: =Week1!I1 -> Dan G | J1: =Week1!J1 -> Caracas, M | ... FG1: =Week1!FG1 -> Blank
A2: n/a | B2: GREEN BAY (4-3) Does Not | C2: T | D2: T | E2: T | F2: T | G2: T | H2: T | I2: T | J2: T | K2: T | L2: T | M2: T | N2: T | O2: T | P2: T | Q2: T | R2: T | S2: T | T2: T | U2: T | V2: T | W2: T | X2: T | Y2: T | Z2: T | AA2: T | AB2: T | AC2: T | AD2: T | AE2: T | AF2: T | AG2: T | AH2: T | AI2: T | AJ2: T | AK2: T | AL2: T | AM2: T | AN2: T | AO2: T | AP2: T | AQ2: T | AR2: T | AS2: T | AT2: T | AU2: T | AV2: T | AW2: T | AX2: T | AY2: T | AZ2: T | BA2: T | BB2: T | BC2: T | BD2: T | BE2: T | BF2: T | BG2: T | BH2: T | BI2: T | BJ2: T | BK2: T | BL2: T | BM2: T | BN2: T | BO2: T | BP2: T | BQ2: T | BR2: T | BS2: T | BT2: T | BU2: T | BV2: T | BW2: T | BX2: T | BY2: T | BZ2: T | CA2: T | CB2: T | CC2: T | CD2: T | CE2: T | CF2: T | CG2: T | CH2: T | CI2: T | CJ2: T | CK2: T | CL2: T | CM2: T | CN2: T | CO2: T | CP2: T | CQ2: T | CR2: T | CS2: T | CT2: T | CU2: T | CV2: T | CW2: T | CX2: T | CY2: T | CZ2: T | DA2: T | DB2: T | DC2: T | DD2: T | DE2: T | DF2: T | DG2: T | DH2: T | DI2: T | DJ2: T | DK2: T | DL2: T | DM2: T | DN2: T | DO2: T | DP2: T | DQ2: T | DR2: T | DS2: T | DT2: T | DU2: T | DV2: T | DW2: T | DX2: T | DY2: T
A3: n/a | B3: Carolina (3-3) +3.5 Count
B4: BUFFALO (5-1)
B5: Baltimore (4-3) +3.5
B6: CINCINNATI (4-2)
B7: Tennessee (1-6) +10.5
B8: DALLAS (3-4)
B9: Arizona (2-5) +6.5
B10: DETROIT (4-2)
B11: Minnesota (6-0) +3.5
B12: JACKSONVILLE (4-2)
B13: Indianapolis (2-5) +7.5
B14: Las Vegas (3-4)
B15: NY JETS (2-5) +1.5
... B29: Chicago (5-2) +3.5 o/u 46.5
A30: Bye | B30: Houston (2-5)
A31: Bye | B31: New Orleans (2-5)
A32: Bye | B32: NY Giants (4-2-1)
A33: Bye | B33: San Francisco (6-1)
B34: W | C34: =COUNTIF(C2:C33,"W") -> 0 | D34: =COUNTIF(D2:D33,"W") -> 0 | E34: =COUNTIF(E2:E33,"W") -> 0 | F34: =COUNTIF(F2:F33,"W") -> 0 | G34: =COUNTIF(G2:G33,"W") -> 0 | H34: =COUNTIF(H2:H33,"W") -> 0 | I34: =COUNTIF(I2:I33,"W") -> 0 | J34: =COUNTIF(J2:J33,"W") -> 0 | ... FG34: =COUNTIF(FG2:FG33,"W") -> 0
B35: L | C35: =COUNTIF(C2:C33,"L") -> 0 | D35: =COUNTIF(D2:D33,"L") -> 0 | E35: =COUNTIF(E2:E33,"L") -> 0 | F35: =COUNTIF(F2:F33,"L") -> 0 | G35: =COUNTIF(G2:G33,"L") -> 0 | H35: =COUNTIF(H2:H33,"L") -> 0 | I35: =COUNTIF(I2:I33,"L") -> 0 | J35: =COUNTIF(J2:J33,"L") -> 0 | ... FG35: =COUNTIF(FG2:FG33,"L") -> 0
B36: Percent | C36: =SUM(C34/(C34+C35)) -> #DIV/0! | D36: =SUM(D34/(D34+D35)) -> #DIV/0! | E36: =SUM(E34/(E34+E35)) -> #DIV/0! | F36: =SUM(F34/(F34+F35)) -> #DIV/0! | G36: =SUM(G34/(G34+G35)) -> #DIV/0! | H36: =SUM(H34/(H34+H35)) -> #DIV/0! | I36: =SUM(I34/(I34+I35)) -> #DIV/0! | J36: =SUM(J34/(J34+J35)) -> #DIV/0! | ... FG36: =SUM(FG34/(FG34+FG35)) -> #DIV/0!
B38: Overall | C38: 1 | D38: 2 | E38: 3 | F38: 4 | G38: 5 | H38: 6 | I38: 7 | J38: 8 | K38: 9 | L38: 10 | M38: 11 | N38: 12 | O38: 13 | P38: 14 | Q38: 15 | R38: 16 | S38: 17 | T38: 18 | U38: 19 | V38: 20 | W38: 21 | X38: 22 | Y38: 23 | Z38: 24 | AA38: 25 | AB38: 26 | AC38: 27 | AD38: 28 | AE38: 29 | AF38: 30 | AG38: 31 | AH38: 32 | AI38: 33 | AJ38: 34 | AK38: 35 | AL38: 36 | AM38: 37 | AN38: 38 | AO38: 39 | AP38: 40 | AQ38: 41 | AR38: 42 | AS38: 43 | AT38: 44 | AU38: 45 | AV38: 46 | AW38: 47 | AX38: 48 | AY38: 49 | AZ38: 50 | BA38: 51 | BB38: 52 | BC38: 53 | BD38: 54 | BE38: 55 | BF38: 56 | BG38: 57 | BH38: 58 | BI38: 59 | BJ38: 60 | BK38: 61 | BL38: 62 | BM38: 63 | BN38: 64 | BO38: 65 | BP38: 66 | BQ38: 67 | BR38: 68 | BS38: 69 | BT38: 70 | BU38: 71 | BV38: 72 | BW38: 73 | BX38: 74 | BY38: 75 | BZ38: 76 | CA38: 77 | CB38: 78 | CC38: 79 | CD38: 80 | CE38: 81 | CF38: 82 | CG38: 83 | CH38: 84 | CI38: 85 | CJ38: 86 | CK38: 87 | CL38: 88 | CM38: 89 | CN38: 90 | CO38: 91 | CP38: 92 | CQ38: 93 | CR38: 94 | CS38: 95 | CT38: 96 | CU38: 97 | CV38: 98 | CW38: 99 | CX38: 100 | CY38: 101 | CZ38: 102 | DA38: 103 | DB38: 104 | DC38: 105 | DD38: 106 | DE38: 107 | DF38: 108 | DG38: 109 | DH38: 110 | DI38: 111 | DJ38: 112 | DK38: 113 | DL38: 114 | DM38: 115 | DN38: 116 | DO38: 117 | DP38: 118 | DQ38: 119 | DR38: 120 | DS38: 121 | DT38: 122 | DU38: 123 | DV38: 124 | DW38: 125 | DX38: 126 | DY38: 127 | DZ38: 128 | EA38: 129 | EB38: 130 | EC38: 131 | ED38: 132 | EE38: 133 | EF38: 134 | EG38: 135 | EH38: 136 | EI38: 137 | EJ38: 138 | EK38: 139 | EL38: 140 | EM38: 141 | EN38: 142 | EO38: 143 | EP38: 144 | EQ38: 145 | ER38: 146 | ES38: 147 | ET38: 148 | EU38: 149 | EV38: 150 | EW38: 151 | EX38: 152 | EY38: 153 | EZ38: 154 | FA38: 155 | FB38: 156 | FC38: 157 | FD38: 158 | FE38: 159 | FF38: 160 | FG38: 161
B39: W | C39: =Week7!C39+Week8!C34 -> 42 | D39: =Week7!D39+Week8!D34 -> 48 | E39: =Week7!E39+Week8!E34 -> 48 | F39: =Week7!F39+Week8!F34 -> 51 | G39: =Week7!G39+Week8!G34 -> 46 | H39: =Week7!H39+Week8!H34 -> 55 | I39: =Week7!I39+Week8!I34 -> 45 | J39: =Week7!J39+Week8!J34 -> 42 | ... FG39: =Week7!FG39+Week8!FG34 -> 0
B40: L | C40: =Week7!C40+Week8!C35 -> 59 | D40: =Week7!D40+Week8!D35 -> 53 | E40: =Week7!E40+Week8!E35 -> 53 | F40: =Week7!F40+Week8!F35 -> 50 | G40: =Week7!G40+Week8!G35 -> 55 | H40: =Week7!H40+Week8!H35 -> 46 | I40: =Week7!I40+Week8!I35 -> 56 | J40: =Week7!J40+Week8!J35 -> 59 | ... FG40: =Week7!FG40+Week8!FG35 -> 0
B41: Percent | C41: =C39/(C39+C40) -> 0.41584158 | D41: =D39/(D39+D40) -> 0.47524752 | E41: =E39/(E39+E40) -> 0.47524752 | F41: =F39/(F39+F40) -> 0.5049505 | G41: =G39/(G39+G40) -> 0.45544554 | H41: =H39/(H39+H40) -> 0.54455446 | I41: =I39/(I39+I40) -> 0.44554455 | J41: =J39/(J39+J40) -> 0.41584158 | ... FG41: =FG39/(FG39+FG40) -> #DIV/0!
C42: =C1 -> Jun | D42: =D1 -> Diana C | E42: =E1 -> Tinny | F42: =F1 -> Smith, M | G42: =G1 -> John McG | H42: =H1 -> Hamilton, J | I42: =I1 -> Dan G | J42: =J1 -> Caracas, M | ... FG42: =FG1 -> Blank
A43: =A28 -> 0 | B43: =B28 -> SEATTLE (4-3)
A44: =A29 -> 0 | B44: =B29 -> Chicago (5-2) +3.5 o/u 46.5
C46: =C40+C39 -> 101 | D46: =D40+D39 -> 101 | E46: =E40+E39 -> 101 | F46: =F40+F39 -> 101 | G46: =G40+G39 -> 101 | H46: =H40+H39 -> 101 | I46: =I40+I39 -> 101 | J46: =J40+J39 -> 101 | ... DW46: =DW40+DW39 -> 101

Sheet Week7
B1: Week 7 | C1: =Week1!C1 -> Jun | D1: =Week1!D1 -> Diana C | E1: =Week1!E1 -> Tinny | F1: =Week1!F1 -> Smith, M | G1: =Week1!G1 -> John McG | H1: =Week1!H1 -> Hamilton, J | I1: =Week1!I1 -> Dan G | J1: =Week1!J1 -> Caracas, M | ... FG1: =Week1!FG1 -> Blank
A2: 30 | B2: CHICAGO (4-2) Does Not | C2: T | D2: T | E2: T | F2: T | G2: T | H2: T | I2: T | J2: T | K2: T | L2: T | M2: T | N2: T | O2: T | P2: T | Q2: T | R2: T | S2: T | T2: T | U2: T | V2: T | W2: T | X2: T | Y2: T | Z2: T | AA2: T | AB2: T | AC2: T | AD2: T | AE2: T | AF2: T | AG2: T | AH2: T | AI2: T | AJ2: T | AK2: T | AL2: T | AM2: T | AN2: T | AO2: T | AP2: T | AQ2: T | AR2: T | AS2: T | AT2: T | AU2: T | AV2: T | AW2: T | AX2: T | AY2: T | AZ2: T | BA2: T | BB2: T | BC2: T | BD2: T | BE2: T | BF2: T | BG2: T | BH2: T | BI2: T | BJ2: T | BK2: T | BL2: T | BM2: T | BN2: T | BO2: T | BP2: T | BQ2: T | BR2: T | BS2: T | BT2: T | BU2: T | BV2: T | BW2: T | BX2: T | BY2: T | BZ2: T | CA2: T | CB2: T | CC2: T | CD2: T | CE2: T | CF2: T | CG2: T | CH2: T | CI2: T | CJ2: T | CK2: T | CL2: T | CM2: T | CN2: T | CO2: T | CP2: T | CQ2: T | CR2: T | CS2: T | CT2: T | CU2: T | CV2: T | CW2: T | CX2: T | CY2: T | CZ2: T | DA2: T | DB2: T | DC2: T | DD2: T | DE2: T | DF2: T | DG2: T | DH2: T | DI2: T | DJ2: T | DK2: T | DL2: T | DM2: T | DN2: T | DO2: T | DP2: T | DQ2: T | DR2: T | DS2: T | DT2: T | DU2: T | DV2: T | DW2: T | DX2: T | DY2: T
A3: 24 | B3: New England (4-2) +2.5 Count
A4: 16 | B4: Pittsburgh (4-2) | D4: W | E4: W | G4: W | H4: W | J4: W | M4: W | N4: W | O4: W | P4: W | S4: W | T4: W | U4: W | V4: W | W4: W | Y4: W | Z4: W | AC4: W | AD4: W | AF4: W | AG4: W | AI4: W | AJ4: W | AL4: W | AN4: W | AO4: W | AP4: W | AQ4: W | AR4: W | AT4: W | AV4: W | AW4: W | AX4: W | AY4: W | AZ4: W | BB4: W | BC4: W | BD4: W | BE4: W | BF4: W | BG4: W | BJ4: W | BK4: W | BL4: W | BM4: W | BN4: W | BO4: W | BP4: W | BQ4: W | BR4: W | BS4: W | BT4: W | BV4: W | BW4: W | BX4: W | BY4: W | BZ4: W | CA4: W | CB4: W | CD4: W | CI4: W | CK4: W | CM4: W | CN4: W | CQ4: W | CR4: W | CV4: W | CX4: W | CZ4: W | DA4: W | DC4: W | DE4: W | DF4: W | DH4: W | DI4: W | DJ4: W | DM4: W | DN4: W | DO4: W | DR4: W | DU4: W | DY4: W
A5: 10 | B5: NEW ORLEANS (2-4) +3.5 | C5: L | F5: L | I5: L | K5: L | L5: L | Q5: L | R5: L | X5: L | AA5: L | AB5: L | AE5: L | AH5: L | AK5: L | AM5: L | AS5: L | AU5: L | BA5: L | BH5: L | BI5: L | BU5: L | CC5: L | CE5: L | CF5: L | CG5: L | CH5: L | CJ5: L | CL5: L | CO5: L | CP5: L | CS5: L | CT5: L | CU5: L | CW5: L | CY5: L | DB5: L | DD5: L | DG5: L | DK5: L | DL5: L | DP5: L | DQ5: L | DS5: L | DT5: L | DV5: L | DW5: L | DX5: L
A6: 20 | B6: San Francisco (6-0) | C6: L | D6: L | E6: L | F6: L | G6: L | J6: L | L6: L | M6: L | N6: L | O6: L | P6: L | Q6: L | S6: L | T6: L | V6: L | W6: L | X6: L | Y6: L | AA6: L | AB6: L | AC6: L | AF6: L | AG6: L | AH6: L | AI6: L | AJ6: L | AL6: L | AM6: L | AN6: L | AO6: L | AQ6: L | AR6: L | AT6: L | AU6: L | AV6: L | AW6: L | AX6: L | AY6: L | AZ6: L | BA6: L | BB6: L | BC6: L | BD6: L | BE6: L | BF6: L | BG6: L | BH6: L | BI6: L | BJ6: L | BK6: L | BL6: L | BM6: L | BO6: L | BP6: L | BQ6: L | BR6: L | BS6: L | BT6: L | BU6: L | BV6: L | BW6: L | BX6: L | BY6: L | BZ6: L | CA6: L | CB6: L | CC6: L | CG6: L | CH6: L | CI6: L | CJ6: L | CK6: L | CL6: L | CM6: L | CN6: L | CO6: L | CQ6: L | CR6: L | CT6: L | CU6: L | CV6: L | CX6: L | CY6: L | CZ6: L | DA6: L | DB6: L | DC6: L | DD6: L | DE6: L | DF6: L | DG6: L | DH6: L | DI6: L | DJ6: L | DL6: L | DM6: L | DO6: L | DP6: L | DQ6: L | DR6: L | DV6: L | DW6: L | DY6: L
A7: 29 | B7: ATLANTA (2-4) +3.5 | H7: W | I7: W | K7: W | R7: W | U7: W | Z7: W | AD7: W | AE7: W | AK7: W | AP7: W | AS7: W | BN7: W | CD7: W | CE7: W | CF7: W | CP7: W | CS7: W | CW7: W | DK7: W | DN7: W | DS7: W | DT7: W | DU7: W | DX7: W
A8: 13 | B8: BALTIMORE (4-2) | C8: L | D8: L | E8: L | F8: L | J8: L | N8: L | P8: L | Q8: L | R8: L | V8: L | AA8: L | AC8: L | AE8: L | AF8: L | AG8: L | AJ8: L | AN8: L | AP8: L | AQ8: L | AR8: L | AT8: L | AV8: L | AX8: L | AY8: L | AZ8: L | BC8: L | BD8: L | BE8: L | BH8: L | BI8: L | BJ8: L | BK8: L | BL8: L | BN8: L | BP8: L | BQ8: L | BR8: L | BS8: L | BT8: L | BU8: L | BV8: L | BX8: L | BY8: L | BZ8: L | CF8: L | CI8: L | CJ8: L | CN8: L | CQ8: L | CR8: L | CU8: L | CW8: L | CZ8: L | DB8: L | DC8: L | DD8: L | DE8: L | DF8: L | DH8: L | DI8: L | DJ8: L | DK8: L | DL8: L | DM8: L | DR8: L | DT8: L | DW8: L | DY8: L
A9: 35 | B9: Cincinnati (3-2) +2.5 | G9: W | H9: W | I9: W | K9: W | L9: W | M9: W | O9: W | S9: W | T9: W | U9: W | W9: W | X9: W | Y9: W | Z9: W | AB9: W | AD9: W | AH9: W | AI9: W | AK9: W | AL9: W | AM9: W | AO9: W | AS9: W | AU9: W | AW9: W | BA9: W | BB9: W | BF9: W | BG9: W | BM9: W | BO9: W | BW9: W | CA9: W | CB9: W | CC9: W | CD9: W | CE9: W | CG9: W | CH9: W | CK9: W | CL9: W | CM9: W | CO9: W | CP9: W | CS9: W | CT9: W | CV9: W | CX9: W | CY9: W | DA9: W | DG9: W | DN9: W | DO9: W | DP9: W | DQ9: W | DS9: W | DU9: W | DV9: W | DX9: W
A10: 13 | B10: CAROLINA (3-2) | C10: L | D10: L | E10: L | G10: L | I10: L | J10: L | K10: L | L10: L | M10: L | O10: L | Q10: L | R10: L | S10: L | T10: L | U10: L | W10: L | AA10: L | AB10: L | AC10: L | AD10: L | AF10: L | AG10: L | AH10: L | AN10: L | AP10: L | AQ10: L | AR10: L | AT10: L | AV10: L | AW10: L | AX10: L | AY10: L | AZ10: L | BB10: L | BC10: L | BE10: L | BF10: L | BG10: L | BH10: L | BI10: L | BJ10: L | BK10: L | BL10: L | BM10: L | BO10: L | BP10: L | BQ10: L | BR10: L | BS10: L | BT10: L | BU10: L | BV10: L | BX10: L | BY10: L | BZ10: L | CB10: L | CC10: L | CF10: L | CG10: L | CI10: L | CK10: L | CL10: L | CM10: L | CN10: L | CR10: L | CT10: L | CU10: L | CV10: L | CX10: L | CY10: L | CZ10: L | DA10: L | DC10: L | DD10: L | DE10: L | DF10: L | DG10: L | DH10: L | DI10: L | DJ10: L | DK10: L | DL10: L | DM10: L | DN10: L | DO10: L | DP10: L | DQ10: L | DR10: L | DT10: L | DU10: L | DV10: L | DW10: L | DX10: L | DY10: L
A11: 43 | B11: Tampa Bay (1-5) +3.5 | F11: W | H11: W | N11: W | P11: W | V11: W | X11: W | Y11: W | Z11: W | AE11: W | AI11: W | AJ11: W | AK11: W | AL11: W | AM11: W | AO11: W | AS11: W | AU11: W | BA11: W | BD11: W | BN11: W | BW11: W | CA11: W | CD11: W | CE11: W | CH11: W | CJ11: W | CO11: W | CP11: W | CQ11: W | CS11: W | CW11: W | DB11: W | DS11: W
A12: 21 | B12: HOUSTON (2-4) | P12: L | S12: L | U12: L | W12: L | Z12: L | AB12: L | AE12: L | AG12: L | AH12: L | AN12: L | AQ12: L | AR12: L | AS12: L | AT12: L | AW12: L | AY12: L | AZ12: L | BC12: L | BD12: L | BK12: L | BL12: L | BP12: L | BQ12: L | BR12: L | BS12: L | BT12: L | BU12: L | BV12: L | BX12: L | BY12: L | BZ12: L | CE12: L | CI12: L | CN12: L | CP12: L | CR12: L | CS12: L | CT12: L | CW12: L | DB12: L | DC12: L | DG12: L | DH12: L | DI12: L | DK12: L | DM12: L | DR12: L | DV12: L | DW12: L | DX12: L | DY12: L
A13: 27 | B13: NY Giants (3-2-1) +9.5 | C13: W | D13: W | E13: W | F13: W | G13: W | H13: W | I13: W | J13: W | K13: W | L13: W | M13: W | N13: W | O13: W | Q13: W | R13: W | T13: W | V13: W | X13: W | Y13: W | AA13: W | AC13: W | AD13: W | AF13: W | AI13: W | AJ13: W | AK13: W | AL13: W | AM13: W | AO13: W | AP13: W | AU13: W | AV13: W | AX13: W | BA13: W | BB13: W | BE13: W | BF13: W | BG13: W | BH13: W | BI13: W | BJ13: W | BM13: W | BN13: W | BO13: W | BW13: W | CA13: W | CB13: W | CC13: W | CD13: W | CF13: W | CG13: W | CH13: W | CJ13: W | CK13: W | CL13: W | CM13: W | CO13: W | CQ13: W | CU13: W | CV13: W | CX13: W | CY13: W | CZ13: W | DA13: W | DD13: W | DE13: W | DF13: W | DJ13: W | DL13: W | DN13: W | DO13: W | DP13: W | DQ13: W | DS13: W | DT13: W | DU13: W
