Workbook

Sheet Scores
B1: =Week1!$B$1 -> Week 1 | D1: =Week2!$B$1 -> Week 2 | F1: =Week3!$B$1 -> Week 3 | H1: =Week4!$B$1 -> Week 4 | J1: =Week5!$B$1 -> Week 5 | L1: =Week6!$B$1 -> Week 6 | N1: =Week7!$B$1 -> Week 7 | P1: =Week8!$B$1 -> Week 8 | R1: =Week9!$B$1 -> Week 9 | T1: =Week10!$B$1 -> Week 10 | V1: =Week11!$B$1 -> Week 11
A2: =Week1!$A$2 -> 13 | B2: =Week1!$B$2 -> SEATTLE (0-0) | C2: =Week2!$A$2 -> 41 | D2: =Week2!$B$2 -> BUFFALO (1-0) Does Not | E2: =Week3!$A$2 -> 14 | F2: =Week3!$B$2 -> GREEN BAY (1-1) Does Not | G2: =Week4!$A$2 -> 24 | H2: =Week4!$B$2 -> Pittssburgh (2-1) Does Not | I2: =Week5!$A$2 -> 16 | J2: =Week5!$B$2 -> DALLAS (2-2) Does Not | K2: =Week6!$A$2 -> 17 | L2: =Week6!$B$2 -> DENVER (3-2) Does Not | M2: =Week7!$A$2 -> 30 | N2: =Week7!$B$2 -> CHICAGO (4-2) Does Not | O2: =Week8!$A$2 -> n/a | P2: =Week8!$B$2 -> GREEN BAY (4-3) Does Not | Q2: =Week9!$A$2 -> n/a | R2: =Week9!$B$2 -> BALTIMORE () Does Not | S2: =Week10!$A$2 -> n/a | T2: =Week10!$B$2 -> NY GIANTS () Does Not | U2: =Week11!$A$2 -> n/a | V2: =Week11!$B$2 -> HOUSTON () Does Not
A3: =Week1!$A$3 -> 10 | B3: =Week1!$B$3 -> New England (0-0) +3.5 | C3: =Week2!$A$3 -> 31 | D3: =Week2!$B$3 -> Detroit (1-0) +4.5 Count | E3: =Week3!$A$3 -> 35 | F3: =Week3!$B$3 -> Atlanta (0-2) +6.5 Count | G3: =Week4!$A$3 -> 27 | H3: =Week4!$B$3 -> CLEVELAND (2-1) +2.5 Count | I3: =Week5!$A$3 -> 24 | J3: =Week5!$B$3 -> Tampa Bay (0-4) +9.5 Count | K3: =Week6!$A$3 -> 14 | L3: =Week6!$B$3 -> Seattle (3-2) +2.5 Count | M3: =Week7!$A$3 -> 24 | N3: =Week7!$B$3 -> New England (4-2) +2.5 Count | O3: =Week8!$A$3 -> n/a | P3: =Week8!$B$3 -> Carolina (3-3) +3.5 Count | Q3: =Week9!$A$3 -> n/a | R3: =Week9!$B$3 -> Jacksonville () +xx Count | S3: =Week10!$A$3 -> n/a | T3: =Week10!$B$3 -> Washington () +xx Count | U3: =Week11!$A$3 -> n/a | V3: =Week11!$B$3 -> Indianapolis () +xx Count
A4: =Week1!$A$4 -> 7 | B4: =Week1!$B$4 -> L.A. RAMS (0-0) | C4: =Week2!$A$4 -> 34 | D4: =Week2!$B$4 -> Carolina (0-1) | E4: =Week3!$A$4 -> 24 | F4: =Week3!$B$4 -> BUFFALO (2-0) | G4: =Week4!$A$4 -> 30 | H4: =Week4!$B$4 -> Indianapolis (1-2) | I4: =Week5!$A$4 -> 19 | J4: =Week5!$B$4 -> JACKSONVILLE (3-1) | K4: =Week6!$A$4 -> 31 | L4: =Week6!$B$4 -> JACKSONVILLE (4-1) | M4: =Week7!$A$4 -> 16 | N4: =Week7!$B$4 -> Pittsburgh (4-2) | O4: =Week8!$A$4 -> 0 | P4: =Week8!$B$4 -> BUFFALO (5-1) | Q4: =Week9!$A$4 -> 0 | R4: =Week9!$B$4 -> Cincinnati () | S4: =Week10!$A$4 -> 0 | T4: =Week10!$B$4 -> DETROIT () | U4: =Week11!$A$4 -> 0 | V4: =Week11!$B$4 -> BUFFALO ()
A5: =Week1!$A$5 -> 27 | B5: =Week1!$B$5 -> San Francisco (0-0) +3.5 | C5: =Week2!$A$5 -> 3 | D5: =Week2!$B$5 -> ATLANTA (0-1) +2.5 | E5: =Week3!$A$5 -> 16 | F5: =Week3!$B$5 -> LA Chargers (0-2) +7.5 | G5: =Week4!$A$5 -> 13 | H5: =Week4!$B$5 -> WASHINGTON (1-2) +3.5 | I5: =Week5!$A$5 -> 17 | J5: =Week5!$B$5 -> Philadelphia (2-2) +6.5 | K5: =Week6!$A$5 -> 34 | L5: =Week6!$B$5 -> Houston (1-4) +2.5 | M5: =Week7!$A$5 -> 10 | N5: =Week7!$B$5 -> NEW ORLEANS (2-4) +3.5 | O5: =Week8!$A$5 -> 0 | P5: =Week8!$B$5 -> Baltimore (4-3) +3.5 | Q5: =Week9!$A$5 -> 0 | R5: =Week9!$B$5 -> ATLANTA () | S5: =Week10!$A$5 -> 0 | T5: =Week10!$B$5 -> New England () | U5: =Week11!$A$5 -> 0 | V5: =Week11!$B$5 -> Miami ()
A6: =Week1!$A$32 -> 31 | B6: =Week1!$B$6 -> CINCINNATI (0-0) | C6: =Week2!$A$6 -> 17 | D6: =Week2!$B$6 -> BALTIMORE (1-0) | E6: =Week3!$A$6 -> 18 | F6: =Week3!$B$6 -> Carolina (1-1) | G6: =Week4!$A$6 -> 24 | H6: =Week4!$B$6 -> BALTIMORE (2-1) | I6: =Week5!$A$6 -> 31 | J6: =Week5!$B$6 -> Cincinnati (2-2) | K6: =Week6!$A$6 -> 31 | L6: =Week6!$B$6 -> Chicago (3-2) | M6: =Week7!$A$6 -> 20 | N6: =Week7!$B$6 -> San Francisco (6-0) | O6: =Week8!$A$6 -> 0 | P6: =Week8!$B$6 -> CINCINNATI (4-2) | Q6: =Week9!$A$6 -> 0 | R6: =Week9!$B$6 -> Denver () | S6: =Week10!$A$6 -> 0 | T6: =Week10!$B$6 -> Kansas City () | U6: =Week11!$A$6 -> 0 | V6: =Week11!$B$6 -> CAROLINA ()
A7: =Week1!$A$7 -> 27 | B7: =Week1!$B$7 -> Tampa Bay (0-0) +3.5 | C7: =Week2!$A$7 -> 24 | D7: =Week2!$B$7 -> New Orleans (0-1) +8.5 | E7: =Week3!$A$7 -> 21 | F7: =Week3!$B$7 -> CLEVELAND (1-1) +2.5 | G7: =Week4!$A$7 -> 18 | H7: =Week4!$B$7 -> Tennessee (0-3) +11.5 | I7: =Week5!$A$7 -> 24 | J7: =Week5!$B$7 -> MIAMI (0-4) +7.5 | K7: =Week6!$A$7 -> 23 | L7: =Week6!$B$7 -> ATLANTA (2-3) +3.5 | M7: =Week7!$A$7 -> 29 | N7: =Week7!$B$7 -> ATLANTA (2-4) +3.5 | O7: =Week8!$A$7 -> 0 | P7: =Week8!$B$7 -> Tennessee (1-6) +10.5 | Q7: =Week9!$A$7 -> 0 | R7: =Week9!$B$7 -> CAROLINA () | S7: =Week10!$A$7 -> 0 | T7: =Week10!$B$7 -> ATLANTA () | U7: =Week11!$A$7 -> 0 | V7: =Week11!$B$7 -> Baltimore ()
A8: =Week1!$A$8 -> 20 | B8: =Week1!$B$8 -> PITTSBURGH (0-0) | C8: =Week2!$A$8 -> 3 | D8: =Week2!$B$8 -> CHICAGO (1-0) | E8: =Week3!$A$8 -> 31 | F8: =Week3!$B$8 -> DETROIT (1-1) | G8: =Week4!$A$8 -> 26 | H8: =Week4!$B$8 -> BUFFALO (3-0) | I8: =Week5!$A$8 -> 45 | J8: =Week5!$B$8 -> NEW ENGLAND (2-2) | K8: =Week6!$A$8 -> 10 | L8: =Week6!$B$8 -> Baltimore (4-1) | M8: =Week7!$A$8 -> 13 | N8: =Week7!$B$8 -> BALTIMORE (4-2) | O8: =Week8!$A$8 -> 0 | P8: =Week8!$B$8 -> DALLAS (3-4) | Q8: =Week9!$A$8 -> 0 | R8: =Week9!$B$8 -> Dallas () | S8: =Week10!$A$8 -> 0 | T8: =Week10!$B$8 -> CLEVELAND () | U8: =Week11!$A$8 -> 0 | V8: =Week11!$B$8 -> CHICAGO ()
A9: =Week1!$A$9 -> 13 | B9: =Week1!$B$9 -> Atlanta (0-0) +3.5 | C9: =Week2!$A$9 -> 9 | D9: =Week2!$B$9 -> Minnesota (1-0) +5.5 | E9: =Week3!$A$9 -> 24 | F9: =Week3!$B$9 -> NY Jets (1-1) +6.5 | G9: =Week4!$A$9 -> 29 | H9: =Week4!$B$9 -> New England (1-2) +6.5 | I9: =Week5!$A$9 -> 17 | J9: =Week5!$B$9 -> Las Vegas (3-1) +3.5 | K9: =Week6!$A$9 -> 13 | L9: =Week6!$B$9 -> CLEVELAND (3-2) +4.5 | M9: =Week7!$A$9 -> 35 | N9: =Week7!$B$9 -> Cincinnati (3-2) +2.5 | O9: =Week8!$A$9 -> 0 | P9: =Week8!$B$9 -> Arizona (2-5) +6.5 | Q9: =Week9!$A$9 -> 0 | R9: =Week9!$B$9 -> INDIANAPOLIS () | S9: =Week10!$A$9 -> 0 | T9: =Week10!$B$9 -> Houston () | U9: =Week11!$A$9 -> 0 | V9: =Week11!$B$9 -> New Orleans ()
A10: =Week1!$A$10 -> 36 | B10: =Week1!$B$10 -> Buffalo (0-0) | C10: =Week2!$A$10 -> 6 | D10: =Week2!$B$10 -> HOUSTON (0-1) | E10: =Week3!$A$10 -> 17 | F10: =Week3!$B$10 -> Houston (0-2) | G10: =Week4!$A$10 -> 23 | H10: =Week4!$B$10 -> CHICAGO (2-1) | I10: =Week5!$A$10 -> 23 | J10: =Week5!$B$10 -> Minnesota (4-0) | K10: =Week6!$A$10 -> 20 | L10: =Week6!$B$10 -> INDIANAPOLIS (2-3) | M10: =Week7!$A$10 -> 13 | N10: =Week7!$B$10 -> CAROLINA (3-2) | O10: =Week8!$A$10 -> 0 | P10: =Week8!$B$10 -> DETROIT (4-2) | Q10: =Week9!$A$10 -> 0 | R10: =Week9!$B$10 -> KANSAS CITY () | S10: =Week10!$A$10 -> 0 | T10: =Week10!$B$10 -> Minnesota () | U10: =Week11!$A$10 -> 0 | V10: =Week11!$B$10 -> DALLAS ()
A11: =Week1!$A$11 -> 31 | B11: =Week1!$B$11 -> HOUSTON (0-0) +1.5 | C11: =Week2!$A$11 -> 20 | D11: =Week2!$B$11 -> Cincinnati (1-0) +2.5 | E11: =Week3!$A$11 -> 19 | F11: =Week3!$B$11 -> INDIANAPOLIS (0-2) +2.5 | G11: =Week4!$A$11 -> 12 | H11: =Week4!$B$11 -> NY Jets (1-2) +3.5 | I11: =Week5!$A$11 -> 13 | J11: =Week5!$B$11 -> NEW ORLEANS (1-3) +2.5 | K11: =Week6!$A$11 -> 26 | L11: =Week6!$B$11 -> Tennessee (0-5) +6.5 | M11: =Week7!$A$11 -> 43 | N11: =Week7!$B$11 -> Tampa Bay (1-5) +3.5 | O11: =Week8!$A$11 -> 0 | P11: =Week8!$B$11 -> Minnesota (6-0) +3.5 | Q11: =Week9!$A$11 -> 0 | R11: =Week9!$B$11 -> NY Jets () | S11: =Week10!$A$11 -> 0 | T11: =Week10!$B$11 -> GREEN BAY () | U11: =Week11!$A$11 -> 0 | V11: =Week11!$B$11 -> Tennessee ()
A12: =Week1!$A$12 -> 41 | B12: =Week1!$B$12 -> Baltimore (0-0) | C12: =Week2!$A$12 -> 20 | D12: =Week2!$B$12 -> NEW ENGLAND (0-1) | E12: =Week3!$A$12 -> 35 | F12: =Week3!$B$12 -> JACKSONVILLE (1-1) | G12: =Week4!$A$12 -> 17 | H12: =Week4!$B$12 -> CINCINNATI (2-1) | I12: =Week5!$A$12 -> 17 | J12: =Week5!$B$12 -> NY JETS (1-3) | K12: =Week6!$A$12 -> 26 | L12: =Week6!$B$12 -> NEW ENGLAND (3-2) | M12: =Week7!$A$12 -> 21 | N12: =Week7!$B$12 -> HOUSTON (2-4) | O12: =Week8!$A$12 -> 0 | P12: =Week8!$B$12 -> JACKSONVILLE (4-2) | Q12: =Week9!$A$12 -> 0 | R12: =Week9!$B$12 -> Detroit () | S12: =Week10!$A$12 -> 0 | T12: =Week10!$B$12 -> INDIANAPOLIS () | U12: =Week11!$A$12 -> 0 | V12: =Week11!$B$12 -> DETROIT ()
A13: =Week1!$A$13 -> 23 | B13: =Week1!$B$13 -> INDIANAPOLIS (0-0) +3.5 | C13: =Week2!$A$13 -> 3 | D13: =Week2!$B$13 -> Pittsburgh (1-0) +4.5 | E13: =Week3!$A$13 -> 6 | F13: =Week3!$B$13 -> New England (1-1) +2.5 | G13: =Week4!$A$13 -> 22 | H13: =Week4!$B$13 -> Jacksonville (2-1) +2.5 | I13: =Week5!$A$13 -> 12 | J13: =Week5!$B$13 -> Cleveland (3-1) +2.5 | K13: =Week6!$A$13 -> 19 | L13: =Week6!$B$13 -> NY Jets (2-3) +7.5 | M13: =Week7!$A$13 -> 27 | N13: =Week7!$B$13 -> NY Giants (3-2-1) +9.5 | O13: =Week8!$A$13 -> 0 | P13: =Week8!$B$13 -> Indianapolis (2-5) +7.5 | Q13: =Week9!$A$13 -> 0 | R13: =Week9!$B$13 -> MIAMI () | S13: =Week10!$A$13 -> 0 | T13: =Week10!$B$13 -> Miami () | U13: =Week11!$A$13 -> 0 | V13: =Week11!$B$13 -> Tampa Bay ()
A14: =Week1!$A$14 -> 34 | B14: =Week1!$B$14 -> JACKSONVILLE (0-0) | C14: =Week2!$A$14 -> 20 | D14: =Week2!$B$14 -> Green Bay (0-1) | E14: =Week3!$A$14 -> 24 | F14: =Week3!$B$14 -> Kansas City (2-0) | G14: =Week4!$A$14 -> 30 | H14: =Week4!$B$14 -> HOUSTON (0-3) | I14: =Week5!$A$14 -> 34 | J14: =Week5!$B$14 -> PITTSBURGH (2-2) | K14: =Week6!$A$14 -> 27 | L14: =Week6!$B$14 -> NY GIANTS (3-1-1) | M14: =Week7!$A$14 -> 16 | N14: =Week7!$B$14 -> MINNESOTA (5-0) | O14: =Week8!$A$14 -> 0 | P14: =Week8!$B$14 -> Las Vegas (3-4) | Q14: =Week9!$A$14 -> 0 | R14: =Week9!$B$14 -> Cleveland () | S14: =Week10!$A$14 -> 0 | T14: =Week10!$B$14 -> Carolina () | U14: =Week11!$A$14 -> 0 | V14: =Week11!$B$14 -> KANSAS CITY ()
A15: =Week1!$A$15 -> 10 | B15: =Week1!$B$15 -> Cleveland (0-0) +7.5 | C15: =Week2!$A$15 -> 17 | D15: =Week2!$B$15 -> NY JETS (1-0) +3.5 | E15: =Week3!$A$15 -> 10 | F15: =Week3!$B$15 -> MIAMI (0-2) +11.5 | G15: =Week4!$A$15 -> 34 | H15: =Week4!$B$15 -> Dallas (1-2) +2.5 | I15: =Week5!$A$15 -> 22 | J15: =Week5!$B$15 -> Indianapolis (2-2) +2.5 | K15: =Week6!$A$15 -> 34 | L15: =Week6!$B$15 -> New Orleans (1-4) +1.5 | M15: =Week7!$A$15 -> 10 | N15: =Week7!$B$15 -> Indianapolis (2-4) +6.5 | O15: =Week8!$A$15 -> 0 | P15: =Week8!$B$15 -> NY JETS (2-5) +1.5 | Q15: =Week9!$A$15 -> 0 | R15: =Week9!$B$15 -> NEW ORLEANS () | S15: =Week10!$A$15 -> 0 | T15: =Week10!$B$15 -> NEW ORLEANS () | U15: =Week11!$A$15 -> 0 | V15: =Week11!$B$15 -> Arizona ()
A16: =Week1!$A$16 -> 10 | B16: =Week1!$B$16 -> TENNESSEE (0-0) | C16: =Week2!$A$16 -> 19 | D16: =Week2!$B$16 -> TAMPA BAY (0-1) | E16: =Week3!$A$16 -> 12 | F16: =Week3!$B$16 -> NY GIANTS (1-1) | G16: =Week4!$A$16 -> 24 | H16: =Week4!$B$16 -> Arizona (1-2) | I16: =Week5!$A$16 -> 26 | J16: =Week5!$B$16 -> Houston (0-4) | K16: =Week6!$A$16 -> 14 | L16: =Week6!$B$16 -> PHILADELPHIA (2-3) | M16: =Week7!$A$16 -> 25 | N16: =Week7!$B$16 -> NY JETS (2-4) | O16: =Week8!$A$16 -> 0 | P16: =Week8!$B$16 -> PITTSBURGH (5-2) | Q16: =Week9!$A$16 -> 0 | R16: =Week9!$B$16 -> NY Giants () | S16: =Week10!$A$16 -> 0 | T16: =Week10!$B$16 -> Buffalo () | U16: =Week11!$A$16 -> 0 | V16: =Week11!$B$16 -> NY GIANTS ()
A17: =Week1!$A$17 -> 23 | B17: =Week1!$B$17 -> NY Jets (0-0) +2.5 | C17: =Week2!$A$17 -> 23 | D17: =Week2!$B$17 -> Cleveland (0-1) +8.5 | E17: =Week3!$A$17 -> 7 | F17: =Week3!$B$17 -> Tennessee (0-2) +2.5 | G17: =Week4!$A$17 -> 36 | H17: =Week4!$B$17 -> NY GIANTS (2-1) +1.5 | I17: =Week5!$A$17 -> 3 | J17: =Week5!$B$17 -> TENNESSEE (0-4) +6.5 | K17: =Week6!$A$17 -> 25 | L17: =Week6!$B$17 -> Carolina (2-2) +1.5 | M17: =Week7!$A$17 -> 28 | N17: =Week7!$B$17 -> Miami (0-5) +4.5 | O17: =Week8!$A$17 -> 0 | P17: =Week8!$B$17 -> Cleveland (5-2) +3.5 | Q17: =Week9!$A$17 -> 0 | R17: =Week9!$B$17 -> PHILADELPHIA () | S17: =Week10!$A$17 -> 0 | T17: =Week10!$B$17 -> NY JETS () | U17: =Week11!$A$17 -> 0 | V17: =Week11!$B$17 -> Jacksonville ()
A18: =Week1!$A$18 -> 31 | B18: =Week1!$B$18 -> DETROIT (0-0) | C18: =Week2!$A$18 -> 24 | D18: =Week2!$B$18 -> PHILADELPHIA (1-0) | E18: =Week3!$A$18 -> 27 | F18: =Week3!$B$18 -> Cincinnati (2-0) | G18: =Week4!$A$18 -> 24 | H18: =Week4!$B$18 -> LA Rams (1-2) | I18: =Week5!$A$18 -> 27 | J18: =Week5!$B$18 -> WASHINGTON (1-3) | K18: =Week6!$A$18 -> 26 | L18: =Week6!$B$18 -> Pittsburgh (3-2) | M18: =Week7!$A$18 -> 27 | N18: =Week7!$B$18 -> Cleveland (4-2) | O18: =Week8!$A$18 -> 0 | P18: =Week8!$B$18 -> TAMPA BAY (2-5) | Q18: =Week9!$A$18 -> 0 | R18: =Week9!$B$18 -> WASHINGTON () | S18: =Week10!$A$18 -> 0 | T18: =Week10!$B$18 -> Jacksonville () | U18: =Week11!$A$18 -> 0 | V18: =Week11!$B$18 -> LA CHARGERS ()
A19: =Week1!$A$19 -> 30 | B19: =Week1!$B$19 -> New Orleans (0-0) +6.5 | C19: =Week2!$A$19 -> 20 | D19: =Week2!$B$19 -> Tennessee (0-1) +7.5 | E19: =Week3!$A$19 -> 30 | F19: =Week3!$B$19 -> PITTSBURGH (1-1) +3.5 | G19: =Week4!$A$19 -> 20 | H19: =Week4!$B$19 -> PHILADELPHIA (2-1) +2.5 | I19: =Week5!$A$19 -> 27 | J19: =Week5!$B$19 -> NY Giants (3-1) +3.5 | K19: =Week6!$A$19 -> 19 | L19: =Week6!$B$19 -> TAMPA BAY (1-4) +2.5 | M19: =Week7!$A$19 -> 24 | N19: =Week7!$B$19 -> TENNESSEE (1-5) +2.5 | O19: =Week8!$A$19 -> 0 | P19: =Week8!$B$19 -> Atlanta (3-4) +2.5 | Q19: =Week9!$A$19 -> 0 | R19: =Week9!$B$19 -> LA Rams () | S19: =Week10!$A$19 -> 0 | T19: =Week10!$B$19 -> TENNESSEE () | U19: =Week11!$A$19 -> 0 | V19: =Week11!$B$19 -> NY Jets ()
A20: =Week1!$A$20 -> 59 | B20: =Week1!$B$20 -> Chicago (0-0) | C20: =Week2!$A$20 -> 20 | D20: =Week2!$B$20 -> DENVER (0-1) | E20: =Week3!$A$20 -> 31 | F20: =Week3!$B$20 -> Seattle (2-0) | G20: =Week4!$A$20 -> 17 | H20: =Week4!$B$20 -> Green Bay (1-2) | I20: =Week5!$A$20 -> 23 | J20: =Week5!$B$20 -> Denver (2-2) | K20: =Week6!$A$20 -> 16 | L20: =Week6!$B$20 -> LA RAMS (2-3) | M20: =Week7!$A$20 -> 30 | N20: =Week7!$B$20 -> Denver (4-2) | O20: =Week8!$A$20 -> 0 | P20: =Week8!$B$20 -> LA RAMS (3-4) | Q20: =Week9!$A$20 -> 0 | R20: =Week9!$B$20 -> Houston () | S20: =Week10!$A$20 -> 0 | T20: =Week10!$B$20 -> LA Rams () | U20: =Week11!$A$20 -> 0 | V20: =Week11!$B$20 -> DENVER ()
A21: =Week1!$A$21 -> 37 | B21: =Week1!$B$21 -> CAROLINA (0-0) +2.5 | C21: =Week2!$A$21 -> 13 | D21: =Week2!$B$21 -> Jacksonville (1-0) +2.5 | E21: =Week3!$A$21 -> 33 | F21: =Week3!$B$21 -> WASHINGTON (0-2) +6.5 | G21: =Week4!$A$21 -> 14 | H21: =Week4!$B$21 -> TAMPA BAY (0-3) +3.5 | I21: =Week5!$A$21 -> 17 | J21: =Week5!$B$21 -> LA CHARGERS (0-4) +3.5 | K21: =Week6!$A$21 -> 18 | L21: =Week6!$B$21 -> Arizona (1-4) +13.5 | M21: =Week7!$A$21 -> 16 | N21: =Week7!$B$21 -> ARIZONA (2-4) +4.5 | O21: =Week8!$A$21 -> 0 | P21: =Week8!$B$21 -> LA Chargers (0-6) +7.5 | Q21: =Week9!$A$21 -> 0 | R21: =Week9!$B$21 -> LA CHARGERS () | S21: =Week10!$A$21 -> 0 | T21: =Week10!$B$21 -> ARIZONA () | U21: =Week11!$A$21 -> 0 | V21: =Week11!$B$21 -> Las Vegas ()
A22: =Week1!$A$22 -> 27 | B22: =Week1!$B$22 -> LAS VEGAS (0-0) | C22: =Week2!$A$22 -> 14 | D22: =Week2!$B$22 -> LA CHARGERS (0-1) | E22: =Week3!$A$22 -> 36 | F22: =Week3!$B$22 -> SAN FRANCISCO (2-0) | G22: =Week4!$A$22 -> 15 | H22: =Week4!$B$22 -> MINNESOTA (3-0) | I22: =Week5!$A$22 -> 45 | J22: =Week5!$B$22 -> Detroit (2-2) | K22: =Week6!$A$22 -> 22 | L22: =Week6!$B$22 -> KANSAS CITY (4-0) | M22: =Week7!$A$22 -> 20 | N22: =Week7!$B$22 -> DETROIT (3-2) | O22: =Week8!$A$22 -> 0 | P22: =Week8!$B$22 -> Kansas City (5-1) | Q22: =Week9!$A$22 -> 0 | R22: =Week9!$B$22 -> SAN FRANCISCO () | S22: =Week10!$A$22 -> 0 | T22: =Week10!$B$22 -> Seattle () | U22: =Week11!$A$22 -> 0 | V22: =Week11!$B$22 -> Pittsburgh ()
A23: =Week1!$A$23 -> 13 | B23: =Week1!$B$23 -> Miami (0-0) +3.5 | C23: =Week2!$A$23 -> 26 | D23: =Week2!$B$23 -> Las Vegas (1-0) +7.5 | E23: =Week3!$A$23 -> 30 | F23: =Week3!$B$23 -> Arizona (1-1) +8.5 | G23: =Week4!$A$23 -> 10 | H23: =Week4!$B$23 -> Miami (0-3) +9.5 | I23: =Week5!$A$23 -> 21 | J23: =Week5!$B$23 -> ARIZONA (1-3) +4.5 | K23: =Week6!$A$23 -> 6 | L23: =Week6!$B$23 -> LA Chargers (0-5) +8.5 | M23: =Week7!$A$23 -> 17 | N23: =Week7!$B$23 -> Green Bay (4-2) +3.5 | O23: =Week8!$A$23 -> 0 | P23: =Week8!$B$23 -> DENVER (5-2) +1.5 | Q23: =Week9!$A$23 -> 0 | R23: =Week9!$B$23 -> Las Vegas () | S23: =Week10!$A$23 -> 0 | T23: =Week10!$B$23 -> LAS VEGAS () | U23: =Week11!$A$23 -> 0 | V23: =Week11!$B$23 -> PHILADELPHIA ()
A24: =Week1!$A$24 -> 14 | B24: =Week1!$B$24 -> LA CHARGERS (0-0) | C24: =Week2!$A$24 -> 31 | D24: =Week2!$B$24 -> Seattle (1-0) | E24: =Week3!$A$24 -> 23 | F24: =Week3!$B$24 -> Minnesota (2-0) | G24: =Week4!$A$24 -> 30 | H24: =Week4!$B$24 -> Kansas City (3-0) | I24: =Week5!$A$24 -> 17 | J24: =Week5!$B$24 -> Chicago (3-1) | K24: =Week6!$A$24 -> 33 | L24: =Week6!$B$24 -> Buffalo (4-1) | M24: =Week7!$A$24 -> 35 | N24: =Week7!$B$24 -> LA Rams (2-4) | O24: =Week8!$A$24 -> 0 | P24: =Week8!$B$24 -> New England (4-3) | Q24: =Week9!$A$24 -> 0 | R24: =Week9!$B$24 -> NEW ENGLAND () | S24: =Week10!$A$24 -> 0 | T24: =Week10!$B$24 -> San Francisco () | U24: =Week11!$A$24 -> 0 | V24: =Week11!$B$24 -> SAN FRANCISCO ()
A25: =Week1!$A$25 -> 26 | B25: =Week1!$B$25 -> Arizona (0-0) +10.5 | C25: =Week2!$A$25 -> 7 | D25: =Week2!$B$25 -> ARIZONA (1-0) +4.5 | E25: =Week3!$A$25 -> 16 | F25: =Week3!$B$25 -> TAMPA BAY (0-2) +1.5 | G25: =Week4!$A$25 -> 27 | H25: =Week4!$B$25 -> LAS VEGAS (3-0) +4.5 | I25: =Week5!$A$25 -> 31 | J25: =Week5!$B$25 -> GREEN BAY (2-2) +2.5 | K25: =Week6!$A$25 -> 30 | L25: =Week6!$B$25 -> LAS VEGAS (3-2) +5.5 | M25: =Week7!$A$25 -> 21 | N25: =Week7!$B$25 -> LAS VEGAS (3-3) +4.5 | O25: =Week8!$A$25 -> 0 | P25: =Week8!$B$25 -> MIAMI (1-5) +7.5 | Q25: =Week9!$A$25 -> 0 | R25: =Week9!$B$25 -> Green Bay () | S25: =Week10!$A$25 -> 0 | T25: =Week10!$B$25 -> DALLAS () | U25: =Week11!$A$25 -> 0 | V25: =Week11!$B$25 -> Minnesota ()
A26: =Week1!$A$26 -> 24 | B26: =Week1!$B$26 -> PHILADELPHIA (0-0) | C26: =Week2!$A$26 -> 37 | D26: =Week2!$B$26 -> DALLAS (0-1) | E26: =Week3!$A$26 -> 27 | F26: =Week3!$B$26 -> NEW ORLEANS (1-1) | G26: =Week4!$A$26 -> 30 | H26: =Week4!$B$26 -> SEATTLE (2-1) | I26: =Week5!$A$26 -> 29 | J26: =Week5!$B$26 -> SEATTLE (3-1) | K26: =Week6!$A$26 -> 23 | L26: =Week6!$B$26 -> GREEN BAY (3-2) | M26: =Week7!$A$26 -> 20 | N26: =Week7!$B$26 -> SEATTLE (3-3) | O26: =Week8!$A$26 -> 0 | P26: =Week8!$B$26 -> WASHINGTON (1-4-1) | Q26: =Week9!$A$26 -> 0 | R26: =Week9!$B$26 -> SEATTLE () | S26: =Week10!$A$26 -> 0 | T26: =Week10!$B$26 -> CINCINNATI () | U26: =Week11!$A$26 -> 0 | V26: =Week11!$B$26 -> WASHINGTON ()
A27: =Week1!$A$27 -> 22 | B27: =Week1!$B$27 -> Washington (0-0) +4.5 | C27: =Week2!$A$27 -> 20 | D27: =Week2!$B$27 -> Washington (0-1) +4.5 | E27: =Week3!$A$27 -> 35 | F27: =Week3!$B$27 -> Las Vegas (2-0) +3.5 | G27: =Week4!$A$27 -> 23 | H27: =Week4!$B$27 -> LA Chargers (0-3) +6.5 | I27: =Week5!$A$27 -> 32 | J27: =Week5!$B$27 -> San Francisco (4-0) +2.5 | K27: =Week6!$A$27 -> 13 | L27: =Week6!$B$27 -> Dallas (2-3) +1.5 | M27: =Week7!$A$27 -> 3 | N27: =Week7!$B$27 -> Kansas City (5-0) +2.5 | O27: =Week8!$A$27 -> 0 | P27: =Week8!$B$27 -> Philadelphia (2-5) +3.5 | Q27: =Week9!$A$27 -> 0 | R27: =Week9!$B$27 -> Arizona () | S27: =Week10!$A$27 -> 0 | T27: =Week10!$B$27 -> Pittsburgh () | U27: =Week11!$A$27 -> 0 | V27: =Week11!$B$27 -> Cincinnati ()
A28: =Week1!$A$28 -> 22 | B28: =Week1!$B$28 -> Green Bay (0-0) | C28: =Week2!$A$28 -> 35 | D28: =Week2!$B$28 -> SAN FRANCISCO (1-0) | E28: =Week3!$A$28 -> 34 | F28: =Week3!$B$28 -> Baltimore (1-1) | G28: =Week4!$A$28 -> 24 | H28: =Week4!$B$28 -> SAN FRANCISCO (3-0) | I28: =Week5!$A$28 -> 23 | J28: =Week5!$B$28 -> ATLANTA (2-2) | K28: =Week6!$A$28 -> 23 | L28: =Week6!$B$28 -> SAN FRANCISCO (5-0) | M28: =Week7!$A$28 -> 38 | N28: =Week7!$B$28 -> Dallas (2-4) | O28: =Week8!$A$28 -> 0 | P28: =Week8!$B$28 -> SEATTLE (4-3) | Q28: =Week9!$A$28 -> 0 | R28: =Week9!$B$28 -> CHICAGO () | S28: =Week10!$A$28 -> 0 | T28: =Week10!$B$28 -> BALTIMORE () | U28: =Week11!$A$28 -> Bye | V28: =Week11!$B$28 -> Atlanta ()
A29: =Week1!$A$29 -> 39 | B29: =Week1!$B$29 -> MINNESOTA (0-0) +1.5 | C29: =Week2!$A$29 -> 13 | D29: =Week2!$B$29 -> Miami (0-1) +13.5 | E29: =Week3!$A$29 -> 31 | F29: =Week3!$B$29 -> DALLAS (1-1) +2.5 | G29: =Week4!$A$29 -> 14 | H29: =Week4!$B$29 -> Denver (2-1) +2.5 | I29: =Week5!$A$29 -> 30 | J29: =Week5!$B$29 -> Baltimore (3-1) +2.5 | K29: =Week6!$A$29 -> 17 | L29: =Week6!$B$29 -> Washington (1-3-1) +7.5 o/u 50.5 | M29: =Week7!$A$29 -> 21 | N29: =Week7!$B$29 -> PHILADELPHIA (2-4) +4.5 o/u 44.5 | O29: =Week8!$A$29 -> 0 | P29: =Week8!$B$29 -> Chicago (5-2) +3.5 o/u 46.5 | Q29: =Week9!$A$29 -> 0 | R29: =Week9!$B$29 -> Tampa Bay () | S29: =Week10!$A$29 -> 0 | T29: =Week10!$B$29 -> LA Chargers () | U29: =Week11!$A$29 -> Bye | V29: =Week11!$B$29 -> Cleveland ()
A30: =Week1!$A$30 -> 20 | B30: =Week1!$B$30 -> Dallas (0-0) | C30: =Week2!$A$30 -> 33 | D30: =Week2!$B$30 -> KANSAS CITY (1-0) | E30: =Week3!$A$30 -> 26 | F30: =Week3!$B$30 -> LA Rams (1-1) | G30: =Week4!$A$30 -> 26 | H30: =Week4!$B$30 -> Detroit (2-1) | I30: =Week5!$A$30 -> 34 | J30: =Week5!$B$30 -> LA RAMS (2-2) | K30: =Week6!$A$30 -> Bye | L30: =Week6!$B$30 -> Cincinnati (3-2) | M30: =Week7!$A$30 -> Bye | N30: =Week7!$B$30 -> Buffalo (5-1) | O30: =Week8!$A$30 -> Bye | P30: =Week8!$B$30 -> Houston (2-5) | Q30: =Week9!$A$30 -> 0 | R30: =Week9!$B$30 -> MINNESOTA () | S30: =Week10!$A$30 -> Bye | T30: =Week10!$B$30 -> Chicago () | U30: =Week11!$A$30 -> Bye | V30: =Week11!$B$30 -> Green Bay ()
A31: =Week1!$A$31 -> 28 | B31: =Week1!$B$31 -> NY GIANTS (0-0) +2.5 | C31: =Week2!$A$31 -> 30 | D31: =Week2!$B$31 -> Indianapolis (0-1) +6.5 | E31: =Week3!$A$31 -> 30 | F31: =Week3!$B$31 -> DENVER (1-1) +2.5 | G31: =Week4!$A$31 -> 32 | H31: =Week4!$B$31 -> CAROLINA (1-2) +3.5 | I31: =Week5!$A$31 -> 37 | J31: =Week5!$B$31 -> Buffalo (3-1) +2.5 o/u 54.5 | K31: =Week6!$A$31 -> Bye | L31: =Week6!$B$31 -> Detroit (3-2) | M31: =Week7!$A$31 -> Bye | N31: =Week7!$B$31 -> Jacksonville (4-2) | O31: =Week8!$A$31 -> Bye | P31: =Week8!$B$31 -> New Orleans (2-5) | Q31: =Week9!$A$31 -> 0 | R31: =Week9!$B$31 -> Buffalo () | S31: =Week10!$A$31 -> Bye | T31: =Week10!$B$31 -> Denver () | U31: =Week11!$A$31 -> Bye | V31: =Week11!$B$31 -> LA Rams ()
A32: =Week1!$A$32 -> 31 | B32: =Week1!$B$32 -> KANSAS CITY (0-0) | C32: =Week2!$A$32 -> 28 | D32: =Week2!$B$32 -> LA RAMS (0-1) | E32: =Week3!$A$32 -> 7 | F32: =Week3!$B$32 -> Philadelphia (2-0) | G32: =Week4!$A$32 -> 17 | H32: =Week4!$B$32 -> NEW ORLEANS (1-2) | I32: =Week5!$A$32 -> Bye | J32: =Week5!$B$32 -> Carolina (2-2) | K32: =Week6!$A$32 -> Bye | L32: =Week6!$B$32 -> Miami (0-5) | M32: =Week7!$A$32 -> Bye | N32: =Week7!$B$32 -> LA Chargers (0-6) | O32: =Week8!$A$32 -> Bye | P32: =Week8!$B$32 -> NY Giants (4-2-1) | Q32: =Week9!$A$32 -> Bye | R32: =Week9!$B$32 -> Pittsburgh () | S32: =Week10!$A$32 -> Bye | T32: =Week10!$B$32 -> Philadelphia () | U32: =Week11!$A$32 -> Bye | V32: =Week11!$B$32 -> New England ()
A33: =Week1!$A$33 -> 10 | B33: =Week1!$B$33 -> Denver (0-0) +2.5 o/u 42.5 | C33: =Week2!$A$33 -> 6 | D33: =Week2!$B$33 -> NY Giants (1-0) +7.5 o/u 48.5 | E33: =Week3!$A$33 -> 0 | F33: =Week3!$B$33 -> CHICAGO (1-1) +4.5 o/u 41.5 | G33: =Week4!$A$33 -> 45 | H33: =Week4!$B$33 -> Atlanta (1-2) +2.5 o/u 48.5 | I33: =Week5!$A$33 -> Bye | J33: =Week5!$B$33 -> Kansas City (4-0) | K33: =Week6!$A$33 -> Bye | L33: =Week6!$B$33 -> Minnesota (5-0) | M33: =Week7!$A$33 -> Bye | N33: =Week7!$B$33 -> Washington (1-4-1) | O33: =Week8!$A$33 -> Bye | P33: =Week8!$B$33 -> San Francisco (6-1) | Q33: =Week9!$A$33 -> Bye | R33: =Week9!$B$33 -> Tennessee () | S33: =Week10!$A$33 -> Bye | T33: =Week10!$B$33 -> Tampa Bay () | U33: =Week11!$A$33 -> Bye | V33: =Week11!$B$33 -> Seattle ()
B35: =Week12!$B$1 -> Week 12 | D35: =Week13!$B$1 -> Week 13 | F35: =Week14!$B$1 -> Week 14 | H35: =Week15!$B$1 -> Week 15 | J35: =Week16!$B$1 -> Week 16 | L35: =Week17!$B$1 -> Week 17 | N35: =Week18!$B$1 -> Week 18 | P35: =Week19!$B$1 -> Week 19 | R35: =Week20!$B$1 -> Week 20 | T35: =Week21!$B$1 -> Week 21 | V35: =Week22!B1 -> Week 22
A36: =Week12!$A$2 -> 0 | B36: =Week12!$B$2 -> LA RAMS () | C36: =Week13!$A$2 -> n/a | D36: =Week13!$B$2 -> Kansas City () Does Not | E36: =Week14!$A$2 -> n/a | F36: =Week14!$B$2 -> NEW ENGLAND () Does Not | G36: =Week15!$A$2 -> n/a | H36: =Week15!$B$2 -> San Francisco () Does Not | I36: =Week16!$A$2 -> 0 | J36: =Week16!$B$2 -> PHILADELPHIA () | K36: =Week17!$A$2 -> n/a | L36: =Week17!$B$2 -> CINCINNATI () | M36: =Week18!$A$2 -> 0 | N36: =Week18!$B$2 -> 0 | O36: =Week19!$A$2 -> 0 | P36: =Week19!$B$2 -> 0 | Q36: =Week20!$A$2 -> 0 | R36: =Week20!$B$2 -> 0 | S36: =Week21!$A$2 -> 0 | T36: =Week21!$B$2 -> 0 | U36: =Week22!$A$2 -> 0 | V36: =Week22!$B$2 -> 0
A37: =Week12!$A$3 -> 0 | B37: =Week12!$B$3 -> Green Bay () | C37: =Week13!$A$3 -> n/a | D37: =Week13!$B$3 -> LA RAMS () +xx Count | E37: =Week14!$A$3 -> n/a | F37: =Week14!$B$3 -> Minnesota () +xx Count | G37: =Week15!$A$3 -> n/a | H37: =Week15!$B$3 -> LA CHARGERS () +xx Count | I37: =Week16!$A$3 -> 0 | J37: =Week16!$B$3 -> Houston | K37: =Week17!$A$3 -> n/a | L37: =Week17!$B$3 -> Baltimore () | M37: =Week18!$A$3 -> 0 | N37: =Week18!$B$3 -> 0 | O37: =Week19!$A$3 -> 0 | P37: =Week19!$B$3 -> 0 | Q37: =Week20!$A$3 -> 0 | R37: =Week20!$B$3 -> 0 | S37: =Week21!$A$3 -> 0 | T37: =Week21!$B$3 -> 0 | U37: =Week22!$A$3 -> 0 | V37: =Week22!$B$3 -> 0
A38: =Week12!$A$4 -> 0 | B38: =Week12!$B$4 -> DETROIT () | C38: =Week13!$A$4 -> 0 | D38: =Week13!$B$4 -> ATLANTA () | E38: =Week14!$A$4 -> 0 | F38: =Week14!$B$4 -> BALTIMORE () | G38: =Week15!$A$4 -> 0 | H38: =Week15!$B$4 -> Seattle () | I38: =Week16!$A$4 -> 0 | J38: =Week16!$B$4 -> CHICAGO () | K38: =Week17!$A$4 -> 0 | L38: =Week17!$B$4 -> ATLANTA () | M38: =Week18!$A$4 -> 0 | N38: =Week18!$B$4 -> 0 | O38: =Week19!$A$4 -> 0 | P38: =Week19!$B$4 -> 0 | Q38: =Week20!$A$4 -> 0 | R38: =Week20!$B$4 -> 0 | S38: =Week21!A4 -> 0 | T38: =Week21!B4 -> 0 | U38: =Week22!A4 -> 0 | V38: =Week22!$B$4 -> Total Points: (NFC xx + AFC xx) Tie Breaker 1
A39: =Week12!$A$5 -> 0 | B39: =Week12!$B$5 -> Chicago () | C39: =Week13!$A$5 -> 0 | D39: =Week13!$B$5 -> Detroit () | E39: =Week14!$A$5 -> 0 | F39: =Week14!$B$5 -> Tampa Bay () | G39: =Week15!$A$5 -> 0 | H39: =Week15!$B$5 -> PHILADELPHIA () | I39: =Week16!$A$5 -> 0 | J39: =Week16!$B$5 -> Green Bay () | K39: =Week17!$A$5 -> 0 | L39: =Week17!$B$5 -> New Orleans () | M39: =Week18!$A$5 -> 0 | N39: =Week18!$B$5 -> 0 | O39: =Week19!$A$5 -> 0 | P39: =Week19!$B$5 -> 0 | Q39: =Week20!$A$5 -> 0 | R39: =Week20!$B$5 -> 0 | S39: =Week21!A5 -> 0 | T39: =Week21!B5 -> 0 | U39: =Week22!C5 -> 0 | V39: =Week22!$B$5 -> Total Rushing Yards: (NFC xxx + AFC xxx) Tie Breaker 2
A40: =Week12!$A$6 -> 0 | B40: =Week12!$B$6 -> DALLAS () | C40: =Week13!$A$6 -> 0 | D40: =Week13!$B$6 -> CHICAGO () | E40: =Week14!$A$6 -> 0 | F40: =Week14!$B$6 -> CAOLINA () | G40: =Week15!$A$6 -> 0 | H40: =Week15!$B$6 -> BUFFALO () | I40: =Week16!$A$6 -> 0 | J40: =Week16!$B$6 -> Buffalo () | K40: =Week17!$A$6 -> 0 | L40: =Week17!$B$6 -> CAROLINA () | M40: =Week18!$A$6 -> 0 | N40: =Week18!$B$6 -> 0 | O40: =Week19!$A$6 -> 0 | P40: =Week19!$B$6 -> 0 | Q40: =Week20!A6 -> 0 | R40: =Week20!B6 -> 0 | U40: =Week22!A6 -> ABC | V40: =Week22!B6 -> 2/X/27 6:30 XXXXX Stadium
A41: =Week12!$A$7 -> 0 | B41: =Week12!$B$7 -> Philadelphia () | C41: =Week13!$A$7 -> 0 | D41: =Week13!$B$7 -> Jacksonville () | E41: =Week14!$A$7 -> 0 | F41: =Week14!$B$7 -> New Orleans () | G41: =Week15!$A$7 -> 0 | H41: =Week15!$B$7 -> Chicago () | I41: =Week16!$A$7 -> 0 | J41: =Week16!$B$7 -> DENVER () | K41: =Week17!$A$7 -> 0 | L41: =Week17!$B$7 -> Seattle () | M41: =Week18!$A$7 -> 0 | N41: =Week18!$B$7 -> 0 | O41: =Week19!$A$7 -> 0 | P41: =Week19!$B$7 -> 0 | Q41: =Week20!A7 -> 0 | R41: =Week20!B7 -> 0 | V41: =Week22!B7 -> Address
...

Sheet Overall
D1: 1 | E1: 2 | F1: 3 | G1: 4 | H1: 5 | I1: 6 | J1: 7 | K1: 8 | L1: 9 | M1: 10 | N1: 11 | O1: 12 | P1: 13 | Q1: 14 | R1: 15 | S1: 16 | T1: 17 | U1: 18 | V1: 19 | W1: 20 | X1: 21 | Y1: Total | Z1: %
A2: 1 | B2: =Week1!C$1 -> Jun | C2: W | D2: =Week1!$C$34 -> 8 | E2: =Week2!$C$34 -> 4 | F2: =Week3!$C$34 -> 5 | G2: =Week4!$C$34 -> 8 | H2: =Week5!$C$34 -> 6 | I2: =Week6!$C$34 -> 7 | J2: =Week7!$C$34 -> 4 | K2: =Week8!$C$34 -> 0 | L2: =Week9!$C$34 -> 0 | M2: =Week10!$C$34 -> 0 | N2: =Week11!$C$34 -> 0 | O2: =Week12!$C$34 -> 0 | P2: =Week13!$C$34 -> 0 | Q2: =Week14!$C$34 -> 0 | R2: =Week15!$C$34 -> 0 | S2: =Week16!$C$34 -> 0 | T2: =Week17!$C$34 -> 0 | U2: =Week18!$C$34 -> 0 | V2: =Week19!$C$34 -> 0 | W2: =Week20!$C$34 -> 0 | X2: =Week21!$C$34 -> 0 | Y2: =SUM(D2:X2) -> 42 | Z2: =Y2/(Y2+Y3) -> 0.41584158
C3: L | D3: =Week1!$C$35 -> 8 | E3: =Week2!$C$35 -> 11 | F3: =Week3!$C$35 -> 10 | G3: =Week4!$C$35 -> 7 | H3: =Week5!$C$35 -> 8 | I3: =Week6!$C$35 -> 6 | J3: =Week7!$C$35 -> 9 | K3: =Week8!$C$35 -> 0 | L3: =Week9!$C$35 -> 0 | M3: =Week10!$C$35 -> 0 | N3: =Week11!$C$35 -> 0 | O3: =Week12!$C$35 -> 0 | P3: =Week13!$C$35 -> 0 | Q3: =Week14!$C$35 -> 0 | R3: =Week15!$C$35 -> 0 | S3: =Week16!$C$35 -> 0 | T3: =Week17!$C$35 -> 0 | U3: =Week18!$C$35 -> 0 | V3: =Week19!$C$35 -> 0 | W3: =Week20!$C$35 -> 0 | X3: =Week21!$C$35 -> 0 | Y3: =SUM(D3:X3) -> 59
A4: 2 | B4: =Week1!D$1 -> Diana C | C4: W | D4: =Week1!$D$34 -> 10 | E4: =Week2!$D$34 -> 6 | F4: =Week3!$D$34 -> 6 | G4: =Week4!$D$34 -> 6 | H4: =Week5!$D$34 -> 8 | I4: =Week6!$D$34 -> 6 | J4: =Week7!$D$34 -> 6 | K4: =Week8!$D$34 -> 0 | L4: =Week9!$D$34 -> 0 | M4: =Week10!$D$34 -> 0 | N4: =Week11!$D$34 -> 0 | O4: =Week12!$D$34 -> 0 | P4: =Week13!$D$34 -> 0 | Q4: =Week14!$D$34 -> 0 | R4: =Week15!$D$34 -> 0 | S4: =Week16!$D$34 -> 0 | T4: =Week17!$D$34 -> 0 | U4: =Week18!$D$34 -> 0 | V4: =Week19!$D$34 -> 0 | W4: =Week20!$D$34 -> 0 | X4: =Week21!$D$34 -> 0 | Y4: =SUM(D4:X4) -> 48 | Z4: =Y4/(Y4+Y5) -> 0.47524752
C5: L | D5: =Week1!$D$35 -> 6 | E5: =Week2!$D$35 -> 9 | F5: =Week3!$D$35 -> 9 | G5: =Week4!$D$35 -> 9 | H5: =Week5!$D$35 -> 6 | I5: =Week6!$D$35 -> 7 | J5: =Week7!$D$35 -> 7 | K5: =Week8!$D$35 -> 0 | L5: =Week9!$D$35 -> 0 | M5: =Week10!$D$35 -> 0 | N5: =Week11!$D$35 -> 0 | O5: =Week12!$D$35 -> 0 | P5: =Week13!$D$35 -> 0 | Q5: =Week14!$D$35 -> 0 | R5: =Week15!$D$35 -> 0 | S5: =Week16!$D$35 -> 0 | T5: =Week17!$D$35 -> 0 | U5: =Week18!$D$35 -> 0 | V5: =Week19!$D$35 -> 0 | W5: =Week20!$D$35 -> 0 | X5: =Week21!$D$35 -> 0 | Y5: =SUM(D5:X5) -> 53
A6: 3 | B6: =Week1!E$1 -> Tinny | C6: W | D6: =Week1!$E$34 -> 9 | E6: =Week2!$E$34 -> 4 | F6: =Week3!$E$34 -> 10 | G6: =Week4!$E$34 -> 6 | H6: =Week5!$E$34 -> 6 | I6: =Week6!$E$34 -> 8 | J6: =Week7!$E$34 -> 5 | K6: =Week8!$E$34 -> 0 | L6: =Week9!$E$34 -> 0 | M6: =Week10!$E$34 -> 0 | N6: =Week11!$E$34 -> 0 | O6: =Week12!$E$34 -> 0 | P6: =Week13!$E$34 -> 0 | Q6: =Week14!$E$34 -> 0 | R6: =Week15!$E$34 -> 0 | S6: =Week16!$E$34 -> 0 | T6: =Week17!$E$34 -> 0 | U6: =Week18!$E$34 -> 0 | V6: =Week19!$E$34 -> 0 | W6: =Week20!$E$34 -> 0 | X6: =Week21!$E$34 -> 0 | Y6: =SUM(D6:X6) -> 48 | Z6: =Y6/(Y6+Y7) -> 0.47524752
C7: L | D7: =Week1!$E$35 -> 7 | E7: =Week2!$E$35 -> 11 | F7: =Week3!$E$35 -> 5 | G7: =Week4!$E$35 -> 9 | H7: =Week5!$E$35 -> 8 | I7: =Week6!$E$35 -> 5 | J7: =Week7!$E$35 -> 8 | K7: =Week8!$E$35 -> 0 | L7: =Week9!$E$35 -> 0 | M7: =Week10!$E$35 -> 0 | N7: =Week11!$E$35 -> 0 | O7: =Week12!$E$35 -> 0 | P7: =Week13!$E$35 -> 0 | Q7: =Week14!$E$35 -> 0 | R7: =Week15!$E$35 -> 0 | S7: =Week16!$E$35 -> 0 | T7: =Week17!$E$35 -> 0 | U7: =Week18!$E$35 -> 0 | V7: =Week19!$E$35 -> 0 | W7: =Week20!$E$35 -> 0 | X7: =Week21!$E$35 -> 0 | Y7: =SUM(D7:X7) -> 53
A8: 4 | B8: =Week1!F$1 -> Smith, M | C8: W | D8: =Week1!$F$34 -> 8 | E8: =Week2!$F$34 -> 8 | F8: =Week3!$F$34 -> 5 | G8: =Week4!$F$34 -> 8 | H8: =Week5!$F$34 -> 9 | I8: =Week6!$F$34 -> 6 | J8: =Week7!$F$34 -> 7 | K8: =Week8!$F$34 -> 0 | L8: =Week9!$F$34 -> 0 | M8: =Week10!$F$34 -> 0 | N8: =Week11!$F$34 -> 0 | O8: =Week12!$F$34 -> 0 | P8: =Week13!$F$34 -> 0 | Q8: =Week14!$F$34 -> 0 | R8: =Week15!$F$34 -> 0 | S8: =Week16!$F$34 -> 0 | T8: =Week17!$F$34 -> 0 | U8: =Week18!$F$34 -> 0 | V8: =Week19!$F$34 -> 0 | W8: =Week20!$F$34 -> 0 | X8: =Week21!$F$34 -> 0 | Y8: =SUM(D8:X8) -> 51 | Z8: =Y8/(Y8+Y9) -> 0.5049505
C9: L | D9: =Week1!$F$35 -> 8 | E9: =Week2!$F$35 -> 7 | F9: =Week3!$F$35 -> 10 | G9: =Week4!$F$35 -> 7 | H9: =Week5!$F$35 -> 5 | I9: =Week6!$F$35 -> 7 | J9: =Week7!$F$35 -> 6 | K9: =Week8!$F$35 -> 0 | L9: =Week9!$F$35 -> 0 | M9: =Week10!$F$35 -> 0 | N9: =Week11!$F$35 -> 0 | O9: =Week12!$F$35 -> 0 | P9: =Week13!$F$35 -> 0 | Q9: =Week14!$F$35 -> 0 | R9: =Week15!$F$35 -> 0 | S9: =Week16!$F$35 -> 0 | T9: =Week17!$F$35 -> 0 | U9: =Week18!$F$35 -> 0 | V9: =Week19!$F$35 -> 0 | W9: =Week20!$F$35 -> 0 | X9: =Week21!$F$35 -> 0 | Y9: =SUM(D9:X9) -> 50
A10: 5 | B10: =Week1!G$1 -> John McG | C10: W | D10: =Week1!$G$34 -> 5 | E10: =Week2!$G$34 -> 9 | F10: =Week3!$G$34 -> 6 | G10: =Week4!$G$34 -> 7 | H10: =Week5!$G$34 -> 9 | I10: =Week6!$G$34 -> 5 | J10: =Week7!$G$34 -> 5 | K10: =Week8!$G$34 -> 0 | L10: =Week9!$G$34 -> 0 | M10: =Week10!$G$34 -> 0 | N10: =Week11!$G$34 -> 0 | O10: =Week12!$G$34 -> 0 | P10: =Week13!$G$34 -> 0 | Q10: =Week14!$G$34 -> 0 | R10: =Week15!$G$34 -> 0 | S10: =Week16!$G$34 -> 0 | T10: =Week17!$G$34 -> 0 | U10: =Week18!$G$34 -> 0 | V10: =Week19!$G$34 -> 0 | W10: =Week20!$G$34 -> 0 | X10: =Week21!$G$34 -> 0 | Y10: =SUM(D10:X10) -> 46 | Z10: =Y10/(Y10+Y11) -> 0.45544554
C11: L | D11: =Week1!$G$35 -> 11 | E11: =Week2!$G$35 -> 6 | F11: =Week3!$G$35 -> 9 | G11: =Week4!$G$35 -> 8 | H11: =Week5!$G$35 -> 5 | I11: =Week6!$G$35 -> 8 | J11: =Week7!$G$35 -> 8 | K11: =Week8!$G$35 -> 0 | L11: =Week9!$G$35 -> 0 | M11: =Week10!$G$35 -> 0 | N11: =Week11!$G$35 -> 0 | O11: =Week12!$G$35 -> 0 | P11: =Week13!$G$35 -> 0 | Q11: =Week14!$G$35 -> 0 | R11: =Week15!$G$35 -> 0 | S11: =Week16!$G$35 -> 0 | T11: =Week17!$G$35 -> 0 | U11: =Week18!$G$35 -> 0 | V11: =Week19!$G$35 -> 0 | W11: =Week20!$G$35 -> 0 | X11: =Week21!$G$35 -> 0 | Y11: =SUM(D11:X11) -> 55
A12: 6 | B12: =Week1!H$1 -> Hamilton, J | C12: W | D12: =Week1!$H$34 -> 7 | E12: =Week2!$H$34 -> 6 | F12: =Week3!$H$34 -> 7 | G12: =Week4!$H$34 -> 8 | H12: =Week5!$H$34 -> 10 | I12: =Week6!$H$34 -> 8 | J12: =Week7!$H$34 -> 9 | K12: =Week8!$H$34 -> 0 | L12: =Week9!$H$34 -> 0 | M12: =Week10!$H$34 -> 0 | N12: =Week11!$H$34 -> 0 | O12: =Week12!$H$34 -> 0 | P12: =Week13!$H$34 -> 0 | Q12: =Week14!$H$34 -> 0 | R12: =Week15!$H$34 -> 0 | S12: =Week16!$H$34 -> 0 | T12: =Week17!$H$34 -> 0 | U12: =Week18!$H$34 -> 0 | V12: =Week19!$H$34 -> 0 | W12: =Week20!$H$34 -> 0 | X12: =Week21!$H$34 -> 0 | Y12: =SUM(D12:X12) -> 55 | Z12: =Y12/(Y12+Y13) -> 0.54455446
C13: L | D13: =Week1!$H$35 -> 9 | E13: =Week2!$H$35 -> 9 | F13: =Week3!$H$35 -> 8 | G13: =Week4!$H$35 -> 7 | H13: =Week5!$H$35 -> 4 | I13: =Week6!$H$35 -> 5 | J13: =Week7!$H$35 -> 4 | K13: =Week8!$H$35 -> 0 | L13: =Week9!$H$35 -> 0 | M13: =Week10!$H$35 -> 0 | N13: =Week11!$H$35 -> 0 | O13: =Week12!$H$35 -> 0 | P13: =Week13!$H$35 -> 0 | Q13: =Week14!$H$35 -> 0 | R13: =Week15!$H$35 -> 0 | S13: =Week16!$H$35 -> 0 | T13: =Week17!$H$35 -> 0 | U13: =Week18!$H$35 -> 0 | V13: =Week19!$H$35 -> 0 | W13: =Week20!$H$35 -> 0 | X13: =Week21!$H$35 -> 0 | Y13: =SUM(D13:X13) -> 46
A14: 7 | B14: =Week1!I$1 -> Dan G | C14: W | D14: =Week1!$I$34 -> 6 | E14: =Week2!$I$34 -> 8 | F14: =Week3!$I$34 -> 6 | G14: =Week4!$I$34 -> 9 | H14: =Week5!$I$34 -> 8 | I14: =Week6!$I$34 -> 4 | J14: =Week7!$I$34 -> 4 | K14: =Week8!$I$34 -> 0 | L14: =Week9!$I$34 -> 0 | M14: =Week10!$I$34 -> 0 | N14: =Week11!$I$34 -> 0 | O14: =Week12!$I$34 -> 0 | P14: =Week13!$I$34 -> 0 | Q14: =Week14!$I$34 -> 0 | R14: =Week15!$I$34 -> 0 | S14: =Week16!$I$34 -> 0 | T14: =Week17!$I$34 -> 0 | U14: =Week18!$I$34 -> 0 | V14: =Week19!$I$34 -> 0 | W14: =Week20!$I$34 -> 0 | X14: =Week21!$I$34 -> 0 | Y14: =SUM(D14:X14) -> 45 | Z14: =Y14/(Y14+Y15) -> 0.44554455
C15: L | D15: =Week1!$I$35 -> 10 | E15: =Week2!$I$35 -> 7 | F15: =Week3!$I$35 -> 9 | G15: =Week4!$I$35 -> 6 | H15: =Week5!$I$35 -> 6 | I15: =Week6!$I$35 -> 9 | J15: =Week7!$I$35 -> 9 | K15: =Week8!$I$35 -> 0 | L15: =Week9!$I$35 -> 0 | M15: =Week10!$I$35 -> 0 | N15: =Week11!$I$35 -> 0 | O15: =Week12!$I$35 -> 0 | P15: =Week13!$I$35 -> 0 | Q15: =Week14!$I$35 -> 0 | R15: =Week15!$I$35 -> 0 | S15: =Week16!$I$35 -> 0 | T15: =Week17!$I$35 -> 0 | U15: =Week18!$I$35 -> 0 | V15: =Week19!$I$35 -> 0 | W15: =Week20!$I$35 -> 0 | X15: =Week21!$I$35 -> 0 | Y15: =SUM(D15:X15) -> 56
A16: 8 | B16: =Week1!J$1 -> Caracas, M | C16: W | D16: =Week1!$J$34 -> 5 | E16: =Week2!$J$34 -> 7 | F16: =Week3!$J$34 -> 6 | G16: =Week4!$J$34 -> 6 | H16: =Week5!$J$34 -> 7 | I16: =Week6!$J$34 -> 5 | J16: =Week7!$J$34 -> 6 | K16: =Week8!$J$34 -> 0 | L16: =Week9!$J$34 -> 0 | M16: =Week10!$J$34 -> 0 | N16: =Week11!$J$34 -> 0 | O16: =Week12!$J$34 -> 0 | P16: =Week13!$J$34 -> 0 | Q16: =Week14!$J$34 -> 0 | R16: =Week15!$J$34 -> 0 | S16: =Week16!$J$34 -> 0 | T16: =Week17!$J$34 -> 0 | U16: =Week18!$J$34 -> 0 | V16: =Week19!$J$34 -> 0 | W16: =Week20!$J$34 -> 0 | X16: =Week21!$J$34 -> 0 | Y16: =SUM(D16:X16) -> 42 | Z16: =Y16/(Y16+Y17) -> 0.41584158
C17: L | D17: =Week1!$J$35 -> 11 | E17: =Week2!$J$35 -> 8 | F17: =Week3!$J$35 -> 9 | G17: =Week4!$J$35 -> 9 | H17: =Week5!$J$35 -> 7 | I17: =Week6!$J$35 -> 8 | J17: =Week7!$J$35 -> 7 | K17: =Week8!$J$35 -> 0 | L17: =Week9!$J$35 -> 0 | M17: =Week10!$J$35 -> 0 | N17: =Week11!$J$35 -> 0 | O17: =Week12!$J$35 -> 0 | P17: =Week13!$J$35 -> 0 | Q17: =Week14!$J$35 -> 0 | R17: =Week15!$J$35 -> 0 | S17: =Week16!$J$35 -> 0 | T17: =Week17!$J$35 -> 0 | U17: =Week18!$J$35 -> 0 | V17: =Week19!$J$35 -> 0 | W17: =Week20!$J$35 -> 0 | X17: =Week21!$J$35 -> 0 | Y17: =SUM(D17:X17) -> 59
A18: 9 | B18: =Week1!K$1 -> Knavel, Don | C18: W | D18: =Week1!$K$34 -> 8 | E18: =Week2!$K$34 -> 7 | F18: =Week3!$K$34 -> 6 | G18: =Week4!$K$34 -> 9 | H18: =Week5!$K$34 -> 7 | I18: =Week6!$K$34 -> 6 | J18: =Week7!$K$34 -> 9 | K18: =Week8!$K$34 -> 0 | L18: =Week9!$K$34 -> 0 | M18: =Week10!$K$34 -> 0 | N18: =Week11!$K$34 -> 0 | O18: =Week12!$K$34 -> 0 | P18: =Week13!$K$34 -> 0 | Q18: =Week14!$K$34 -> 0 | R18: =Week15!$K$34 -> 0 | S18: =Week16!$K$34 -> 0 | T18: =Week17!$K$34 -> 0 | U18: =Week18!$K$34 -> 0 | V18: =Week19!$K$34 -> 0 | W18: =Week20!$K$34 -> 0 | X18: =Week21!$K$34 -> 0 | Y18: =SUM(D18:X18) -> 52 | Z18: =Y18/(Y18+Y19) -> 0.51485149
C19: L | D19: =Week1!$K$35 -> 8 | E19: =Week2!$K$35 -> 8 | F19: =Week3!$K$35 -> 9 | G19: =Week4!$K$35 -> 6 | H19: =Week5!$K$35 -> 7 | I19: =Week6!$K$35 -> 7 | J19: =Week7!$K$35 -> 4 | K19: =Week8!$K$35 -> 0 | L19: =Week9!$K$35 -> 0 | M19: =Week10!$K$35 -> 0 | N19: =Week11!$K$35 -> 0 | O19: =Week12!$K$35 -> 0 | P19: =Week13!$K$35 -> 0 | Q19: =Week14!$K$35 -> 0 | R19: =Week15!$K$35 -> 0 | S19: =Week16!$K$35 -> 0 | T19: =Week17!$K$35 -> 0 | U19: =Week18!$K$35 -> 0 | V19: =Week19!$K$35 -> 0 | W19: =Week20!$K$35 -> 0 | X19: =Week21!$K$35 -> 0 | Y19: =SUM(D19:X19) -> 49
A20: 10 | B20: =Week1!L$1 -> Frost, I | C20: W | D20: =Week1!$L$34 -> 7 | E20: =Week2!$L$34 -> 7 | F20: =Week3!$L$34 -> 7 | G20: =Week4!$L$34 -> 8 | H20: =Week5!$L$34 -> 8 | I20: =Week6!$L$34 -> 6 | J20: =Week7!$L$34 -> 6 | K20: =Week8!$L$34 -> 0 | L20: =Week9!$L$34 -> 0 | M20: =Week10!$L$34 -> 0 | N20: =Week11!$L$34 -> 0 | O20: =Week12!$L$34 -> 0 | P20: =Week13!$L$34 -> 0 | Q20: =Week14!$L$34 -> 0 | R20: =Week15!$L$34 -> 0 | S20: =Week16!$L$34 -> 0 | T20: =Week17!$L$34 -> 0 | U20: =Week18!$L$34 -> 0 | V20: =Week19!$L$34 -> 0 | W20: =Week20!$L$34 -> 0 | X20: =Week21!$L$34 -> 0 | Y20: =SUM(D20:X20) -> 49 | Z20: =Y20/(Y20+Y21) -> 0.48514851
C21: L | D21: =Week1!$L$35 -> 9 | E21: =Week2!$L$35 -> 8 | F21: =Week3!$L$35 -> 8 | G21: =Week4!$L$35 -> 7 | H21: =Week5!$L$35 -> 6 | I21: =Week6!$L$35 -> 7 | J21: =Week7!$L$35 -> 7 | K21: =Week8!$L$35 -> 0 | L21: =Week9!$L$35 -> 0 | M21: =Week10!$L$35 -> 0 | N21: =Week11!$L$35 -> 0 | O21: =Week12!$L$35 -> 0 | P21: =Week13!$L$35 -> 0 | Q21: =Week14!$L$35 -> 0 | R21: =Week15!$L$35 -> 0 | S21: =Week16!$L$35 -> 0 | T21: =Week17!$L$35 -> 0 | U21: =Week18!$L$35 -> 0 | V21: =Week19!$L$35 -> 0 | W21: =Week20!$L$35 -> 0 | X21: =Week21!$L$35 -> 0 | Y21: =SUM(D21:X21) -> 52
A22: 11 | B22: =Week1!M$1 -> Heather M. | C22: W | D22: =Week1!$M$34 -> 8 | E22: =Week2!$M$34 -> 8 | F22: =Week3!$M$34 -> 7 | G22: =Week4!$M$34 -> 9 | H22: =Week5!$M$34 -> 10 | I22: =Week6!$M$34 -> 6 | J22: =Week7!$M$34 -> 6 | K22: =Week8!$M$34 -> 0 | L22: =Week9!$M$34 -> 0 | M22: =Week10!$M$34 -> 0 | N22: =Week11!$M$34 -> 0 | O22: =Week12!$M$34 -> 0 | P22: =Week13!$M$34 -> 0 | Q22: =Week14!$M$34 -> 0 | R22: =Week15!$M$34 -> 0 | S22: =Week16!$M$34 -> 0 | T22: =Week17!$M$34 -> 0 | U22: =Week18!$M$34 -> 0 | V22: =Week19!$M$34 -> 0 | W22: =Week20!$M$34 -> 0 | X22: =Week21!$M$34 -> 0 | Y22: =SUM(D22:X22) -> 54 | Z22: =Y22/(Y22+Y23) -> 0.53465347
C23: L | D23: =Week1!$M$35 -> 8 | E23: =Week2!$M$35 -> 7 | F23: =Week3!$M$35 -> 8 | G23: =Week4!$M$35 -> 6 | H23: =Week5!$M$35 -> 4 | I23: =Week6!$M$35 -> 7 | J23: =Week7!$M$35 -> 7 | K23: =Week8!$M$35 -> 0 | L23: =Week9!$M$35 -> 0 | M23: =Week10!$M$35 -> 0 | N23: =Week11!$M$35 -> 0 | O23: =Week12!$M$35 -> 0 | P23: =Week13!$M$35 -> 0 | Q23: =Week14!$M$35 -> 0 | R23: =Week15!$M$35 -> 0 | S23: =Week16!$M$35 -> 0 | T23: =Week17!$M$35 -> 0 | U23: =Week18!$M$35 -> 0 | V23: =Week19!$M$35 -> 0 | W23: =Week20!$M$35 -> 0 | X23: =Week21!$M$35 -> 0 | Y23: =SUM(D23:X23) -> 47
A24: 12 | B24: =Week1!N$1 -> Morissey, B | C24: W | D24: =Week1!$N$34 -> 5 | E24: =Week2!$N$34 -> 8 | F24: =Week3!$N$34 -> 7 | G24: =Week4!$N$34 -> 10 | H24: =Week5!$N$34 -> 8 | I24: =Week6!$N$34 -> 4 | J24: =Week7!$N$34 -> 6 | K24: =Week8!$N$34 -> 0 | L24: =Week9!$N$34 -> 0 | M24: =Week10!$N$34 -> 0 | N24: =Week11!$N$34 -> 0 | O24: =Week12!$N$34 -> 0 | P24: =Week13!$N$34 -> 0 | Q24: =Week14!$N$34 -> 0 | R24: =Week15!$N$34 -> 0 | S24: =Week16!$N$34 -> 0 | T24: =Week17!$N$34 -> 0 | U24: =Week18!$N$34 -> 0 | V24: =Week19!$N$34 -> 0 | W24: =Week20!$N$34 -> 0 | X24: =Week21!$N$34 -> 0 | Y24: =SUM(D24:X24) -> 48 | Z24: =Y24/(Y24+Y25) -> 0.47524752
C25: L | D25: =Week1!$N$35 -> 11 | E25: =Week2!$N$35 -> 7 | F25: =Week3!$N$35 -> 8 | G25: =Week4!$N$35 -> 5 | H25: =Week5!$N$35 -> 6 | I25: =Week6!$N$35 -> 9 | J25: =Week7!$N$35 -> 7 | K25: =Week8!$N$35 -> 0 | L25: =Week9!$N$35 -> 0 | M25: =Week10!$N$35 -> 0 | N25: =Week11!$N$35 -> 0 | O25: =Week12!$N$35 -> 0 | P25: =Week13!$N$35 -> 0 | Q25: =Week14!$N$35 -> 0 | R25: =Week15!$N$35 -> 0 | S25: =Week16!$N$35 -> 0 | T25: =Week17!$N$35 -> 0 | U25: =Week18!$N$35 -> 0 | V25: =Week19!$N$35 -> 0 | W25: =Week20!$N$35 -> 0 | X25: =Week21!$N$35 -> 0 | Y25: =SUM(D25:X25) -> 53
A26: 13 | B26: =Week1!O$1 -> Kopie, G | C26: W | D26: =Week1!$O$34 -> 9 | E26: =Week2!$O$34 -> 4 | F26: =Week3!$O$34 -> 7 | G26: =Week4!$O$34 -> 6 | H26: =Week5!$O$34 -> 10 | I26: =Week6!$O$34 -> 4 | J26: =Week7!$O$34 -> 8 | K26: =Week8!$O$34 -> 0 | L26: =Week9!$O$34 -> 0 | M26: =Week10!$O$34 -> 0 | N26: =Week11!$O$34 -> 0 | O26: =Week12!$O$34 -> 0 | P26: =Week13!$O$34 -> 0 | Q26: =Week14!$O$34 -> 0 | R26: =Week15!$O$34 -> 0 | S26: =Week16!$O$34 -> 0 | T26: =Week17!$O$34 -> 0 | U26: =Week18!$O$34 -> 0 | V26: =Week19!$O$34 -> 0 | W26: =Week20!$O$34 -> 0 | X26: =Week21!$O$34 -> 0 | Y26: =SUM(D26:X26) -> 48 | Z26: =Y26/(Y26+Y27) -> 0.47524752
C27: L | D27: =Week1!$O$35 -> 7 | E27: =Week2!$O$35 -> 11 | F27: =Week3!$O$35 -> 8 | G27: =Week4!$O$35 -> 9 | H27: =Week5!$O$35 -> 4 | I27: =Week6!$O$35 -> 9 | J27: =Week7!$O$35 -> 5 | K27: =Week8!$O$35 -> 0 | L27: =Week9!$O$35 -> 0 | M27: =Week10!$O$35 -> 0 | N27: =Week11!$O$35 -> 0 | O27: =Week12!$O$35 -> 0 | P27: =Week13!$O$35 -> 0 | Q27: =Week14!$O$35 -> 0 | R27: =Week15!$O$35 -> 0 | S27: =Week16!$O$35 -> 0 | T27: =Week17!$O$35 -> 0 | U27: =Week18!$O$35 -> 0 | V27: =Week19!$O$35 -> 0 | W27: =Week20!$O$35 -> 0 | X27: =Week21!$O$35 -> 0 | Y27: =SUM(D27:X27) -> 53
A28: 14 | B28: =Week1!P$1 -> Jen S | C28: W | D28: =Week1!$P$34 -> 10 | E28: =Week2!$P$34 -> 5 | F28: =Week3!$P$34 -> 10 | G28: =Week4!$P$34 -> 5 | H28: =Week5!$P$34 -> 7 | I28: =Week6!$P$34 -> 4 | J28: =Week7!$P$34 -> 5 | K28: =Week8!$P$34 -> 0 | L28: =Week9!$P$34 -> 0 | M28: =Week10!$P$34 -> 0 | N28: =Week11!$P$34 -> 0 | O28: =Week12!$P$34 -> 0 | P28: =Week13!$P$34 -> 0 | Q28: =Week14!$P$34 -> 0 | R28: =Week15!$P$34 -> 0 | S28: =Week16!$P$34 -> 0 | T28: =Week17!$P$34 -> 0 | U28: =Week18!$P$34 -> 0 | V28: =Week19!$P$34 -> 0 | W28: =Week20!$P$34 -> 0 | X28: =Week21!$P$34 -> 0 | Y28: =SUM(D28:X28) -> 46 | Z28: =Y28/(Y28+Y29) -> 0.45544554
C29: L | D29: =Week1!$P$35 -> 6 | E29: =Week2!$P$35 -> 10 | F29: =Week3!$P$35 -> 5 | G29: =Week4!$P$35 -> 10 | H29: =Week5!$P$35 -> 7 | I29: =Week6!$P$35 -> 9 | J29: =Week7!$P$35 -> 8 | K29: =Week8!$P$35 -> 0 | L29: =Week9!$P$35 -> 0 | M29: =Week10!$P$35 -> 0 | N29: =Week11!$P$35 -> 0 | O29: =Week12!$P$35 -> 0 | P29: =Week13!$P$35 -> 0 | Q29: =Week14!$P$35 -> 0 | R29: =Week15!$P$35 -> 0 | S29: =Week16!$P$35 -> 0 | T29: =Week17!$P$35 -> 0 | U29: =Week18!$P$35 -> 0 | V29: =Week19!$P$35 -> 0 | W29: =Week20!$P$35 -> 0 | X29: =Week21!$P$35 -> 0 | Y29: =SUM(D29:X29) -> 55
A30: 15 | B30: =Week1!Q$1 -> Megan M. | C30: W | D30: =Week1!$Q$34 -> 6 | E30: =Week2!$Q$34 -> 6 | F30: =Week3!$Q$34 -> 6 | G30: =Week4!$Q$34 -> 8 | H30: =Week5!$Q$34 -> 7 | I30: =Week6!$Q$34 -> 5 | J30: =Week7!$Q$34 -> 4 | K30: =Week8!$Q$34 -> 0 | L30: =Week9!$Q$34 -> 0 | M30: =Week10!$Q$34 -> 0 | N30: =Week11!$Q$34 -> 0 | O30: =Week12!$Q$34 -> 0 | P30: =Week13!$Q$34 -> 0 | Q30: =Week14!$Q$34 -> 0 | R30: =Week15!$Q$34 -> 0 | S30: =Week16!$Q$34 -> 0 | T30: =Week17!$Q$34 -> 0 | U30: =Week18!$Q$34 -> 0 | V30: =Week19!$Q$34 -> 0 | W30: =Week20!$Q$34 -> 0 | X30: =Week21!$Q$34 -> 0 | Y30: =SUM(D30:X30) -> 42 | Z30: =Y30/(Y30+Y31) -> 0.41584158
C31: L | D31: =Week1!$Q$35 -> 10 | E31: =Week2!$Q$35 -> 9 | F31: =Week3!$Q$35 -> 9 | G31: =Week4!$Q$35 -> 7 | H31: =Week5!$Q$35 -> 7 | I31: =Week6!$Q$35 -> 8 | J31: =Week7!$Q$35 -> 9 | K31: =Week8!$Q$35 -> 0 | L31: =Week9!$Q$35 -> 0 | M31: =Week10!$Q$35 -> 0 | N31: =Week11!$Q$35 -> 0 | O31: =Week12!$Q$35 -> 0 | P31: =Week13!$Q$35 -> 0 | Q31: =Week14!$Q$35 -> 0 | R31: =Week15!$Q$35 -> 0 | S31: =Week16!$Q$35 -> 0 | T31: =Week17!$Q$35 -> 0 | U31: =Week18!$Q$35 -> 0 | V31: =Week19!$Q$35 -> 0 | W31: =Week20!$Q$35 -> 0 | X31: =Week21!$Q$35 -> 0 | Y31: =SUM(D31:X31) -> 59
A32: 16 | B32: =Week1!R$1 -> Sackey, R | C32: W | D32: =Week1!$R$34 -> 7 | E32: =Week2!$R$34 -> 2 | F32: =Week3!$R$34 -> 8 | G32: =Week4!$R$34 -> 7 | H32: =Week5!$R$34 -> 7 | I32: =Week6!$R$34 -> 5 | J32: =Week7!$R$34 -> 4 | K32: =Week8!$R$34 -> 0 | L32: =Week9!$R$34 -> 0 | M32: =Week10!$R$34 -> 0 | N32: =Week11!$R$34 -> 0 | O32: =Week12!$R$34 -> 0 | P32: =Week13!$R$34 -> 0 | Q32: =Week14!$R$34 -> 0 | R32: =Week15!$R$34 -> 0 | S32: =Week16!$R$34 -> 0 | T32: =Week17!$R$34 -> 0 | U32: =Week18!$R$34 -> 0 | V32: =Week19!$R$34 -> 0 | W32: =Week20!$R$34 -> 0 | X32: =Week21!$R$34 -> 0 | Y32: =SUM(D32:X32) -> 40 | Z32: =Y32/(Y32+Y33) -> 0.3960396
C33: L | D33: =Week1!$R$35 -> 9 | E33: =Week2!$R$35 -> 13 | F33: =Week3!$R$35 -> 7 | G33: =Week4!$R$35 -> 8 | H33: =Week5!$R$35 -> 7 | I33: =Week6!$R$35 -> 8 | J33: =Week7!$R$35 -> 9 | K33: =Week8!$R$35 -> 0 | L33: =Week9!$R$35 -> 0 | M33: =Week10!$R$35 -> 0 | N33: =Week11!$R$35 -> 0 | O33: =Week12!$R$35 -> 0 | P33: =Week13!$R$35 -> 0 | Q33: =Week14!$R$35 -> 0 | R33: =Week15!$R$35 -> 0 | S33: =Week16!$R$35 -> 0 | T33: =Week17!$R$35 -> 0 | U33: =Week18!$R$35 -> 0 | V33: =Week19!$R$35 -> 0 | W33: =Week20!$R$35 -> 0 | X33: =Week21!$R$35 -> 0 | Y33: =SUM(D33:X33) -> 61
A34: 17 | B34: =Week1!S$1 -> Greenwell, C | C34: W | D34: =Week2!$S$34 -> 6 | E34: =Week2!$S$34 -> 6 | F34: =Week3!$S$34 -> 6 | G34: =Week4!$S$34 -> 7 | H34: =Week5!$S$34 -> 7 | I34: =Week6!$S$34 -> 5 | J34: =Week7!$S$34 -> 5 | K34: =Week8!$S$34 -> 0 | L34: =Week9!$S$34 -> 0 | M34: =Week10!$S$34 -> 0 | N34: =Week11!$S$34 -> 0 | O34: =Week12!$S$34 -> 0 | P34: =Week13!$S$34 -> 0 | Q34: =Week14!$S$34 -> 0 | R34: =Week15!$S$34 -> 0 | S34: =Week16!$S$34 -> 0 | T34: =Week17!$S$34 -> 0 | U34: =Week18!$S$34 -> 0 | V34: =Week19!$S$34 -> 0 | W34: =Week20!$S$34 -> 0 | X34: =Week21!$S$34 -> 0 | Y34: =SUM(D34:X34) -> 42 | Z34: =Y34/(Y34+Y35) -> 0.42
C35: L | D35: =Week2!$S$35 -> 9 | E35: =Week2!$S$35 -> 9 | F35: =Week3!$S$35 -> 9 | G35: =Week4!$S$35 -> 8 | H35: =Week5!$S$35 -> 7 | I35: =Week6!$S$35 -> 8 | J35: =Week7!$S$35 -> 8 | K35: =Week8!$S$35 -> 0 | L35: =Week9!$S$35 -> 0 | M35: =Week10!$S$35 -> 0 | N35: =Week11!$S$35 -> 0 | O35: =Week12!$S$35 -> 0 | P35: =Week13!$S$35 -> 0 | Q35: =Week14!$S$35 -> 0 | R35: =Week15!$S$35 -> 0 | S35: =Week16!$S$35 -> 0 | T35: =Week17!$S$35 -> 0 | U35: =Week18!$S$35 -> 0 | V35: =Week19!$S$35 -> 0 | W35: =Week20!$S$35 -> 0 | X35: =Week21!$S$35 -> 0 | Y35: =SUM(D35:X35) -> 58
A36: 18 | B36: =Week1!T$1 -> Karolyn B. | C36: W | D36: =Week1!$T$34 -> 7 | E36: =Week2!$T$34 -> 4 | F36: =Week3!$T$34 -> 9 | G36: =Week4!$T$34 -> 5 | H36: =Week5!$T$34 -> 7 | I36: =Week6!$T$34 -> 5 | J36: =Week7!$T$34 -> 6 | K36: =Week8!$T$34 -> 0 | L36: =Week9!$T$34 -> 0 | M36: =Week10!$T$34 -> 0 | N36: =Week11!$T$34 -> 0 | O36: =Week12!$T$34 -> 0 | P36: =Week13!$T$34 -> 0 | Q36: =Week14!$T$34 -> 0 | R36: =Week15!$T$34 -> 0 | S36: =Week16!$T$34 -> 0 | T36: =Week17!$T$34 -> 0 | U36: =Week18!$T$34 -> 0 | V36: =Week19!$T$34 -> 0 | W36: =Week20!$T$34 -> 0 | X36: =Week21!$T$34 -> 0 | Y36: =SUM(D36:X36) -> 43 | Z36: =Y36/(Y36+Y37) -> 0.42574257
C37: L | D37: =Week1!$T$35 -> 9 | E37: =Week2!$T$35 -> 11 | F37: =Week3!$T$35 -> 6 | G37: =Week4!$T$35 -> 10 | H37: =Week5!$T$35 -> 7 | I37: =Week6!$T$35 -> 8 | J37: =Week7!$T$35 -> 7 | K37: =Week8!$T$35 -> 0 | L37: =Week9!$T$35 -> 0 | M37: =Week10!$T$35 -> 0 | N37: =Week11!$T$35 -> 0 | O37: =Week12!$T$35 -> 0 | P37: =Week13!$T$35 -> 0 | Q37: =Week14!$T$35 -> 0 | R37: =Week15!$T$35 -> 0 | S37: =Week16!$T$35 -> 0 | T37: =Week17!$T$35 -> 0 | U37: =Week18!$T$35 -> 0 | V37: =Week19!$T$35 -> 0 | W37: =Week20!$T$35 -> 0 | X37: =Week21!$T$35 -> 0 | Y37: =SUM(D37:X37) -> 58
A38: 19 | B38: =Week1!U$1 -> McKenna, M | C38: W | D38: =Week1!$U$34 -> 8 | E38: =Week2!$U$34 -> 7 | F38: =Week3!$U$34 -> 6 | G38: =Week4!$U$34 -> 5 | H38: =Week5!$U$34 -> 10 | I38: =Week6!$U$34 -> 7 | J38: =Week7!$U$34 -> 7 | K38: =Week8!$U$34 -> 0 | L38: =Week9!$U$34 -> 0 | M38: =Week10!$U$34 -> 0 | N38: =Week11!$U$34 -> 0 | O38: =Week12!$U$34 -> 0 | P38: =Week13!$U$34 -> 0 | Q38: =Week14!$U$34 -> 0 | R38: =Week15!$U$34 -> 0 | S38: =Week16!$U$34 -> 0 | T38: =Week17!$U$34 -> 0 | U38: =Week18!$U$34 -> 0 | V38: =Week19!$U$34 -> 0 | W38: =Week20!$U$34 -> 0 | X38: =Week21!$U$34 -> 0 | Y38: =SUM(D38:X38) -> 50 | Z38: =Y38/(Y38+Y39) -> 0.4950495
C39: L | D39: =Week1!$U$35 -> 8 | E39: =Week2!$U$35 -> 8 | F39: =Week3!$U$35 -> 9 | G39: =Week4!$U$35 -> 10 | H39: =Week5!$U$35 -> 4 | I39: =Week6!$U$35 -> 6 | J39: =Week7!$U$35 -> 6 | K39: =Week8!$U$35 -> 0 | L39: =Week9!$U$35 -> 0 | M39: =Week10!$U$35 -> 0 | N39: =Week11!$U$35 -> 0 | O39: =Week12!$U$35 -> 0 | P39: =Week13!$U$35 -> 0 | Q39: =Week14!$U$35 -> 0 | R39: =Week15!$U$35 -> 0 | S39: =Week16!$U$35 -> 0 | T39: =Week17!$U$35 -> 0 | U39: =Week18!$U$35 -> 0 | V39: =Week19!$U$35 -> 0 | W39: =Week20!$U$35 -> 0 | X39: =Week21!$U$35 -> 0 | Y39: =SUM(D39:X39) -> 51
A40: 20 | B40: =Week1!V$1 -> McKenna, P | C40: W | D40: =Week1!$V$34 -> 11 | E40: =Week2!$V$34 -> 6 | F40: =Week3!$V$34 -> 9 | G40: =Week4!$V$34 -> 7 | H40: =Week5!$V$34 -> 6 | I40: =Week6!$V$34 -> 10 | J40: =Week7!$V$34 -> 7 | K40: =Week8!$V$34 -> 0 | L40: =Week9!$V$34 -> 0 | M40: =Week10!$V$34 -> 0 | N40: =Week11!$V$34 -> 0 | O40: =Week12!$V$34 -> 0 | P40: =Week13!$V$34 -> 0 | Q40: =Week14!$V$34 -> 0 | R40: =Week15!$V$34 -> 0 | S40: =Week16!$V$34 -> 0 | T40: =Week17!$V$34 -> 0 | U40: =Week18!$V$34 -> 0 | V40: =Week19!$V$34 -> 0 | W40: =Week20!$V$34 -> 0 | X40: =Week21!$V$34 -> 0 | Y40: =SUM(D40:X40) -> 56 | Z40: =Y40/(Y40+Y41) -> 0.55445545
...

Sheet Week22
B1: Week 22 | C1: =Week1!C1 -> Jun | D1: =Week1!D1 -> Diana C | E1: =Week1!E1 -> Tinny | F1: =Week1!F1 -> Smith, M | G1: =Week1!G1 -> John McG | H1: =Week1!H1 -> Hamilton, J | I1: =Week1!I1 -> Dan G | J1: =Week1!J1 -> Caracas, M | ... FG1: =Week1!FG1 -> Blank
B4: Total Points: (NFC xx + AFC xx) Tie Breaker 1
B5: Total Rushing Yards: (NFC xxx + AFC xxx) Tie Breaker 2
A6: ABC | B6: 2/X/27 6:30 XXXXX Stadium
B7: Address
B8: City, State Zip
B9: Super Bowl 60(LXI)
B34: W | C34: =COUNTIF(C2:C33,"W") -> 0 | D34: =COUNTIF(D2:D33,"W") -> 0 | E34: =COUNTIF(E2:E33,"W") -> 0 | F34: =COUNTIF(F2:F33,"W") -> 0 | G34: =COUNTIF(G2:G33,"W") -> 0 | H34: =COUNTIF(H2:H33,"W") -> 0 | I34: =COUNTIF(I2:I33,"W") -> 0 | J34: =COUNTIF(J2:J33,"W") -> 0 | ... FG34: =COUNTIF(FG2:FG33,"W") -> 0
B35: L | C35: =COUNTIF(C2:C33,"L") -> 0 | D35: =COUNTIF(D2:D33,"L") -> 0 | E35: =COUNTIF(E2:E33,"L") -> 0 | F35: =COUNTIF(F2:F33,"L") -> 0 | G35: =COUNTIF(G2:G33,"L") -> 0 | H35: =COUNTIF(H2:H33,"L") -> 0 | I35: =COUNTIF(I2:I33,"L") -> 0 | J35: =COUNTIF(J2:J33,"L") -> 0 | ... FG35: =COUNTIF(FG2:FG33,"L") -> 0
B36: Percent | C36: =SUM(C34/(C34+C35)) -> #DIV/0! | D36: =SUM(D34/(D34+D35)) -> #DIV/0! | E36: =SUM(E34/(E34+E35)) -> #DIV/0! | F36: =SUM(F34/(F34+F35)) -> #DIV/0! | G36: =SUM(G34/(G34+G35)) -> #DIV/0! | H36: =SUM(H34/(H34+H35)) -> #DIV/0! | I36: =SUM(I34/(I34+I35)) -> #DIV/0! | J36: =SUM(J34/(J34+J35)) -> #DIV/0! | ... FG36: =SUM(FG34/(FG34+FG35)) -> #DIV/0!
E37: 2nd | M37: 5th | AF37: 3rd | AN37: 1st | CN37: 4th
B38: Overall | C38: 1 | D38: 2 | E38: 3 | F38: 4 | G38: 5 | H38: 6 | I38: 7 | J38: 8 | K38: 9 | L38: 10 | M38: 11 | N38: 12 | O38: 13 | P38: 14 | Q38: 15 | R38: 16 | S38: 17 | T38: 18 | U38: 19 | V38: 20 | W38: 21 | X38: 22 | Y38: 23 | Z38: 24 | AA38: 25 | AB38: 26 | AC38: 27 | AD38: 28 | AE38: 29 | AF38: 30 | AG38: 31 | AH38: 32 | AI38: 33 | AJ38: 34 | AK38: 35 | AL38: 36 | AM38: 37 | AN38: 38 | AO38: 39 | AP38: 40 | AQ38: 41 | AR38: 42 | AS38: 43 | AT38: 44 | AU38: 45 | AV38: 46 | AW38: 47 | AX38: 48 | AY38: 49 | AZ38: 50 | BA38: 51 | BB38: 52 | BC38: 53 | BD38: 54 | BE38: 55 | BF38: 56 | BG38: 57 | BH38: 58 | BI38: 59 | BJ38: 60 | BK38: 61 | BL38: 62 | BM38: 63 | BN38: 64 | BO38: 65 | BP38: 66 | BQ38: 67 | BR38: 68 | BS38: 69 | BT38: 70 | BU38: 71 | BV38: 72 | BW38: 73 | BX38: 74 | BY38: 75 | BZ38: 76 | CA38: 77 | CB38: 78 | CC38: 79 | CD38: 80 | CE38: 81 | CF38: 82 | CG38: 83 | CH38: 84 | CI38: 85 | CJ38: 86 | CK38: 87 | CL38: 88 | CM38: 89 | CN38: 90 | CO38: 91 | CP38: 92 | CQ38: 93 | CR38: 94 | CS38: 95 | CT38: 96 | CU38: 97 | CV38: 98 | CW38: 99 | CX38: 100 | CY38: 101 | CZ38: 102 | DA38: 103 | DB38: 104 | DC38: 105 | DD38: 106 | DE38: 107 | DF38: 108 | DG38: 109 | DH38: 110 | DI38: 111 | DJ38: 112 | DK38: 113 | DL38: 114 | DM38: 115 | DN38: 116 | DO38: 117 | DP38: 118 | DQ38: 119 | DR38: 120 | DS38: 121 | DT38: 122 | DU38: 123 | DV38: 124 | DW38: 125 | DX38: 126 | DY38: 127 | DZ38: 128 | EA38: 129 | EB38: 130 | EC38: 131 | ED38: 132 | EE38: 133 | EF38: 134 | EG38: 135 | EH38: 136 | EI38: 137 | EJ38: 138 | EK38: 139 | EL38: 140 | EM38: 141 | EN38: 142 | EO38: 143 | EP38: 144 | EQ38: 145 | ER38: 146 | ES38: 147 | ET38: 148 | EU38: 149 | EV38: 150 | EW38: 151 | EX38: 152 | EY38: 153 | EZ38: 154 | FA38: 155 | FB38: 156 | FC38: 157 | FD38: 158 | FE38: 159 | FF38: 160 | FG38: 161
B39: W | C39: =Week21!C39+Week22!C34 -> 42 | D39: =Week21!D39+Week22!D34 -> 48 | E39: =Week21!E39+Week22!E34 -> 48 | F39: =Week21!F39+Week22!F34 -> 51 | G39: =Week21!G39+Week22!G34 -> 46 | H39: =Week21!H39+Week22!H34 -> 55 | I39: =Week21!I39+Week22!I34 -> 45 | J39: =Week21!J39+Week22!J34 -> 42 | ... FG39: =Week21!FG39+Week22!FG34 -> 0
B40: L | C40: =Week21!C40+Week22!C35 -> 59 | D40: =Week21!D40+Week22!D35 -> 53 | E40: =Week21!E40+Week22!E35 -> 53 | F40: =Week21!F40+Week22!F35 -> 50 | G40: =Week21!G40+Week22!G35 -> 55 | H40: =Week21!H40+Week22!H35 -> 46 | I40: =Week21!I40+Week22!I35 -> 56 | J40: =Week21!J40+Week22!J35 -> 59 | ... FG40: =Week21!FG40+Week22!FG35 -> 0
B41: Percent | C41: =C39/(C39+C40) -> 0.41584158 | D41: =D39/(D39+D40) -> 0.47524752 | E41: =E39/(E39+E40) -> 0.47524752 | F41: =F39/(F39+F40) -> 0.5049505 | G41: =G39/(G39+G40) -> 0.45544554 | H41: =H39/(H39+H40) -> 0.54455446 | I41: =I39/(I39+I40) -> 0.44554455 | J41: =J39/(J39+J40) -> 0.41584158 | ... FG41: =FG39/(FG39+FG40) -> #DIV/0!
C42: =C1 -> Jun | D42: =D1 -> Diana C | E42: =E1 -> Tinny | F42: =F1 -> Smith, M | G42: =G1 -> John McG | H42: =H1 -> Hamilton, J | I42: =I1 -> Dan G | J42: =J1 -> Caracas, M | ... FG42: =FG1 -> Blank
A43: =A2 -> 0 | B43: =B2 -> 0 | C43: x | D43: x | F43: x | G43: x | H43: x | I43: x | J43: x | L43: x | M43: x | O43: x | P43: x | Q43: x | R43: x | S43: x | T43: x | U43: x | V43: x | W43: x | X43: x | Y43: x | Z43: x | AA43: x | AB43: x | AC43: x | AD43: x | AE43: x | AG43: x | AH43: x | AI43: x | AJ43: x | AL43: x | AM43: x | AN43: x | AO43: x | AP43: x | AR43: x | AS43: x | AT43: x | AU43: x | AV43: x | AW43: x | AX43: x | AY43: x | AZ43: x | BA43: x | BB43: x | BD43: x | BE43: x | BF43: x | BG43: x | BH43: x | BI43: x | BJ43: x | BK43: x | BL43: x | BM43: x | BN43: x | BO43: x | BP43: x | BQ43: x | BR43: x | BS43: x | BT43: x | BU43: x | BV43: x | BW43: x | BX43: x | BY43: x | BZ43: x | CA43: x | CB43: x | CC43: x | CD43: x | CE43: x | CG43: x | CH43: x | CI43: x | CJ43: x | CK43: x | CL43: x | CM43: x | CN43: x | CO43: x | CP43: x | CQ43: x | CR43: x | CT43: x | CU43: x | CV43: x | CW43: x | CX43: x | CY43: x | CZ43: x | DA43: x | DB43: x | DC43: x | DD43: x | DE43: x | DF43: x | DG43: x | DH43: x | DI43: x | DJ43: x | DK43: x | DL43: x | DM43: x | DN43: x | DO43: x | DP43: x | DR43: x | DS43: x | DT43: x | DU43: x | DV43: x | DW43: x
A44: =A3 -> 0 | B44: =B3 -> 0 | E44: x | K44: x | N44: x | AF44: x | AK44: x | AQ44: x | BC44: x | CF44: x | CS44: x | DQ44: x
A45: =A4 -> 0 | B45: Total Rushing Yards
C47: =C39+C40 -> 101 | D47: =D39+D40 -> 101 | E47: =E39+E40 -> 101 | F47: =F39+F40 -> 101 | G47: =G39+G40 -> 101 | H47: =H39+H40 -> 101 | I47: =I39+I40 -> 101 | J47: =J39+J40 -> 101 | ... EC47: =EC39+EC40 -> 0

Sheet Week21
B1: Week 21 | C1: =Week1!C1 -> Jun | D1: =Week1!D1 -> Diana C | E1: =Week1!E1 -> Tinny | F1: =Week1!F1 -> Smith, M | G1: =Week1!G1 -> John McG | H1: =Week1!H1 -> Hamilton, J | I1: =Week1!I1 -> Dan G | J1: =Week1!J1 -> Caracas, M | ... FG1: =Week1!FG1 -> Blank
B34: W | C34: =COUNTIF(C2:C33,"W") -> 0 | D34: =COUNTIF(D2:D33,"W") -> 0 | E34: =COUNTIF(E2:E33,"W") -> 0 | F34: =COUNTIF(F2:F33,"W") -> 0 | G34: =COUNTIF(G2:G33,"W") -> 0 | H34: =COUNTIF(H2:H33,"W") -> 0 | I34: =COUNTIF(I2:I33,"W") -> 0 | J34: =COUNTIF(J2:J33,"W") -> 0 | ... FG34: =COUNTIF(FG2:FG33,"W") -> 0
B35: L | C35: =COUNTIF(C2:C33,"L") -> 0 | D35: =COUNTIF(D2:D33,"L") -> 0 | E35: =COUNTIF(E2:E33,"L") -> 0 | F35: =COUNTIF(F2:F33,"L") -> 0 | G35: =COUNTIF(G2:G33,"L") -> 0 | H35: =COUNTIF(H2:H33,"L") -> 0 | I35: =COUNTIF(I2:I33,"L") -> 0 | J35: =COUNTIF(J2:J33,"L") -> 0 | ... FG35: =COUNTIF(FG2:FG33,"L") -> 0
B36: Percent | C36: =SUM(C34/(C34+C35)) -> #DIV/0! | D36: =SUM(D34/(D34+D35)) -> #DIV/0! | E36: =SUM(E34/(E34+E35)) -> #DIV/0! | F36: =SUM(F34/(F34+F35)) -> #DIV/0! | G36: =SUM(G34/(G34+G35)) -> #DIV/0! | H36: =SUM(H34/(H34+H35)) -> #DIV/0! | I36: =SUM(I34/(I34+I35)) -> #DIV/0! | J36: =SUM(J34/(J34+J35)) -> #DIV/0! | ... FG36: =SUM(FG34/(FG34+FG35)) -> #DIV/0!
